From mboxrd@z Thu Jan 1 00:00:00 1970 Return-Path: Received: from mails.dpdk.org (mails.dpdk.org [217.70.189.124]) by inbox.dpdk.org (Postfix) with ESMTP id 7091F48A4E for ; Thu, 6 Nov 2025 00:26:26 +0100 (CET) Received: from mails.dpdk.org (localhost [127.0.0.1]) by mails.dpdk.org (Postfix) with ESMTP id 521C44013F; Thu, 6 Nov 2025 00:26:26 +0100 (CET) Received: from mail-qk1-f225.google.com (mail-qk1-f225.google.com [209.85.222.225]) by mails.dpdk.org (Postfix) with ESMTP id 152C84013F for ; Thu, 6 Nov 2025 00:26:25 +0100 (CET) Received: by mail-qk1-f225.google.com with SMTP id af79cd13be357-8b13120ed52so135146085a.1 for ; Wed, 05 Nov 2025 15:26:25 -0800 (PST) DKIM-Signature: v=1; a=rsa-sha256; c=relaxed/relaxed; d=iol.unh.edu; s=unh-iol; t=1762385184; x=1762989984; darn=dpdk.org; h=references:in-reply-to:cc:to:from:subject:message-id:date:from:to :cc:subject:date:message-id:reply-to; bh=h+We9tLo8iWZVwbY02JpeLjmPNdI1d5zk7/A2iO9pyk=; b=gJloPVN6zV3+37gzHPVV32cJurl8rXxSersow9roR7RJZ/F0MsK+UafRC//uZ0Ns5T 0PHBXSnpgkhStF65RnAhnBtYa37xhKTAvC9nGxCUXqVMjtAcPvwFrURLjyU2ip9X9ZKt +PHQxl4xgDq8JvjP3Zs68cDZ4cY+XczDHwaDM= X-Google-DKIM-Signature: v=1; a=rsa-sha256; c=relaxed/relaxed; d=1e100.net; s=20230601; t=1762385184; x=1762989984; h=references:in-reply-to:cc:to:from:subject:message-id:date :x-gm-message-state:from:to:cc:subject:date:message-id:reply-to; bh=h+We9tLo8iWZVwbY02JpeLjmPNdI1d5zk7/A2iO9pyk=; b=FtZetghj65+wO714qnPc2zEQSxh1oxJK5K9AXfZNFjMX70WlX224anT6SzHBwoNv6o gI9HK6HOuQfxlWkjCIP09htWUId52PG58m5WlUw1W3PtmaS5ZhP/Op1X2L9H3xgNewxu K1N/6qKhdrGbYCf9YHk79Od+h8eis49HJofd9BsfVHngsvftbIqJTzyCi7p+6sq/3A5X gaPZn/rtHHVsOf0dc5cQ4znGI+MzkjBadc7HxEH876JqqZXJ02oUjVTsW35l5AjWOLJx Hz8vBI6vYICGcXYAsBPSWsEKma5fVV/viCndSaylGJk8lv6g77/p3cGQ1WXL8QoKIQm9 ccog== X-Gm-Message-State: AOJu0Yyzg29GY6QHKTdsJJRlHU9vFUdWS2BmtrVFZ3q0ah6ibvmmmaXY 7S8WIcy1RVO4mMZnEW3JxsJV0OCDlwBS4n1kigTIpbAciZFa+eU59KgAz/CAxcaCjfeNyIvAc3X 6xUC8xuJvuv4d+x/bISl7EoAgRuWFnO68PTy6/YBcm6kUBUkPT7BtMorHAVht X-Gm-Gg: ASbGncvDYBLfBUAIP2tvK2Oo1T0su+uio0e9um1EeKC/i0a7RLO+LmyDyYqPbn/41Lj wtRxTF1RaCsTDKUCNuluf2OmG+5duvOrxxM38bGeOM0hAzki3oARYly+X907TkjH7nG2Yl5Uma2 qU6sCVa7PCnyab5gK4vYOlgGWQzRhPPWwB7NVlB4PSPsfIv/cGw9csJcjrpOWUzW4QGCJq/uI9N 4ORZLSvwHfmUS0jp3kdJe+uKPH0zWrj8vFX1RmurWIw7BR8tjscynZ7goMT8NtOeBSv8eRX0LRp erE5b5d7E76CPmeZmwR31AKBX85RTc2DCakIvboGd4spxVNkVenE0JSiiLx0csfWaedK03RMWP0 XoPHudBAN X-Google-Smtp-Source: AGHT+IEGSQD+txBwumT8jzDlRn4LRrPRuf2v2dsun9Ho31A+spixI/G+6j2KzBJnOrTOw6h8AOuJJz9LtBSr X-Received: by 2002:a05:622a:198d:b0:4b3:4fa9:4cd2 with SMTP id d75a77b69052e-4ed808a680bmr22362621cf.33.1762385184401; Wed, 05 Nov 2025 15:26:24 -0800 (PST) Received: from postal.iol.unh.edu (postal.iol.unh.edu. [2606:4100:3880:1234::84]) by smtp-relay.gmail.com with ESMTPS id d75a77b69052e-4ed81394347sm471961cf.11.2025.11.05.15.26.24 (version=TLS1_2 cipher=ECDHE-ECDSA-AES128-GCM-SHA256 bits=128/128); Wed, 05 Nov 2025 15:26:24 -0800 (PST) X-Relaying-Domain: iol.unh.edu Date: Wed, 05 Nov 2025 15:26:24 -0800 (PST) Message-ID: <690bdd20.050a0220.987ca.28cfSMTPIN_ADDED_MISSING@mx.google.com> Received: from [172.21.0.2] (unknown [172.18.0.240]) by postal.iol.unh.edu (Postfix) with ESMTP id DD0AF6051830; Wed, 5 Nov 2025 18:26:23 -0500 (EST) Subject: |SUCCESS| pw158460 [PATCH] [v1] net/mlx5: fix indirect meter index l From: dpdklab@iol.unh.edu To: Test Report Cc: dpdk-test-reports@iol.unh.edu In-Reply-To: <20251105125433.468878-1-rongweil@nvidia.com> References: <20251105125433.468878-1-rongweil@nvidia.com> Content-Type: text/plain X-BeenThere: test-report@dpdk.org X-Mailman-Version: 2.1.29 Precedence: list List-Id: automatic DPDK test reports List-Unsubscribe: , List-Archive: List-Post: List-Help: List-Subscribe: , Errors-To: test-report-bounces@dpdk.org Test-Label: iol-unit-arm64-testing Test-Status: SUCCESS http://dpdk.org/patch/158460 _Testing PASS_ Submitter: Rongwei Liu Date: Wednesday, November 05 2025 12:54:33 DPDK git baseline: Repo:dpdk-next-net-mlx Branch: master CommitID:f1c1f82f2421be9ac2f46b4ec2a616ca28da4ca7 158460 --> testing pass Upstream job id: Generic-Unit-Test-DPDK#388913 Test environment and result as below: +------------------------------+----------------+--------------+---------------------------+------------------------------+ | Environment | dpdk_unit_test | lpm_autotest | cryptodev_sw_zuc_autotest | cryptodev_sw_snow3g_autotest | +==============================+================+==============+===========================+==============================+ | Fedora Linux 40 | PASS | SKIPPED | SKIPPED | SKIPPED | +------------------------------+----------------+--------------+---------------------------+------------------------------+ | Debian GNU/Linux 12 | PASS | SKIPPED | SKIPPED | SKIPPED | +------------------------------+----------------+--------------+---------------------------+------------------------------+ | Ubuntu 20.04 | PASS | PASS | SKIPPED | SKIPPED | +------------------------------+----------------+--------------+---------------------------+------------------------------+ | Fedora Linux 42 | PASS | SKIPPED | SKIPPED | SKIPPED | +------------------------------+----------------+--------------+---------------------------+------------------------------+ | Ubuntu 24.04 | PASS | SKIPPED | SKIPPED | SKIPPED | +------------------------------+----------------+--------------+---------------------------+------------------------------+ | CentOS Stream 10 | PASS | SKIPPED | SKIPPED | SKIPPED | +------------------------------+----------------+--------------+---------------------------+------------------------------+ | Fedora Linux 41 | PASS | SKIPPED | SKIPPED | SKIPPED | +------------------------------+----------------+--------------+---------------------------+------------------------------+ | Ubuntu 22.04 | PASS | SKIPPED | SKIPPED | SKIPPED | +------------------------------+----------------+--------------+---------------------------+------------------------------+ | CentOS Stream 9 | PASS | SKIPPED | SKIPPED | SKIPPED | +------------------------------+----------------+--------------+---------------------------+------------------------------+ | Red Hat Enterprise Linux 9.5 | PASS | SKIPPED | SKIPPED | SKIPPED | +------------------------------+----------------+--------------+---------------------------+------------------------------+ | Debian 12 (arm) | SKIPPED | SKIPPED | PASS | PASS | +------------------------------+----------------+--------------+---------------------------+------------------------------+ Fedora Linux 40 Kernel: 5.4 Compiler: gcc gcc (GCC) 14.2.1 20240912 (Red Hat 14.2.1-3) Debian GNU/Linux 12 Kernel: 5.4 Compiler: gcc gcc (Debian 12.2.0-14+deb12u1) 12.2.0 Ubuntu 20.04 Kernel: 5.4 Compiler: gcc gcc (Ubuntu 9.4.0-1ubuntu1~20.04.2) 9.4.0 Fedora Linux 42 Kernel: 5.4 Compiler: gcc gcc (GCC) 15.2.1 20250808 (Red Hat 15.2.1-1) Ubuntu 24.04 Kernel: 5.4 Compiler: gcc gcc (Ubuntu 13.3.0-6ubuntu2~24.04) 13.3.0 CentOS Stream 10 Kernel: 5.4 Compiler: gcc gcc (GCC) 14.2.1 20250110 (Red Hat 14.2.1-8) Fedora Linux 41 Kernel: 5.4 Compiler: clang gcc (GCC) 14.3.1 20250523 (Red Hat 14.3.1-1) Ubuntu 22.04 Kernel: 5.4 Compiler: gcc gcc (Ubuntu 11.4.0-1ubuntu1~22.04) 11.4.0 CentOS Stream 9 Kernel: 5.4 Compiler: gcc gcc (GCC) 11.5.0 20240719 (Red Hat 11.5.0-11) Red Hat Enterprise Linux 9.5 Kernel: 5.4 Compiler: gcc gcc (GCC) 11.5.0 20240719 (Red Hat 11.5.0-2) Debian 12 (arm) Kernel: Depends on container host Compiler: gcc (Debian 12.2.0-14) 12.2.0 To view detailed results, visit: https://lab.dpdk.org/results/dashboard/patchsets/34473/ UNH-IOL DPDK Community Lab To manage your email subscriptions, visit: https://lab.dpdk.org/results/dashboard/preferences/subscriptions/