From mboxrd@z Thu Jan 1 00:00:00 1970 Return-Path: Received: from mails.dpdk.org (mails.dpdk.org [217.70.189.124]) by inbox.dpdk.org (Postfix) with ESMTP id 2139948A4E for ; Thu, 6 Nov 2025 01:18:54 +0100 (CET) Received: from mails.dpdk.org (localhost [127.0.0.1]) by mails.dpdk.org (Postfix) with ESMTP id F1FCB4013F; Thu, 6 Nov 2025 01:18:53 +0100 (CET) Received: from mail-il1-f227.google.com (mail-il1-f227.google.com [209.85.166.227]) by mails.dpdk.org (Postfix) with ESMTP id A05824013F for ; Thu, 6 Nov 2025 01:18:52 +0100 (CET) Received: by mail-il1-f227.google.com with SMTP id e9e14a558f8ab-433258101ceso2552645ab.1 for ; Wed, 05 Nov 2025 16:18:52 -0800 (PST) DKIM-Signature: v=1; a=rsa-sha256; c=relaxed/relaxed; d=iol.unh.edu; s=unh-iol; t=1762388332; x=1762993132; darn=dpdk.org; h=references:in-reply-to:cc:to:from:subject:message-id:date:from:to :cc:subject:date:message-id:reply-to; bh=vLGQGSVTVEiDhnjze01uZKuJBsnmreEc3V2RK7DbJ7Y=; b=glJvL8js6xfc9nv0l9jmnR/JWifq+n9xWygQwjaP1aGbqeIPkhcesFzuAKTC46l+73 WMBqRFgymJMVsfuoIPBjK/+ElkitUhuAW57UM3BO6TR8fYAmKU4FHhzlU6I1CJNyVZNv 0xEFn6cWhPwR2K/tT2V6O//xwtjSGwvfgX9Ec= X-Google-DKIM-Signature: v=1; a=rsa-sha256; c=relaxed/relaxed; d=1e100.net; s=20230601; t=1762388332; x=1762993132; h=references:in-reply-to:cc:to:from:subject:message-id:date :x-gm-message-state:from:to:cc:subject:date:message-id:reply-to; bh=vLGQGSVTVEiDhnjze01uZKuJBsnmreEc3V2RK7DbJ7Y=; b=dPD94unpey3ngfptEET3kFOp/lrfm+KzpyLNDN8R6GzE6LOuEB32YmZjW7wOga+3gy +FSJsPZadu1Xlpn8ULVJHGPLDG0ZL7q9YP2ZOBNbggiMqDS8kXnmrBrV5fW4lxfQjjDo 8hsMLv2QSaJtaXx8Gv7+ICXqpv8e0uVmHJSRXI5d/e5qIxltdlkqKPFegFApbB3npRep yqtFU/JJy/OMCX1Svkz+oz3AK78tvL4PMgjGtuKblmqyzZCRdWBOIBvciA3j/sQizOvg pn0SworrXcWsiH5/b9AKRakUPtkdo+L/ToqmXOXsFty1mmulcgShMYps0TwrKp0uthyj sR6g== X-Gm-Message-State: AOJu0Yxke9UcwSTyzz8rhl6xa2LOPyaouu/YEmnbduWzzeIE5ImEbyo4 YvmPeE1RG9shA0zxNLviQdwC+iMxJSKvvqLPkVb1Nffb7+fSxLli56/nVCbHF3uVU/96u7FX1zy ObSfjcwXHnGoSehCVFGyET4ANxdTIUd0jdLW6f7J4h2uk X-Gm-Gg: ASbGncuG2FKKw8r6yP8d7QZrQ53WwTYMTNrqC8QD4NyZm2mpvKfSwoFw6F1qJDC8QgE GojEmroRagWjNa4kmvNwh8C3ivumCRH0LLOqjMdiMmicsi/AH79N/MTHXsFpcGMIfukjRIO8sb5 LqsjPOWfNiixknFTBPfVfqNBv8Ew+HkqfuajSI+oCABeE2FoG5Q1slv5H9b0ZSKlPb+6+83ZEhK dxGMHefs60gJQ8pGqmd8qtyKlXtw38xjOWUOx+PT2Buv/CnqPP1KWvAlCZuWuGoaoU/+idGc9OF PNWdMwJQPa2X0roYpikvqiCbWFnQGrP36nUxPG/vxzu7YJn/fPRxq0Bb6AV0xfUqM0ZXA2FNolb TBhQesIk0TQmjkOeyiUdkpD6f+AtpMkM= X-Google-Smtp-Source: AGHT+IG4N4mt36KnK8qvdHeuFE6tVs0ZRJTyE4eWPch82Im36mSuSrs4X7GivtAe9FVagNGDZylGSGqmoaNm X-Received: by 2002:a05:6e02:b24:b0:433:5021:9377 with SMTP id e9e14a558f8ab-43350219601mr7482415ab.27.1762388331928; Wed, 05 Nov 2025 16:18:51 -0800 (PST) Received: from postal.iol.unh.edu (postal.iol.unh.edu. [132.177.123.84]) by smtp-relay.gmail.com with ESMTPS id e9e14a558f8ab-4334f44a507sm634975ab.2.2025.11.05.16.18.51 (version=TLS1_2 cipher=ECDHE-ECDSA-AES128-GCM-SHA256 bits=128/128); Wed, 05 Nov 2025 16:18:51 -0800 (PST) X-Relaying-Domain: iol.unh.edu Date: Wed, 05 Nov 2025 16:18:51 -0800 (PST) Message-ID: <690be96b.920a0220.29f141.3942SMTPIN_ADDED_MISSING@mx.google.com> Received: from [172.21.0.2] (unknown [172.18.0.240]) by postal.iol.unh.edu (Postfix) with ESMTP id 8A9826051830; Wed, 5 Nov 2025 19:18:51 -0500 (EST) Subject: |SUCCESS| pw158477 [PATCH] net/bonding: fix MAC address propagation From: dpdklab@iol.unh.edu To: Test Report Cc: dpdk-test-reports@iol.unh.edu, Stephen Hemminger In-Reply-To: <20251105180135.1181619-1-shperetz@nvidia.com> References: <20251105180135.1181619-1-shperetz@nvidia.com> Content-Type: text/plain X-BeenThere: test-report@dpdk.org X-Mailman-Version: 2.1.29 Precedence: list List-Id: automatic DPDK test reports List-Unsubscribe: , List-Archive: List-Post: List-Help: List-Subscribe: , Errors-To: test-report-bounces@dpdk.org Test-Label: iol-compile-arm64-testing Test-Status: SUCCESS http://dpdk.org/patch/158477 _Testing PASS_ Submitter: Shani Peretz Date: Wednesday, November 05 2025 18:01:35 DPDK git baseline: Repo:dpdk-next-net Branch: master CommitID:538052bb364db22ba8cc08b5e23a9e6d25a864a9 158477 --> testing pass Upstream job id: Generic-DPDK-Compile-Meson#441261 Test environment and result as below: +------------------------------+--------------------+ | Environment | dpdk_meson_compile | +==============================+====================+ | Red Hat Enterprise Linux 9.5 | PASS | +------------------------------+--------------------+ | Ubuntu 20.04 | PASS | +------------------------------+--------------------+ | Debian GNU/Linux 12 | PASS | +------------------------------+--------------------+ | Fedora Linux 42 | PASS | +------------------------------+--------------------+ | Ubuntu 22.04 | PASS | +------------------------------+--------------------+ | Ubuntu 24.04 | PASS | +------------------------------+--------------------+ | CentOS Stream 9 | PASS | +------------------------------+--------------------+ | CentOS Stream 10 | PASS | +------------------------------+--------------------+ Red Hat Enterprise Linux 9.5 Kernel: 5.4 Compiler: gcc gcc (GCC) 11.5.0 20240719 (Red Hat 11.5.0-2) Ubuntu 20.04 Kernel: 5.15 Compiler: aarch64-linux-gnu-gcc gcc (Ubuntu 9.4.0-1ubuntu1~20.04.2) 9.4.0 Debian GNU/Linux 12 Kernel: 5.4 Compiler: gcc gcc (Debian 12.2.0-14+deb12u1) 12.2.0 Fedora Linux 42 Kernel: 5.4 Compiler: gcc gcc (GCC) 15.2.1 20250808 (Red Hat 15.2.1-1) Ubuntu 22.04 Kernel: 5.4 Compiler: gcc gcc (Ubuntu 11.4.0-1ubuntu1~22.04) 11.4.0 Ubuntu 24.04 Kernel: 5.4 Compiler: gcc gcc (Ubuntu 13.3.0-6ubuntu2~24.04) 13.3.0 CentOS Stream 9 Kernel: 5.4 Compiler: gcc gcc (GCC) 11.5.0 20240719 (Red Hat 11.5.0-11) CentOS Stream 10 Kernel: 5.4 Compiler: gcc gcc (GCC) 14.2.1 20250110 (Red Hat 14.2.1-8) To view detailed results, visit: https://lab.dpdk.org/results/dashboard/patchsets/34481/ UNH-IOL DPDK Community Lab To manage your email subscriptions, visit: https://lab.dpdk.org/results/dashboard/preferences/subscriptions/