From mboxrd@z Thu Jan 1 00:00:00 1970 Return-Path: Received: from mails.dpdk.org (mails.dpdk.org [217.70.189.124]) by inbox.dpdk.org (Postfix) with ESMTP id 9A2C348A77 for ; Thu, 6 Nov 2025 02:14:49 +0100 (CET) Received: from mails.dpdk.org (localhost [127.0.0.1]) by mails.dpdk.org (Postfix) with ESMTP id 92C714013F; Thu, 6 Nov 2025 02:14:49 +0100 (CET) Received: from mail-pl1-f228.google.com (mail-pl1-f228.google.com [209.85.214.228]) by mails.dpdk.org (Postfix) with ESMTP id A55B34013F for ; Thu, 6 Nov 2025 02:14:48 +0100 (CET) Received: by mail-pl1-f228.google.com with SMTP id d9443c01a7336-290aaff555eso3931795ad.2 for ; Wed, 05 Nov 2025 17:14:48 -0800 (PST) DKIM-Signature: v=1; a=rsa-sha256; c=relaxed/relaxed; d=iol.unh.edu; s=unh-iol; t=1762391688; x=1762996488; darn=dpdk.org; h=references:in-reply-to:cc:to:from:subject:message-id:date:from:to :cc:subject:date:message-id:reply-to; bh=D+e9js6KYOVE77xPHobSiwy+ApmeDUPVYe6pQ7WrmiA=; b=HcwGyuspsnGo2OHNLnNcsYF7Kh8jbk6gY/18ZgT5kCscF1IfpuxFwBjX8t9zzE9957 IRY2ON9/Bd+PREa+kspE0HzpbTNKIvK/rnMcZv4/ax1yktStN/v/pLJ6j0j1B4NF4TTJ fpEALh+FrfzuAv4B+MkhPQ2D6gtqNcxEsQr/I= X-Google-DKIM-Signature: v=1; a=rsa-sha256; c=relaxed/relaxed; d=1e100.net; s=20230601; t=1762391688; x=1762996488; h=references:in-reply-to:cc:to:from:subject:message-id:date :x-gm-message-state:from:to:cc:subject:date:message-id:reply-to; bh=D+e9js6KYOVE77xPHobSiwy+ApmeDUPVYe6pQ7WrmiA=; b=wk1ZX0usDVwffH0MS9lS7uPfqSq+5FpoK89hFqO6DMYctro8xcgD3HGolfYT3VMWGq z05vhVUAM3BLdqlLVhqWVhpXZYpf/BSNHK14s0ckeSvcbfUFKE+0Y0hG+DkLIw/VaCXT EGVMc2IVcpsVAQL/k87G4D1Qy+41pG4jXkw10jYK7KoH4PprzDOMsS1NoAkj2JpPFrRH uLmztQOyrYLm8RVXLqpdxCSMZE4r4u0FyVud4NjRKvqj5zHqnOhQs/kznbZzuVtgexhL UOCbaqUgQ1/5aIQEmka4MvI+fwEvU7UH+v/t653NjSodetowPeEqxHeWhiupm3hJrWj/ BV2w== X-Gm-Message-State: AOJu0YyayrovaVEIcvEusr/EA0cC/zgi6MBMKEc54U83OcjNn6mI4Yow DXesxkGAqV/6lgy9NZGYVGBToSzQAIH5AhewJbs/adK9ZQCAdwNp+goAujkH53sAtz57JWVUCKP UWnfGJRLxnjNSQu9yYgfhoRQ79+fNgtjbMH+reCIImLF5GzsHNGu47OmTBj7O X-Gm-Gg: ASbGncuy4BpqT9/g/1phvrI7kRXn1e0Mray/ZNUoyWSq7erhvX4IZ5xAm7f4ij2ZVMQ YH26BH09vfXHVDBxTVDf7RWElX8FjwQkwD3zyx5kqJgoY20mWMqHSCm90lERcvGzGSQDBp/SfYo z59wN76zqFM7uT8bvKo3p2WJUyiTN7ZQiE/7vxoVMfzRVy3RuisG8XWRzpoDy0//FhIfRoooY+H D5TIg0mJC0MzcaV+oOSksYBWwcxBs9N0WmVUthluMMuL+nlZ5otLNK3M+Thr0Gv/UkLYvXLMP56 rj35l6siw66YVSoDq3N7+iaqj4v5oUEtowy7NQk7Eivm+txB7ugBvJpioAcJkbPqZvxLmINdWNj 6LB7Qmjho X-Google-Smtp-Source: AGHT+IH6JtIcrlV8tftmrtk1AY1A/G/OxDNkhmc4XwV1Q4ncOEtdwOpyNkFQA/c9nnwDPnCjkcka6obJ4R2v X-Received: by 2002:a17:902:d2cf:b0:295:c2e8:dabd with SMTP id d9443c01a7336-2962ad3c9femr81035875ad.26.1762391687816; Wed, 05 Nov 2025 17:14:47 -0800 (PST) Received: from postal.iol.unh.edu (postal.iol.unh.edu. [2606:4100:3880:1234::84]) by smtp-relay.gmail.com with ESMTPS id d9443c01a7336-29650c5fba9sm938835ad.15.2025.11.05.17.14.47 (version=TLS1_2 cipher=ECDHE-ECDSA-AES128-GCM-SHA256 bits=128/128); Wed, 05 Nov 2025 17:14:47 -0800 (PST) X-Relaying-Domain: iol.unh.edu Date: Wed, 05 Nov 2025 17:14:47 -0800 (PST) Message-ID: <690bf687.170a0220.d30d2.5382SMTPIN_ADDED_MISSING@mx.google.com> Received: from [172.21.0.2] (unknown [172.18.0.240]) by postal.iol.unh.edu (Postfix) with ESMTP id 9CBC06051830; Wed, 5 Nov 2025 20:14:46 -0500 (EST) Subject: |SUCCESS| pw158478-158481 [PATCH] [v3,4/4] doc: update TxPP document From: dpdklab@iol.unh.edu To: Test Report Cc: dpdk-test-reports@iol.unh.edu, Bruce Richardson In-Reply-To: <20251106064638.23020-5-soumyadeep.hore@intel.com> References: <20251106064638.23020-5-soumyadeep.hore@intel.com> Content-Type: text/plain X-BeenThere: test-report@dpdk.org X-Mailman-Version: 2.1.29 Precedence: list List-Id: automatic DPDK test reports List-Unsubscribe: , List-Archive: List-Post: List-Help: List-Subscribe: , Errors-To: test-report-bounces@dpdk.org Test-Label: iol-compile-arm64-testing Test-Status: SUCCESS http://dpdk.org/patch/158481 _Testing PASS_ Submitter: Soumyadeep Hore Date: Thursday, November 06 2025 06:46:37 DPDK git baseline: Repo:dpdk-next-net-intel Branch: master CommitID:03e1f9ac281264a54af53f547a2eb80f25bc19e6 158478-158481 --> testing pass Upstream job id: Generic-DPDK-Compile-Meson#441235 Test environment and result as below: +------------------------------+--------------------+ | Environment | dpdk_meson_compile | +==============================+====================+ | Red Hat Enterprise Linux 9.5 | PASS | +------------------------------+--------------------+ | Ubuntu 20.04 | PASS | +------------------------------+--------------------+ | Debian GNU/Linux 12 | PASS | +------------------------------+--------------------+ | Fedora Linux 42 | PASS | +------------------------------+--------------------+ | Ubuntu 22.04 | PASS | +------------------------------+--------------------+ | Ubuntu 24.04 | PASS | +------------------------------+--------------------+ | CentOS Stream 9 | PASS | +------------------------------+--------------------+ | CentOS Stream 10 | PASS | +------------------------------+--------------------+ Red Hat Enterprise Linux 9.5 Kernel: 5.4 Compiler: gcc gcc (GCC) 11.5.0 20240719 (Red Hat 11.5.0-2) Ubuntu 20.04 Kernel: 5.15 Compiler: aarch64-linux-gnu-gcc gcc (Ubuntu 9.4.0-1ubuntu1~20.04.2) 9.4.0 Debian GNU/Linux 12 Kernel: 5.4 Compiler: gcc gcc (Debian 12.2.0-14+deb12u1) 12.2.0 Fedora Linux 42 Kernel: 5.4 Compiler: gcc gcc (GCC) 15.2.1 20250808 (Red Hat 15.2.1-1) Ubuntu 22.04 Kernel: 5.4 Compiler: gcc gcc (Ubuntu 11.4.0-1ubuntu1~22.04) 11.4.0 Ubuntu 24.04 Kernel: 5.4 Compiler: gcc gcc (Ubuntu 13.3.0-6ubuntu2~24.04) 13.3.0 CentOS Stream 9 Kernel: 5.4 Compiler: gcc gcc (GCC) 11.5.0 20240719 (Red Hat 11.5.0-11) CentOS Stream 10 Kernel: 5.4 Compiler: gcc gcc (GCC) 14.2.1 20250110 (Red Hat 14.2.1-8) To view detailed results, visit: https://lab.dpdk.org/results/dashboard/patchsets/34480/ UNH-IOL DPDK Community Lab To manage your email subscriptions, visit: https://lab.dpdk.org/results/dashboard/preferences/subscriptions/