From mboxrd@z Thu Jan 1 00:00:00 1970 Return-Path: Received: from mails.dpdk.org (mails.dpdk.org [217.70.189.124]) by inbox.dpdk.org (Postfix) with ESMTP id 220B548A77 for ; Thu, 6 Nov 2025 02:47:15 +0100 (CET) Received: from mails.dpdk.org (localhost [127.0.0.1]) by mails.dpdk.org (Postfix) with ESMTP id 157D64013F; Thu, 6 Nov 2025 02:47:15 +0100 (CET) Received: from mail-il1-f227.google.com (mail-il1-f227.google.com [209.85.166.227]) by mails.dpdk.org (Postfix) with ESMTP id 790804013F for ; Thu, 6 Nov 2025 02:47:13 +0100 (CET) Received: by mail-il1-f227.google.com with SMTP id e9e14a558f8ab-433261f2045so3626725ab.3 for ; Wed, 05 Nov 2025 17:47:13 -0800 (PST) DKIM-Signature: v=1; a=rsa-sha256; c=relaxed/relaxed; d=iol.unh.edu; s=unh-iol; t=1762393633; x=1762998433; darn=dpdk.org; h=references:in-reply-to:cc:to:from:subject:message-id:date:from:to :cc:subject:date:message-id:reply-to; bh=ju/J8TUCxf7Q4sqA69lcQcepNtVAqEb8fkWvChlp+KI=; b=dnhHQipSvWj9bpMeTJPqqO+nEy+0Sr2QXvtg312kiguESwgXre3K5WyBy3sGdT/ux4 OKoGKEjLyj91M6a2zrVGE8h3zSGgNjkD6XWvv0lITVMqcE76cjNmOgSs9jE+8vjVr4Q6 Jwks3TREvvVTwXOJclpLYcPPhzovCcMZtxidk= X-Google-DKIM-Signature: v=1; a=rsa-sha256; c=relaxed/relaxed; d=1e100.net; s=20230601; t=1762393633; x=1762998433; h=references:in-reply-to:cc:to:from:subject:message-id:date :x-gm-message-state:from:to:cc:subject:date:message-id:reply-to; bh=ju/J8TUCxf7Q4sqA69lcQcepNtVAqEb8fkWvChlp+KI=; b=lYwp6//pSWZUui3Dvp6z2Wv0ITn5tcloY+SfOfYwRaS8miF2iY7isFAP4syCX+Z2DY eZzULXhkSaXzDVd4Wn52O8GroYdhs/hSJMTrxtHHi9FwFRw6x1+2CmZZc11LKsxyv4sU HnnI9IRAvjYIXJfF+drRMuxoOkDGv9ZeAx/qm2+vbU3ZtbguiU3nBGIyOYZZ0EqeCz2r oV2Xyx23/FL6pmBwO3istFr3EwEPI2ug7Y9LgvdyNPXufZ5g+DmyslreYMKuAY56bU3/ eJUdzOo2shITnHHShap9DIt4WTd5in6eKMoUZbrn8CKJA+HEMsvyKl9G57XzX7vigDI8 UUQQ== X-Gm-Message-State: AOJu0YwPBVB1nyPFf4m/T9D5Hp4uWSyXh1FaKpCYhEV1VpdT8HC0pT1C njmQNoyQV7lWOnVRDfwUzgkaclXMYUulrJn4M+DlIGvSDAohg/ZgJ2NhbIa5nl8SpdwK4fBtU43 nJV95W5PMyQUPYXyf3xG7Lzt/qZne3f1Cb/mFatDNPDpFVQ1tdRhSqnHfnf/z X-Gm-Gg: ASbGncv87Ami1UMXCGPueTqfavlBQOl0D5d2CbmwfZb4oxcINSCckvCPeq8QjAfIRP8 hmxxNJMfqOPhIzerKSe4fqQpzJuKjDZ/XlGSdcCt/mBnT1FcwRB2a/VvV8iGI1td8h8jU1GHOBq vkaMEODc4xSOMbu20L6PELnTHjCJuuzOUvscELp51iFD/joeHhycJ5yp2cibGVoy2Cwwtu0Q2cr gk7/emHon+FH7IDYw3F3qsU8Vg1rIvQLd5xpeoLorZdwc3TAjOlo2LYINK2mfuIHBF9EQ/rrXqM BlXP4T5vJHoQqbQb6JMj6ugL+qGVzV3U73nECAV7YZZYht1XKoJAa1dcFbo72Xx0mXZx08cQzji u1oUmDTzk X-Google-Smtp-Source: AGHT+IH43U3IqUX4PPyKg2h4ivd4wlqL3pH/2uMnUoF+34qjIUuvqos7er9rJLFGsoe+xLjVAUTvLP/CV/PW X-Received: by 2002:a05:6e02:16c7:b0:432:f835:2584 with SMTP id e9e14a558f8ab-4334075359bmr75853265ab.1.1762393632753; Wed, 05 Nov 2025 17:47:12 -0800 (PST) Received: from postal.iol.unh.edu (postal.iol.unh.edu. [2606:4100:3880:1234::84]) by smtp-relay.gmail.com with ESMTPS id 8926c6da1cb9f-5b746739b36sm107197173.5.2025.11.05.17.47.12 (version=TLS1_2 cipher=ECDHE-ECDSA-AES128-GCM-SHA256 bits=128/128); Wed, 05 Nov 2025 17:47:12 -0800 (PST) X-Relaying-Domain: iol.unh.edu Date: Wed, 05 Nov 2025 17:47:12 -0800 (PST) Message-ID: <690bfe20.050a0220.32194d.5dbdSMTPIN_ADDED_MISSING@mx.google.com> Received: from [172.21.0.2] (unknown [172.18.0.240]) by postal.iol.unh.edu (Postfix) with ESMTP id 5E4BD604D420; Wed, 5 Nov 2025 20:47:12 -0500 (EST) Subject: |SUCCESS| pw158461-158466 [PATCH] [v2,6/6] net/iavf: fix QinQ insert From: dpdklab@iol.unh.edu To: Test Report Cc: dpdk-test-reports@iol.unh.edu, Bruce Richardson In-Reply-To: <20251105152642.2981673-7-ciara.loftus@intel.com> References: <20251105152642.2981673-7-ciara.loftus@intel.com> Content-Type: text/plain X-BeenThere: test-report@dpdk.org X-Mailman-Version: 2.1.29 Precedence: list List-Id: automatic DPDK test reports List-Unsubscribe: , List-Archive: List-Post: List-Help: List-Subscribe: , Errors-To: test-report-bounces@dpdk.org Test-Label: iol-unit-arm64-testing Test-Status: SUCCESS http://dpdk.org/patch/158466 _Testing PASS_ Submitter: Ciara Loftus Date: Wednesday, November 05 2025 15:26:42 DPDK git baseline: Repo:dpdk-next-net-intel Branch: master CommitID:03e1f9ac281264a54af53f547a2eb80f25bc19e6 158461-158466 --> testing pass Upstream job id: Generic-Unit-Test-DPDK#388972 Test environment and result as below: +------------------------------+---------------------------+--------------+------------------------------+----------------+ | Environment | cryptodev_sw_zuc_autotest | lpm_autotest | cryptodev_sw_snow3g_autotest | dpdk_unit_test | +==============================+===========================+==============+==============================+================+ | Debian 12 (arm) | PASS | SKIPPED | PASS | SKIPPED | +------------------------------+---------------------------+--------------+------------------------------+----------------+ | Ubuntu 20.04 | SKIPPED | PASS | SKIPPED | PASS | +------------------------------+---------------------------+--------------+------------------------------+----------------+ | Debian GNU/Linux 12 | SKIPPED | SKIPPED | SKIPPED | PASS | +------------------------------+---------------------------+--------------+------------------------------+----------------+ | CentOS Stream 9 | SKIPPED | SKIPPED | SKIPPED | PASS | +------------------------------+---------------------------+--------------+------------------------------+----------------+ | Fedora Linux 40 | SKIPPED | SKIPPED | SKIPPED | PASS | +------------------------------+---------------------------+--------------+------------------------------+----------------+ | Fedora Linux 42 | SKIPPED | SKIPPED | SKIPPED | PASS | +------------------------------+---------------------------+--------------+------------------------------+----------------+ | CentOS Stream 10 | SKIPPED | SKIPPED | SKIPPED | PASS | +------------------------------+---------------------------+--------------+------------------------------+----------------+ | Fedora Linux 41 | SKIPPED | SKIPPED | SKIPPED | PASS | +------------------------------+---------------------------+--------------+------------------------------+----------------+ | Red Hat Enterprise Linux 9.5 | SKIPPED | SKIPPED | SKIPPED | PASS | +------------------------------+---------------------------+--------------+------------------------------+----------------+ | Ubuntu 22.04 | SKIPPED | SKIPPED | SKIPPED | PASS | +------------------------------+---------------------------+--------------+------------------------------+----------------+ | Ubuntu 24.04 | SKIPPED | SKIPPED | SKIPPED | PASS | +------------------------------+---------------------------+--------------+------------------------------+----------------+ Debian 12 (arm) Kernel: Depends on container host Compiler: gcc (Debian 12.2.0-14) 12.2.0 Ubuntu 20.04 Kernel: 5.4 Compiler: gcc gcc (Ubuntu 9.4.0-1ubuntu1~20.04.2) 9.4.0 Debian GNU/Linux 12 Kernel: 5.4 Compiler: gcc gcc (Debian 12.2.0-14+deb12u1) 12.2.0 CentOS Stream 9 Kernel: 5.4 Compiler: gcc gcc (GCC) 11.5.0 20240719 (Red Hat 11.5.0-11) Fedora Linux 40 Kernel: 5.4 Compiler: gcc gcc (GCC) 14.2.1 20240912 (Red Hat 14.2.1-3) Fedora Linux 42 Kernel: 5.4 Compiler: gcc gcc (GCC) 15.2.1 20250808 (Red Hat 15.2.1-1) CentOS Stream 10 Kernel: 5.4 Compiler: gcc gcc (GCC) 14.2.1 20250110 (Red Hat 14.2.1-8) Fedora Linux 41 Kernel: 5.4 Compiler: clang gcc (GCC) 14.3.1 20250523 (Red Hat 14.3.1-1) Red Hat Enterprise Linux 9.5 Kernel: 5.4 Compiler: gcc gcc (GCC) 11.5.0 20240719 (Red Hat 11.5.0-2) Ubuntu 22.04 Kernel: 5.15 Compiler: gcc gcc (Ubuntu 11.4.0-1ubuntu1~22.04.2) 11.4.0 Ubuntu 24.04 Kernel: 5.4 Compiler: gcc gcc (Ubuntu 13.3.0-6ubuntu2~24.04) 13.3.0 To view detailed results, visit: https://lab.dpdk.org/results/dashboard/patchsets/34475/ UNH-IOL DPDK Community Lab To manage your email subscriptions, visit: https://lab.dpdk.org/results/dashboard/preferences/subscriptions/