From mboxrd@z Thu Jan 1 00:00:00 1970 Return-Path: Received: from mails.dpdk.org (mails.dpdk.org [217.70.189.124]) by inbox.dpdk.org (Postfix) with ESMTP id 19A1948A77 for ; Thu, 6 Nov 2025 03:03:02 +0100 (CET) Received: from mails.dpdk.org (localhost [127.0.0.1]) by mails.dpdk.org (Postfix) with ESMTP id 050E04013F; Thu, 6 Nov 2025 03:03:02 +0100 (CET) Received: from mail-pl1-f227.google.com (mail-pl1-f227.google.com [209.85.214.227]) by mails.dpdk.org (Postfix) with ESMTP id BE7BD4013F for ; Thu, 6 Nov 2025 03:03:00 +0100 (CET) Received: by mail-pl1-f227.google.com with SMTP id d9443c01a7336-29516a36affso4457755ad.3 for ; Wed, 05 Nov 2025 18:03:00 -0800 (PST) DKIM-Signature: v=1; a=rsa-sha256; c=relaxed/relaxed; d=iol.unh.edu; s=unh-iol; t=1762394580; x=1762999380; darn=dpdk.org; h=cc:to:from:subject:message-id:date:from:to:cc:subject:date :message-id:reply-to; bh=OzPGJFFG/+S1UKbgubuVOlCjuZsZJQLZWj1u19MqhmA=; b=O9oROnxB/JrOqk+eOnMFLvchoEg8hJ1ragyOESQk4nJYj7I0ZuBVHbCwm00AR1JrNe yhZWG+uH405cXI1V5g9P8JPHDYXrSWYuHyn6qPTc3CN4bBUvBcwxn8KBkJFBvRymEbeZ cfUQQLn+DUwoTXWKCS7dIfpbU4YnF6KW/vU7Q= X-Google-DKIM-Signature: v=1; a=rsa-sha256; c=relaxed/relaxed; d=1e100.net; s=20230601; t=1762394580; x=1762999380; h=cc:to:from:subject:message-id:date:x-gm-message-state:from:to:cc :subject:date:message-id:reply-to; bh=OzPGJFFG/+S1UKbgubuVOlCjuZsZJQLZWj1u19MqhmA=; b=FkVckGiNFwpnmh0xQF9SVX6QTWa26gpuuFbeEBMLoLXAzDSby3mj9Yt0HfV6th2ibI pdho13Y5CNUeegEOgKE/JXdrhzOGck/daCtI9FV9S0mSgrBThFsZ8g6jl0NJR7pXyjk/ W/nccgffgNTRZcUiTxIyyu6WBL46vD7RcVr00Iki7W/6qp5HqcYylFmsjWiwSJrTUsJh l/l1uMZE6rWvoJgv0iAe2FJD8bGm8Sx1bbhKjyT1ZKOecCnVdT3UK5AF7VEGUl049nrw EgQJoNyoIejPRyHLie/T1+S5/TbZitH8JAPqXqHvKGwDc83+osRXUdm2QflKZkqPoIjL jD3w== X-Gm-Message-State: AOJu0YwymzIblsvyutDE1fcbHT7Qi+JB/Xakmmb9wfaCvAgBd+q7Fn+x ZDoeXqwVYS4QwF6KiiMUzBo62iiY/9EUGeJ47h7qr11EDKbZPb+zSQwbiLWC1BLmY4v2Pg3Qz0j T2FkXzu6yWDJrcmcyDLVqMwpp6GdwieHby5v37+1EFCTw X-Gm-Gg: ASbGncuqv3kCjvBieRnwVjV3XaKUc+JRWlWUGiQ+4NPJvnbniJLlZlA0TFlR7fukhah onuzwhoHV0I9+7NjsHuKrsKaCgkxUsMh3VNph/BxJIg46N5QiEwJV6MsZ6XUZuyYDfCBvHQhehI M6JBn8ea0f9Cpw5faOl+gXtxpyVpwzSSh13Gj+2IJkr8HMSkbQqYook5YJVmu3+mSRuCquGQryF yZPiQnL1E1DZ1MtjyniL770uFxkvXhpWq3IUav0whauQy8NIC7p4fXP14Jf/ELis+AEIWdPyThY ixDJp8tXpaOLNPCwp+cjHuR6w7YL9BXS0riOCK9wkSfP1TKgairu2E6/1vvnbYbfIFBPZjXMct+ PFpgmycaL7LHPEEK22eQPeRvvph8Jo80= X-Google-Smtp-Source: AGHT+IEmI/1GGWZRhN0FRaanp1nBWy3fCWW733cbTcSth/VweUT8XOMsJYeOfXnpOG7qthlqyI4v1YPTuv5m X-Received: by 2002:a17:902:d485:b0:27e:e55f:c6c3 with SMTP id d9443c01a7336-2962ade3771mr83082055ad.55.1762394579783; Wed, 05 Nov 2025 18:02:59 -0800 (PST) Received: from postal.iol.unh.edu (postal.iol.unh.edu. [132.177.123.84]) by smtp-relay.gmail.com with ESMTPS id d9443c01a7336-29651c6ad0esm964415ad.34.2025.11.05.18.02.59 (version=TLS1_2 cipher=ECDHE-ECDSA-AES128-GCM-SHA256 bits=128/128); Wed, 05 Nov 2025 18:02:59 -0800 (PST) X-Relaying-Domain: iol.unh.edu Date: Wed, 05 Nov 2025 18:02:59 -0800 (PST) Message-ID: <690c01d3.170a0220.3037f2.53f8SMTPIN_ADDED_MISSING@mx.google.com> Received: from [172.21.0.2] (unknown [172.18.0.240]) by postal.iol.unh.edu (Postfix) with ESMTP id 03B636051830; Wed, 5 Nov 2025 21:02:59 -0500 (EST) Subject: |SUCCESS| [GIT MASTER] f219e55e51d6bb9f8fcfc5899cfe5752e0bfca93 From: dpdklab@iol.unh.edu To: Test Report Cc: dpdk-test-reports@iol.unh.edu Content-Type: text/plain X-BeenThere: test-report@dpdk.org X-Mailman-Version: 2.1.29 Precedence: list List-Id: automatic DPDK test reports List-Unsubscribe: , List-Archive: List-Post: List-Help: List-Subscribe: , Errors-To: test-report-bounces@dpdk.org _Testing PASS_ Branch: dpdk f219e55e51d6bb9f8fcfc5899cfe5752e0bfca93 --> testing pass Upstream job id: Generic-DPDK-Compile-Meson#441273 Test environment and result as below: +-------------------------------+--------------------+------------------+-------------------------+-------------------+----------------------+ | Environment | dpdk_meson_compile | dpdk_compile_ovs | dpdk_llvm_clang_compile | dpdk_msvc_compile | dpdk_mingw64_compile | +===============================+====================+==================+=========================+===================+======================+ | CentOS Stream 9 | PASS | SKIPPED | SKIPPED | SKIPPED | SKIPPED | +-------------------------------+--------------------+------------------+-------------------------+-------------------+----------------------+ | CentOS Stream 10 | PASS | SKIPPED | SKIPPED | SKIPPED | SKIPPED | +-------------------------------+--------------------+------------------+-------------------------+-------------------+----------------------+ | Debian GNU/Linux 12 | PASS | SKIPPED | SKIPPED | SKIPPED | SKIPPED | +-------------------------------+--------------------+------------------+-------------------------+-------------------+----------------------+ | Fedora Linux 42 | PASS | PASS | SKIPPED | SKIPPED | SKIPPED | +-------------------------------+--------------------+------------------+-------------------------+-------------------+----------------------+ | Ubuntu 20.04 | PASS | SKIPPED | SKIPPED | SKIPPED | SKIPPED | +-------------------------------+--------------------+------------------+-------------------------+-------------------+----------------------+ | openSUSE Leap 15.6 | PASS | SKIPPED | SKIPPED | SKIPPED | SKIPPED | +-------------------------------+--------------------+------------------+-------------------------+-------------------+----------------------+ | Red Hat Enterprise Linux 8.10 | PASS | SKIPPED | SKIPPED | SKIPPED | SKIPPED | +-------------------------------+--------------------+------------------+-------------------------+-------------------+----------------------+ | FreeBSD 14.2 | PASS | SKIPPED | SKIPPED | SKIPPED | SKIPPED | +-------------------------------+--------------------+------------------+-------------------------+-------------------+----------------------+ | Red Hat Enterprise Linux 9.5 | PASS | SKIPPED | SKIPPED | SKIPPED | SKIPPED | +-------------------------------+--------------------+------------------+-------------------------+-------------------+----------------------+ | Ubuntu 22.04 | PASS | SKIPPED | SKIPPED | SKIPPED | SKIPPED | +-------------------------------+--------------------+------------------+-------------------------+-------------------+----------------------+ | Ubuntu 24.04 | PASS | PASS | SKIPPED | SKIPPED | SKIPPED | +-------------------------------+--------------------+------------------+-------------------------+-------------------+----------------------+ | Alpine Linux 3.22.0 | PASS | SKIPPED | SKIPPED | SKIPPED | SKIPPED | +-------------------------------+--------------------+------------------+-------------------------+-------------------+----------------------+ | Arch Linux 20250613.0.365270 | PASS | SKIPPED | SKIPPED | SKIPPED | SKIPPED | +-------------------------------+--------------------+------------------+-------------------------+-------------------+----------------------+ | Windows Server 2022 | SKIPPED | SKIPPED | PASS | PASS | PASS | +-------------------------------+--------------------+------------------+-------------------------+-------------------+----------------------+ CentOS Stream 9 Kernel: 5.15 Compiler: gcc gcc (GCC) 11.5.0 20240719 (Red Hat 11.5.0-11) CentOS Stream 10 Kernel: 5.15 Compiler: gcc gcc (GCC) 14.2.1 20250110 (Red Hat 14.2.1-8) Debian GNU/Linux 12 Kernel: 5.15 Compiler: gcc gcc (Debian 12.2.0-14+deb12u1) 12.2.0 Fedora Linux 42 Kernel: 5.15 Compiler: clang gcc (GCC) 15.2.1 20250808 (Red Hat 15.2.1-1) Ubuntu 20.04 Kernel: 4.19 Compiler: gcc gcc (Ubuntu 9.4.0-1ubuntu1~20.04.2) 9.4.0 openSUSE Leap 15.6 Kernel: 5.15 Compiler: gcc gcc (SUSE Linux) 7.5.0 Red Hat Enterprise Linux 8.10 Kernel: 5.15 Compiler: gcc gcc (GCC) 8.5.0 20210514 (Red Hat 8.5.0-22) FreeBSD 14.2 Kernel: 14.2-RELEASE Compiler: clang 18.1.6 Red Hat Enterprise Linux 9.5 Kernel: 5.15 Compiler: gcc gcc (GCC) 11.5.0 20240719 (Red Hat 11.5.0-2) Ubuntu 22.04 Kernel: 5.15 Compiler: gcc gcc (Ubuntu 11.4.0-1ubuntu1~22.04) 11.4.0 Ubuntu 24.04 Kernel: 5.15 Compiler: gcc gcc (Ubuntu 13.3.0-6ubuntu2~24.04) 13.3.0 Alpine Linux 3.22.0 Kernel: 5.15 Compiler: gcc gcc (Alpine 14.2.0) 14.2.0 Arch Linux 20250613.0.365270 Kernel: 5.15 Compiler: gcc gcc (GCC) 15.1.1 20250425 Windows Server 2022 Kernel: 10.0.20348.2031 Compiler: clang 15.0.7, gcc 14.1.0 (MinGW), and MSVC VS 19.39.33521 To view detailed results, visit: https://lab.dpdk.org/results/dashboard/tarballs/35474/ UNH-IOL DPDK Community Lab To manage your email subscriptions, visit: https://lab.dpdk.org/results/dashboard/preferences/subscriptions/