From mboxrd@z Thu Jan 1 00:00:00 1970 Return-Path: Received: from mails.dpdk.org (mails.dpdk.org [217.70.189.124]) by inbox.dpdk.org (Postfix) with ESMTP id 5D3E648A77 for ; Thu, 6 Nov 2025 03:15:39 +0100 (CET) Received: from mails.dpdk.org (localhost [127.0.0.1]) by mails.dpdk.org (Postfix) with ESMTP id 345064013F; Thu, 6 Nov 2025 03:15:39 +0100 (CET) Received: from mail-yw1-f225.google.com (mail-yw1-f225.google.com [209.85.128.225]) by mails.dpdk.org (Postfix) with ESMTP id DF5194013F for ; Thu, 6 Nov 2025 03:15:37 +0100 (CET) Received: by mail-yw1-f225.google.com with SMTP id 00721157ae682-78682bab930so6483197b3.1 for ; Wed, 05 Nov 2025 18:15:37 -0800 (PST) DKIM-Signature: v=1; a=rsa-sha256; c=relaxed/relaxed; d=iol.unh.edu; s=unh-iol; t=1762395337; x=1763000137; darn=dpdk.org; h=cc:to:from:subject:message-id:date:from:to:cc:subject:date :message-id:reply-to; bh=BIxSaOqc4s5hp29EBnfHj5CSSgXZPgQiY5yGhCMvxMs=; b=g0vljgunJD3LvkoTEj38cH1LUOX18SIlIb9Jshfj4cO2NWX1RFzQhV1a9LEVsdS9Y8 19/LATC0Bu/c5ybeogDM0aEBSN/aFf48NrhrEUjDujNBso6yPjUHI7mnaUN50Fh/TKLc 9CepXK8pCxqEJY7WMKCyNzGfjxKKweg5YqHDM= X-Google-DKIM-Signature: v=1; a=rsa-sha256; c=relaxed/relaxed; d=1e100.net; s=20230601; t=1762395337; x=1763000137; h=cc:to:from:subject:message-id:date:x-gm-gg:x-gm-message-state:from :to:cc:subject:date:message-id:reply-to; bh=BIxSaOqc4s5hp29EBnfHj5CSSgXZPgQiY5yGhCMvxMs=; b=GdOUJd+IAzgqqKKBalf+cxbU9rAcv2ZOUBE1fH+KGcm5s9bsZxFdRaNMVLOZ8ny2TP DTvu7nimoBMGwaT3Gsp3ZnHkil1lL0XqLzmbvRn+P5MzTAVAmUQYzzNv4ob8uiy/xuZM vSGDEkBUdZ2Ajm+nBIPKs86TZ4lmoSXzZy050RCDMcxCRTDEon2y5g2KNiI66Nh8u1mI vXbr93gsJtDvp26lIAJwfCglZVlymo3Fht5zmQYCdKGaaClGcym0C/vrooXoQTmAvaRM Fg1JE4sEFqfaRaTFBWUalsPp5vUwXH3fHiApBy65NYqmhiEex7qPGjc7BjkTvr0PxODp CjsA== X-Gm-Message-State: AOJu0YzqMxeUrhbNXVtVvzm8BjHJe1bFX6aqs7wYjlxx3Jc5QmzOBgWc PlMhHyUWWLnswt3cLRYZH1ri+PzzyWOvY2NPQxG88MtDOHKOTBEWykeEIP1CS/C7DrRr134DR4Z KdeswYDALLJShMOpXMbDlhrgikukhd2VJQsHxp5WuOuGLzGU2AIeXGA41jIMO X-Gm-Gg: ASbGnctIbWot+Q2Z/DXQ36VMB6R4XRveGEHws/5Plub7beNET3kq+0djm81HPzIPrJ1 vLCDOmGBvxEsJS1dUxo/IECXndKdVlM+9MQAhMTB8Kn+i9i1yM7yAkl4bfeA400aeVZV9MRikSs lx8BhPEV2IDrXvtl+chBALri/4qoW7mwjSclc3sBMlOba8+Y1MyvQ09Cog40e4N1Ztr+m8xAq1p gh4Z/IStFb58/dQS3c9CXPB8i2a20ihM7D4EcvqbLfcTsh+NVQsOlLb7Hf2hUnVy/BoiGAcHX4K PVhurzkJ5l4uJxlrPH7E466aB0ApE8uUmZNA3DvjgCIVKJgFohzHawBetpdZLsO9XYjThWRFX/0 nLZfk22oD X-Google-Smtp-Source: AGHT+IHyaR76kQFat0uyZzPvb5CuMsXJ+BUFKmoZQsfQmVSWZcTwbxcOFbWh+SVZy0+yzDKTG3IEZlwPPwJb X-Received: by 2002:a05:690c:6c09:b0:782:9291:493b with SMTP id 00721157ae682-787b14c660fmr15645297b3.32.1762395337211; Wed, 05 Nov 2025 18:15:37 -0800 (PST) Received: from postal.iol.unh.edu (postal.iol.unh.edu. [2606:4100:3880:1234::84]) by smtp-relay.gmail.com with ESMTPS id 00721157ae682-787b1d610dcsm637277b3.28.2025.11.05.18.15.37 (version=TLS1_2 cipher=ECDHE-ECDSA-AES128-GCM-SHA256 bits=128/128); Wed, 05 Nov 2025 18:15:37 -0800 (PST) X-Relaying-Domain: iol.unh.edu Date: Wed, 05 Nov 2025 18:15:37 -0800 (PST) Message-ID: <690c04c9.050a0220.138c4d.37dbSMTPIN_ADDED_MISSING@mx.google.com> Received: from [172.21.0.2] (unknown [172.18.0.240]) by postal.iol.unh.edu (Postfix) with ESMTP id D26C3604D420; Wed, 5 Nov 2025 21:15:36 -0500 (EST) Subject: |SUCCESS| [GIT MASTER] f219e55e51d6bb9f8fcfc5899cfe5752e0bfca93 From: dpdklab@iol.unh.edu To: Test Report Cc: dpdk-test-reports@iol.unh.edu Content-Type: text/plain X-BeenThere: test-report@dpdk.org X-Mailman-Version: 2.1.29 Precedence: list List-Id: automatic DPDK test reports List-Unsubscribe: , List-Archive: List-Post: List-Help: List-Subscribe: , Errors-To: test-report-bounces@dpdk.org _Testing PASS_ Branch: dpdk f219e55e51d6bb9f8fcfc5899cfe5752e0bfca93 --> testing pass Upstream job id: Generic-Unit-Test-DPDK#389169 Test environment and result as below: +-------------------------------+----------------+ | Environment | dpdk_unit_test | +===============================+================+ | CentOS Stream 9 | PASS | +-------------------------------+----------------+ | Arch Linux 20250613.0.365270 | PASS | +-------------------------------+----------------+ | Fedora Linux 40 | PASS | +-------------------------------+----------------+ | CentOS Stream 10 | PASS | +-------------------------------+----------------+ | Debian GNU/Linux 12 | PASS | +-------------------------------+----------------+ | Fedora Linux 41 | PASS | +-------------------------------+----------------+ | Fedora Linux 42 | PASS | +-------------------------------+----------------+ | Ubuntu 20.04 | PASS | +-------------------------------+----------------+ | Red Hat Enterprise Linux 8.10 | PASS | +-------------------------------+----------------+ | Red Hat Enterprise Linux 9.5 | PASS | +-------------------------------+----------------+ | Ubuntu 22.04 | PASS | +-------------------------------+----------------+ | Ubuntu 24.04 | PASS | +-------------------------------+----------------+ | Windows Server 2022 | PASS | +-------------------------------+----------------+ CentOS Stream 9 Kernel: 5.15 Compiler: gcc gcc (GCC) 11.5.0 20240719 (Red Hat 11.5.0-11) Arch Linux 20250613.0.365270 Kernel: 5.15 Compiler: gcc gcc (GCC) 15.1.1 20250425 Fedora Linux 40 Kernel: 5.15 Compiler: gcc gcc (GCC) 14.2.1 20240912 (Red Hat 14.2.1-3) CentOS Stream 10 Kernel: 5.15 Compiler: gcc gcc (GCC) 14.2.1 20250110 (Red Hat 14.2.1-8) Debian GNU/Linux 12 Kernel: 5.15 Compiler: gcc gcc (Debian 12.2.0-14+deb12u1) 12.2.0 Fedora Linux 41 Kernel: 5.15 Compiler: gcc gcc (GCC) 14.3.1 20250523 (Red Hat 14.3.1-1) Fedora Linux 42 Kernel: 5.15 Compiler: clang gcc (GCC) 15.2.1 20250808 (Red Hat 15.2.1-1) Ubuntu 20.04 Kernel: 5.15 Compiler: gcc gcc (Ubuntu 9.4.0-1ubuntu1~20.04.2) 9.4.0 Red Hat Enterprise Linux 8.10 Kernel: 5.15 Compiler: gcc gcc (GCC) 8.5.0 20210514 (Red Hat 8.5.0-22) Red Hat Enterprise Linux 9.5 Kernel: 5.15 Compiler: gcc gcc (GCC) 11.5.0 20240719 (Red Hat 11.5.0-2) Ubuntu 22.04 Kernel: 5.15 Compiler: gcc gcc (Ubuntu 11.4.0-1ubuntu1~22.04) 11.4.0 Ubuntu 24.04 Kernel: 5.15 Compiler: gcc gcc (Ubuntu 13.3.0-6ubuntu2~24.04) 13.3.0 Windows Server 2022 Kernel: 10.0.20348.2031 Compiler: clang 15.0.7, gcc 14.1.0 (MinGW), and MSVC VS 19.39.33521 To view detailed results, visit: https://lab.dpdk.org/results/dashboard/tarballs/35474/ UNH-IOL DPDK Community Lab To manage your email subscriptions, visit: https://lab.dpdk.org/results/dashboard/preferences/subscriptions/