From mboxrd@z Thu Jan 1 00:00:00 1970 Return-Path: Received: from mails.dpdk.org (mails.dpdk.org [217.70.189.124]) by inbox.dpdk.org (Postfix) with ESMTP id 96A3948A78 for ; Thu, 6 Nov 2025 04:17:17 +0100 (CET) Received: from mails.dpdk.org (localhost [127.0.0.1]) by mails.dpdk.org (Postfix) with ESMTP id 92B624013F; Thu, 6 Nov 2025 04:17:17 +0100 (CET) Received: from mail-pl1-f225.google.com (mail-pl1-f225.google.com [209.85.214.225]) by mails.dpdk.org (Postfix) with ESMTP id 570A24013F for ; Thu, 6 Nov 2025 04:17:16 +0100 (CET) Received: by mail-pl1-f225.google.com with SMTP id d9443c01a7336-28e7cd6dbc0so7503725ad.0 for ; Wed, 05 Nov 2025 19:17:16 -0800 (PST) DKIM-Signature: v=1; a=rsa-sha256; c=relaxed/relaxed; d=iol.unh.edu; s=unh-iol; t=1762399035; x=1763003835; darn=dpdk.org; h=references:in-reply-to:cc:to:from:subject:message-id:date:from:to :cc:subject:date:message-id:reply-to; bh=nsSy40qXv0TyVRNKB6Rnf4a0Na6d37rmo0craWt8yTk=; b=TDg0tIu3tPOqqS/F3ELOXI36Z+DqfBqiUCAFwguYHtIgp6UXUN21Lr+1YffZEyX5Oj IreFKk7k1GlTASk5/ANu1T3PTmbMDnFb9ULZCarxQhJKIj86OnyaF8iR5zTtNAmm4VKP 63dLc3rpqVp1LI+rEjbrJP22Nz5+UAlPfpK2Y= X-Google-DKIM-Signature: v=1; a=rsa-sha256; c=relaxed/relaxed; d=1e100.net; s=20230601; t=1762399035; x=1763003835; h=references:in-reply-to:cc:to:from:subject:message-id:date :x-gm-message-state:from:to:cc:subject:date:message-id:reply-to; bh=nsSy40qXv0TyVRNKB6Rnf4a0Na6d37rmo0craWt8yTk=; b=uOKc27UsIUnQJvN8Mc6mEXhVxTdsf9rYvSpB0z9qvWdZ+sUV7Cax9i9FU93WXfupV/ h9xid9I3NhHiN5noulyIOWthj0exMXH7ZLmie412YVz1aZWUV3cjuyS2zTYKQ4IKtnN3 srYnthcEY22eKJypb6ssJsKba7WEottZTym6supp+fIG1g0m7mzNp92NFYUfm6Y9JD+E Iy/K2cblnGbH5xLf3zg5vKhANfxxw18iMjyNkH2oqe9oYS1Z+juV8lGayoJd+LVMSF7p 6YEGd6jhY2S4tzbaiExkOLKRKn4YGqlx5cObwU1PuOnwcNpmYFgWsQotuo9WSdIVsdIb sLsw== X-Gm-Message-State: AOJu0Yy+mDaIYMSDydsljVkwOr+zRvgymZTjwxsow9uTcHzFUSaAcmDA xSOjiG/OV+CTa8rv5VlAJa2hRYZn5oLsYjkslX3RvhiTljdJ7/ZawT8LiCGZ1zkHFzhRSSuc7Q4 1FZdJoYaXzdMiEEFHRG8EaX0x8KaM6Ucvf8M5j+SJLuX1 X-Gm-Gg: ASbGncv+vYHRQvHFX9iWArJ7r/QV5jwKmZXx6fA10d6/0iAI5jKmzXmWqAcaehWSJXf DHN6zcNnIVImow6XGF1TutjyL0D6rJajxBP/EbPDrLTrh9LOXZmfjBRivPBBt1pO5dsWSEtDMuc PZ0D9z2d6I4JzCpVxTBrOFw0O4ioB1i6WslcXLmCwhfT63VjUhFDIfUf3nMsUErSu+0cNkNllkQ 9pddr2lvNV7c47HEaL0HMkO3li9qPQ6NWGgQBf7UByeNFplodASH471iFqeaMzN1i3e5d/ZwWwI yks1FBpBRkFxf+tYmY4MdWL6vsebG8aFf91IhWNiRo3gNRc+QdwFsbwiIjTHtMocFb7U1XmPPCD +qLkrKB8QKeo7TFFzKYRzhXXuZg5lQLU= X-Google-Smtp-Source: AGHT+IGKaN9IvowtbE3X/4mkdyjbJcZh2J8wrnMgW8rL6Xv/lI1Pepmrq3bjjpz3bplY3caYcipbdpsGx0Mq X-Received: by 2002:a17:903:2448:b0:295:6d30:e263 with SMTP id d9443c01a7336-2962adafc02mr79971545ad.40.1762399035511; Wed, 05 Nov 2025 19:17:15 -0800 (PST) Received: from postal.iol.unh.edu (postal.iol.unh.edu. [132.177.123.84]) by smtp-relay.gmail.com with ESMTPS id 98e67ed59e1d1-341a697fd52sm393059a91.8.2025.11.05.19.17.15 (version=TLS1_2 cipher=ECDHE-ECDSA-AES128-GCM-SHA256 bits=128/128); Wed, 05 Nov 2025 19:17:15 -0800 (PST) X-Relaying-Domain: iol.unh.edu Date: Wed, 05 Nov 2025 19:17:15 -0800 (PST) Message-ID: <690c133b.170a0220.2582ae.5346SMTPIN_ADDED_MISSING@mx.google.com> Received: from [172.21.0.3] (unknown [172.18.0.240]) by postal.iol.unh.edu (Postfix) with ESMTP id BCBBC6051830; Wed, 5 Nov 2025 22:17:14 -0500 (EST) Subject: |SUCCESS| pw158467 [PATCH] drivers: add ConnectX-9 device ID From: dpdklab@iol.unh.edu To: Test Report Cc: dpdk-test-reports@iol.unh.edu In-Reply-To: <20251105154418.99211-1-rasland@nvidia.com> References: <20251105154418.99211-1-rasland@nvidia.com> Content-Type: text/plain X-BeenThere: test-report@dpdk.org X-Mailman-Version: 2.1.29 Precedence: list List-Id: automatic DPDK test reports List-Unsubscribe: , List-Archive: List-Post: List-Help: List-Subscribe: , Errors-To: test-report-bounces@dpdk.org Test-Label: iol-unit-arm64-testing Test-Status: SUCCESS http://dpdk.org/patch/158467 _Testing PASS_ Submitter: Raslan Darawsheh Date: Wednesday, November 05 2025 15:44:17 DPDK git baseline: Repo:dpdk Branch: master CommitID:a054de204b0b937dd976d0390fbb03353745e7cb 158467 --> testing pass Upstream job id: Generic-Unit-Test-DPDK#389006 Test environment and result as below: +------------------------------+--------------+---------------------------+------------------------------+----------------+ | Environment | lpm_autotest | cryptodev_sw_zuc_autotest | cryptodev_sw_snow3g_autotest | dpdk_unit_test | +==============================+==============+===========================+==============================+================+ | Ubuntu 20.04 | PASS | SKIPPED | SKIPPED | PASS | +------------------------------+--------------+---------------------------+------------------------------+----------------+ | Debian 12 (arm) | SKIPPED | PASS | PASS | SKIPPED | +------------------------------+--------------+---------------------------+------------------------------+----------------+ | Fedora Linux 40 | SKIPPED | SKIPPED | SKIPPED | PASS | +------------------------------+--------------+---------------------------+------------------------------+----------------+ | CentOS Stream 9 | SKIPPED | SKIPPED | SKIPPED | PASS | +------------------------------+--------------+---------------------------+------------------------------+----------------+ | Debian GNU/Linux 12 | SKIPPED | SKIPPED | SKIPPED | PASS | +------------------------------+--------------+---------------------------+------------------------------+----------------+ | Fedora Linux 42 | SKIPPED | SKIPPED | SKIPPED | PASS | +------------------------------+--------------+---------------------------+------------------------------+----------------+ | Fedora Linux 41 | SKIPPED | SKIPPED | SKIPPED | PASS | +------------------------------+--------------+---------------------------+------------------------------+----------------+ | Ubuntu 24.04 | SKIPPED | SKIPPED | SKIPPED | PASS | +------------------------------+--------------+---------------------------+------------------------------+----------------+ | CentOS Stream 10 | SKIPPED | SKIPPED | SKIPPED | PASS | +------------------------------+--------------+---------------------------+------------------------------+----------------+ | Ubuntu 22.04 | SKIPPED | SKIPPED | SKIPPED | PASS | +------------------------------+--------------+---------------------------+------------------------------+----------------+ | Red Hat Enterprise Linux 9.5 | SKIPPED | SKIPPED | SKIPPED | PASS | +------------------------------+--------------+---------------------------+------------------------------+----------------+ Ubuntu 20.04 Kernel: 5.4 Compiler: gcc gcc (Ubuntu 9.4.0-1ubuntu1~20.04.2) 9.4.0 Debian 12 (arm) Kernel: Depends on container host Compiler: gcc (Debian 12.2.0-14) 12.2.0 Fedora Linux 40 Kernel: 5.4 Compiler: clang gcc (GCC) 14.2.1 20240912 (Red Hat 14.2.1-3) CentOS Stream 9 Kernel: 5.4 Compiler: gcc gcc (GCC) 11.5.0 20240719 (Red Hat 11.5.0-11) Debian GNU/Linux 12 Kernel: 5.4 Compiler: gcc gcc (Debian 12.2.0-14+deb12u1) 12.2.0 Fedora Linux 42 Kernel: 5.4 Compiler: clang gcc (GCC) 15.2.1 20250808 (Red Hat 15.2.1-1) Fedora Linux 41 Kernel: 5.4 Compiler: gcc gcc (GCC) 14.3.1 20250523 (Red Hat 14.3.1-1) Ubuntu 24.04 Kernel: 5.4 Compiler: gcc gcc (Ubuntu 13.3.0-6ubuntu2~24.04) 13.3.0 CentOS Stream 10 Kernel: 5.4 Compiler: gcc gcc (GCC) 14.2.1 20250110 (Red Hat 14.2.1-8) Ubuntu 22.04 Kernel: 5.4 Compiler: gcc gcc (Ubuntu 11.4.0-1ubuntu1~22.04) 11.4.0 Red Hat Enterprise Linux 9.5 Kernel: 5.4 Compiler: gcc gcc (GCC) 11.5.0 20240719 (Red Hat 11.5.0-2) To view detailed results, visit: https://lab.dpdk.org/results/dashboard/patchsets/34476/ UNH-IOL DPDK Community Lab To manage your email subscriptions, visit: https://lab.dpdk.org/results/dashboard/preferences/subscriptions/