From mboxrd@z Thu Jan 1 00:00:00 1970 Return-Path: Received: from mails.dpdk.org (mails.dpdk.org [217.70.189.124]) by inbox.dpdk.org (Postfix) with ESMTP id 9F04C48A78 for ; Thu, 6 Nov 2025 05:41:05 +0100 (CET) Received: from mails.dpdk.org (localhost [127.0.0.1]) by mails.dpdk.org (Postfix) with ESMTP id 7E6264013F; Thu, 6 Nov 2025 05:41:05 +0100 (CET) Received: from mail-io1-f98.google.com (mail-io1-f98.google.com [209.85.166.98]) by mails.dpdk.org (Postfix) with ESMTP id 1E0AD4013F for ; Thu, 6 Nov 2025 05:41:04 +0100 (CET) Received: by mail-io1-f98.google.com with SMTP id ca18e2360f4ac-940d2b701a3so41699139f.0 for ; Wed, 05 Nov 2025 20:41:04 -0800 (PST) DKIM-Signature: v=1; a=rsa-sha256; c=relaxed/relaxed; d=iol.unh.edu; s=unh-iol; t=1762404063; x=1763008863; darn=dpdk.org; h=references:in-reply-to:cc:to:from:subject:message-id:date:from:to :cc:subject:date:message-id:reply-to; bh=wY4gVBIvuXg/HohOI/luefyf4CgxsD1e9QPAULmtJUc=; b=hKV/SlnGqqMbMhA4ec4h30JVYcWMLoUrQfEEnNVIdRoWDXQ3nfGGg1LYG3f+QvMZo9 s6PV0GVw1r+n/nKPbXMxBbr84Lrs9XwJGaD7vXsjssIJxGA8vImbN9e+J4M08ahT7/Kv cNsVMWyZdFmIQGO/bwpnNEZUdD60avjDlrfsU= X-Google-DKIM-Signature: v=1; a=rsa-sha256; c=relaxed/relaxed; d=1e100.net; s=20230601; t=1762404063; x=1763008863; h=references:in-reply-to:cc:to:from:subject:message-id:date :x-gm-message-state:from:to:cc:subject:date:message-id:reply-to; bh=wY4gVBIvuXg/HohOI/luefyf4CgxsD1e9QPAULmtJUc=; b=Y5Qh1kC3nKaBd8kCeKR7LjQb/Yz/4nah4iS8XtdEQY0OiKI++Y4ybiZGvzo6Jjavon yty60tpyx+jwbJLKw/2Xuct8Mmyms9BqzpCx9t13vnd+u+GPotqiMK5goKy/qo0R2SfP +AzWYb2IylteaRBFZipyV8ZN0bOF6bg+AjRNTGoMNFbLXjJ7+upbIr7909jqmBU/nqvV evtLHVqrLvZvZ7bV+fQvDzdak7WUIyXjsSZNdiR419mnvcojMvOzALrCVKoCY2ChcxXz 1C8B/ywAA5x27UJFRAtQlkZSDK6u3rTu6OU94c1A1sfoWwfnAUGrAaunY5Q1Ez0WV+Ur AoRQ== X-Gm-Message-State: AOJu0YzxqYVBqtymnJ+SPzKtP52bKHhhJ3zOoxFSOxalRRi+v2bMzDyL laTxjAUHLOQ95ULXPyRlBZa7F+tzJM+ZtVaWTw6wcesGfAdR4mLiRThtQqlXxtsH+WC00SokA2I CKHYooT7OZ89YLAt+MG7bolPzysinXpTgeoDAIfZ8AyC9X6MjODp0kxAMJ+y5 X-Gm-Gg: ASbGncvCxVyEyHKcXZxNVvuEzxiptdSQfKXncFyUsahY3tugI6GG/fTwhPX5MlKRuPs E5S4eV3gdSz9Z2dhL0w7S78zYD7YIEyXYIW34eHWszugBq0VYV1UIOA9X+3irz3NeQLXHc7lUwc 9Ry7KsfX/6I7ufmch47rRRhKoccJvbNCa4BbNk3xxaj0vuL7CO/B6oBpeK7snahl5bf8sJAfNJ9 yVeUAixF52Vk+XudUbJfqrdivbBeTgK5QyAyyLXrEhfRYgdn8sdOSXBb9idjKFbL0x3pksTHqnc jHKd0vlyDVE2PrNRhietbh0dkWPOpp+ulIZz0s0T5psczOjLGUjJWSyqHhjg3hReIwpv3Bx7F/b 3FWrqLCoV X-Google-Smtp-Source: AGHT+IG6zdXi8sMnBrxMuWvX2SaO96HpubHksI8yl0eMHJ+Mn/u2uES1gGj1NoeBBk06Day+yByA/+IWotVf X-Received: by 2002:a05:6602:3fd2:b0:892:f398:591 with SMTP id ca18e2360f4ac-94869ca2847mr967186039f.2.1762404063311; Wed, 05 Nov 2025 20:41:03 -0800 (PST) Received: from postal.iol.unh.edu (postal.iol.unh.edu. [2606:4100:3880:1234::84]) by smtp-relay.gmail.com with ESMTPS id 8926c6da1cb9f-5b746872d0asm157860173.24.2025.11.05.20.41.03 (version=TLS1_2 cipher=ECDHE-ECDSA-AES128-GCM-SHA256 bits=128/128); Wed, 05 Nov 2025 20:41:03 -0800 (PST) X-Relaying-Domain: iol.unh.edu Date: Wed, 05 Nov 2025 20:41:03 -0800 (PST) Message-ID: <690c26df.050a0220.1bfd14.86c2SMTPIN_ADDED_MISSING@mx.google.com> Received: from [172.21.0.2] (unknown [172.18.0.240]) by postal.iol.unh.edu (Postfix) with ESMTP id A12556051830; Wed, 5 Nov 2025 23:41:02 -0500 (EST) Subject: |SUCCESS| pw158468-158472 [PATCH] [v2,5/5] net/mlx5: support count a From: dpdklab@iol.unh.edu To: Test Report Cc: dpdk-test-reports@iol.unh.edu In-Reply-To: <20251105165258.1396352-6-dsosnowski@nvidia.com> References: <20251105165258.1396352-6-dsosnowski@nvidia.com> Content-Type: text/plain X-BeenThere: test-report@dpdk.org X-Mailman-Version: 2.1.29 Precedence: list List-Id: automatic DPDK test reports List-Unsubscribe: , List-Archive: List-Post: List-Help: List-Subscribe: , Errors-To: test-report-bounces@dpdk.org Test-Label: iol-unit-arm64-testing Test-Status: SUCCESS http://dpdk.org/patch/158472 _Testing PASS_ Submitter: Dariusz Sosnowski Date: Wednesday, November 05 2025 16:52:58 DPDK git baseline: Repo:dpdk-next-net-mlx Branch: master CommitID:f1c1f82f2421be9ac2f46b4ec2a616ca28da4ca7 158468-158472 --> testing pass Upstream job id: Generic-Unit-Test-DPDK#389040 Test environment and result as below: +------------------------------+--------------+------------------------------+---------------------------+----------------+ | Environment | lpm_autotest | cryptodev_sw_snow3g_autotest | cryptodev_sw_zuc_autotest | dpdk_unit_test | +==============================+==============+==============================+===========================+================+ | Ubuntu 20.04 | PASS | SKIPPED | SKIPPED | PASS | +------------------------------+--------------+------------------------------+---------------------------+----------------+ | Debian 12 (arm) | SKIPPED | PASS | PASS | SKIPPED | +------------------------------+--------------+------------------------------+---------------------------+----------------+ | Debian GNU/Linux 12 | SKIPPED | SKIPPED | SKIPPED | PASS | +------------------------------+--------------+------------------------------+---------------------------+----------------+ | Ubuntu 22.04 | SKIPPED | SKIPPED | SKIPPED | PASS | +------------------------------+--------------+------------------------------+---------------------------+----------------+ | CentOS Stream 9 | SKIPPED | SKIPPED | SKIPPED | PASS | +------------------------------+--------------+------------------------------+---------------------------+----------------+ | CentOS Stream 10 | SKIPPED | SKIPPED | SKIPPED | PASS | +------------------------------+--------------+------------------------------+---------------------------+----------------+ | Fedora Linux 40 | SKIPPED | SKIPPED | SKIPPED | PASS | +------------------------------+--------------+------------------------------+---------------------------+----------------+ | Fedora Linux 41 | SKIPPED | SKIPPED | SKIPPED | PASS | +------------------------------+--------------+------------------------------+---------------------------+----------------+ | Red Hat Enterprise Linux 9.5 | SKIPPED | SKIPPED | SKIPPED | PASS | +------------------------------+--------------+------------------------------+---------------------------+----------------+ | Fedora Linux 42 | SKIPPED | SKIPPED | SKIPPED | PASS | +------------------------------+--------------+------------------------------+---------------------------+----------------+ | Ubuntu 24.04 | SKIPPED | SKIPPED | SKIPPED | PASS | +------------------------------+--------------+------------------------------+---------------------------+----------------+ Ubuntu 20.04 Kernel: 5.4 Compiler: gcc gcc (Ubuntu 9.4.0-1ubuntu1~20.04.2) 9.4.0 Debian 12 (arm) Kernel: Depends on container host Compiler: gcc (Debian 12.2.0-14) 12.2.0 Debian GNU/Linux 12 Kernel: 5.4 Compiler: gcc gcc (Debian 12.2.0-14+deb12u1) 12.2.0 Ubuntu 22.04 Kernel: 5.15 Compiler: gcc gcc (Ubuntu 11.4.0-1ubuntu1~22.04.2) 11.4.0 CentOS Stream 9 Kernel: 5.4 Compiler: gcc gcc (GCC) 11.5.0 20240719 (Red Hat 11.5.0-11) CentOS Stream 10 Kernel: 5.4 Compiler: gcc gcc (GCC) 14.2.1 20250110 (Red Hat 14.2.1-8) Fedora Linux 40 Kernel: 5.4 Compiler: clang gcc (GCC) 14.2.1 20240912 (Red Hat 14.2.1-3) Fedora Linux 41 Kernel: 5.4 Compiler: gcc gcc (GCC) 14.3.1 20250523 (Red Hat 14.3.1-1) Red Hat Enterprise Linux 9.5 Kernel: 5.4 Compiler: gcc gcc (GCC) 11.5.0 20240719 (Red Hat 11.5.0-2) Fedora Linux 42 Kernel: 5.4 Compiler: gcc gcc (GCC) 15.2.1 20250808 (Red Hat 15.2.1-1) Ubuntu 24.04 Kernel: 5.4 Compiler: gcc gcc (Ubuntu 13.3.0-6ubuntu2~24.04) 13.3.0 To view detailed results, visit: https://lab.dpdk.org/results/dashboard/patchsets/34477/ UNH-IOL DPDK Community Lab To manage your email subscriptions, visit: https://lab.dpdk.org/results/dashboard/preferences/subscriptions/