From mboxrd@z Thu Jan 1 00:00:00 1970 Return-Path: Received: from mails.dpdk.org (mails.dpdk.org [217.70.189.124]) by inbox.dpdk.org (Postfix) with ESMTP id AEC1948A79 for ; Thu, 6 Nov 2025 06:29:30 +0100 (CET) Received: from mails.dpdk.org (localhost [127.0.0.1]) by mails.dpdk.org (Postfix) with ESMTP id A84CE4013F; Thu, 6 Nov 2025 06:29:30 +0100 (CET) Received: from mail-pf1-f228.google.com (mail-pf1-f228.google.com [209.85.210.228]) by mails.dpdk.org (Postfix) with ESMTP id 96A544013F for ; Thu, 6 Nov 2025 06:29:29 +0100 (CET) Received: by mail-pf1-f228.google.com with SMTP id d2e1a72fcca58-7a1603a098eso381624b3a.1 for ; Wed, 05 Nov 2025 21:29:29 -0800 (PST) DKIM-Signature: v=1; a=rsa-sha256; c=relaxed/relaxed; d=iol.unh.edu; s=unh-iol; t=1762406969; x=1763011769; darn=dpdk.org; h=cc:to:from:subject:message-id:date:from:to:cc:subject:date :message-id:reply-to; bh=9KRhmcS3fLzR6FBX7ePjUdBO6K/S1g+g4I52xLN/V5U=; b=Jhp/I54P7ojJXiN7cxopWUbSvV85vZUqiBtrBi1+L4OuQ5Wnu/tgh+StiXtGxhDZr5 j2iDGZZEHsht3aDgVQUGueBVpcYEfHhWcZm4VtmJ9v52g1N/RvkxpoatNiJgTLDWbZNG tRS0GDDVvK67l41P9Q00UjNsQmx9ueQINswPw= X-Google-DKIM-Signature: v=1; a=rsa-sha256; c=relaxed/relaxed; d=1e100.net; s=20230601; t=1762406969; x=1763011769; h=cc:to:from:subject:message-id:date:x-gm-message-state:from:to:cc :subject:date:message-id:reply-to; bh=9KRhmcS3fLzR6FBX7ePjUdBO6K/S1g+g4I52xLN/V5U=; b=eVm/HBZJP8sLnXHUlxNI0otjpALMrh0B+8Y07OhaZOOeG1iroj+IuzbaelBtRj12Or sw5FG5EA41CQLIkoVWXBxlBwe7FT+0qDAqUn/5Pr0ImH7+CaBMqCArxziwOG+nyOJvyR O05gGU9EKjCTuZsg1neG8WIkIth3wK8D4HW+tZ0Q420XteheXBWu7fHnplA9tbv3gO+n LS9/CQn8zWDkSv2M9xa4/DV8226WZUx34lvvv3u9AOVKTxQcpYSOE4L8/nB3qVXbvnVs Q0ClP+1q8u99TjCkR66bqDpdkcRbGNxEPg1kRN1PE9HglSFlMidGTtyJnbB8EKAX5BnP Em0w== X-Gm-Message-State: AOJu0YwdBWRQk+Yu2KaxPO0oJngSCTGtvk43ZV/z/x75q4kQowvR5wRy xV4yyGvQpY2yfmtwHsuWPfplH1V4KeeY2DyzD6iFg4hDmOmJbcISgZ4CFaJRQqVh7MajE3yF17+ OlsqhEebKJg0kpj9hzd1yB738DWCbcSJy1ubB X-Gm-Gg: ASbGnctbYyxqTsKsT7qO4V0uWx67O5UJymHKDNFrBQ7/WLgnoB4ldrTCTVh+sEIM6RQ Z5IwA10LeFb8j6AmmH35LNZotVLktYi2d7kycF0w9B3Ithtt/owOBc05A6GdHAbpx6q5Ak4/4Ms gtzyMub74ZjPxBMI8BVUIusswISFhZAUXKnU/t4Lx+cla5VGKayZv4ZDQ7Y2PIoO/o49aXzSfEg dfN7TjIU3s5X5yI6CLhX1TA1rCAXhSuf+eVRNKR02B2ybVewamQDXm/3YqroLvl3WkQpmvB4v0E Pn7xjRzEqDnWKobPVlnMufgyxOF4w+H3lSwJQcs/KeojkD33QpDE7L4bRPNOPL7yQihfAjqF+An oz4o3ndxWhQ51o1PBsEh131vBxqRR3l8= X-Google-Smtp-Source: AGHT+IFpzyIKrBzGwP84QMiz9Ji0LBYEl8fOX0M51brpDL9umZKLDncZ6hBZZJEGHQ0QWQXjgqNTpkQfeU+V X-Received: by 2002:a05:6a00:230b:b0:7a2:81fe:b742 with SMTP id d2e1a72fcca58-7ae1d63f297mr8168776b3a.12.1762406968761; Wed, 05 Nov 2025 21:29:28 -0800 (PST) Received: from postal.iol.unh.edu (postal.iol.unh.edu. [132.177.123.84]) by smtp-relay.gmail.com with ESMTPS id d2e1a72fcca58-7af80046cf5sm125658b3a.5.2025.11.05.21.29.28 (version=TLS1_2 cipher=ECDHE-ECDSA-AES128-GCM-SHA256 bits=128/128); Wed, 05 Nov 2025 21:29:28 -0800 (PST) X-Relaying-Domain: iol.unh.edu Date: Wed, 05 Nov 2025 21:29:28 -0800 (PST) Message-ID: <690c3238.050a0220.388b40.6897SMTPIN_ADDED_MISSING@mx.google.com> Received: from [172.21.0.5] (unknown [172.18.0.240]) by postal.iol.unh.edu (Postfix) with ESMTP id 078986051830; Thu, 6 Nov 2025 00:29:28 -0500 (EST) Subject: |SUCCESS| [GIT MASTER] 62f583c49bf67dd4d6733ece14e55fe6839e66d1 From: dpdklab@iol.unh.edu To: Test Report Cc: dpdk-test-reports@iol.unh.edu, Xueming Li , Christian Ehrhardt , Kevin Traynor , Luca Boccassi Content-Type: text/plain X-BeenThere: test-report@dpdk.org X-Mailman-Version: 2.1.29 Precedence: list List-Id: automatic DPDK test reports List-Unsubscribe: , List-Archive: List-Post: List-Help: List-Subscribe: , Errors-To: test-report-bounces@dpdk.org _Testing PASS_ Branch: tags/v23.11 62f583c49bf67dd4d6733ece14e55fe6839e66d1 --> testing pass Upstream job id: Generic-VM-DPDK-Compile-Meson#39527 Test environment and result as below: +---------------------+--------------------+-------------------+ | Environment | dpdk_meson_compile | dpdk_msvc_compile | +=====================+====================+===================+ | Ubuntu 20.04 | PASS | SKIPPED | +---------------------+--------------------+-------------------+ | FreeBSD 14.2 | PASS | SKIPPED | +---------------------+--------------------+-------------------+ | Windows Server 2022 | SKIPPED | PASS | +---------------------+--------------------+-------------------+ Ubuntu 20.04 Kernel: 4.19 Compiler: gcc gcc (Ubuntu 9.4.0-1ubuntu1~20.04.2) 9.4.0 FreeBSD 14.2 Kernel: 14.2-RELEASE Compiler: clang 18.1.6 Windows Server 2022 Kernel: 10.0.20348.2031 Compiler: clang 15.0.7, gcc 14.1.0 (MinGW), and MSVC VS 19.39.33521 To view detailed results, visit: https://lab.dpdk.org/results/dashboard/tarballs/35477/ UNH-IOL DPDK Community Lab To manage your email subscriptions, visit: https://lab.dpdk.org/results/dashboard/preferences/subscriptions/