From mboxrd@z Thu Jan 1 00:00:00 1970 Return-Path: Received: from mails.dpdk.org (mails.dpdk.org [217.70.189.124]) by inbox.dpdk.org (Postfix) with ESMTP id AF82648A79 for ; Thu, 6 Nov 2025 07:30:58 +0100 (CET) Received: from mails.dpdk.org (localhost [127.0.0.1]) by mails.dpdk.org (Postfix) with ESMTP id AA9704013F; Thu, 6 Nov 2025 07:30:58 +0100 (CET) Received: from mail-pl1-f226.google.com (mail-pl1-f226.google.com [209.85.214.226]) by mails.dpdk.org (Postfix) with ESMTP id 56F704013F for ; Thu, 6 Nov 2025 07:30:57 +0100 (CET) Received: by mail-pl1-f226.google.com with SMTP id d9443c01a7336-29568d93e87so6321225ad.2 for ; Wed, 05 Nov 2025 22:30:57 -0800 (PST) DKIM-Signature: v=1; a=rsa-sha256; c=relaxed/relaxed; d=iol.unh.edu; s=unh-iol; t=1762410656; x=1763015456; darn=dpdk.org; h=references:in-reply-to:cc:to:from:subject:message-id:date:from:to :cc:subject:date:message-id:reply-to; bh=P0PM5gYI++pDJ5bU1+MpZJ+BzSBdQwL+Ktmk8BT+Jmk=; b=C/mXpVJ4R4O/IniOoSIA4yhrFnM8QNrH9ikzA8VuZ80Dx8ub3HXEp5ubSbovFXznSj qCVPfp3Mie7DMIPee9DrAYw6b1pAU4XS5H+g+nLZgUHMgvLGX4iES2hhWKuNLN7ZBGti EI0nMjLMvMyEitzitINteDjbSTNNVnzj+rfTY= X-Google-DKIM-Signature: v=1; a=rsa-sha256; c=relaxed/relaxed; d=1e100.net; s=20230601; t=1762410656; x=1763015456; h=references:in-reply-to:cc:to:from:subject:message-id:date :x-gm-message-state:from:to:cc:subject:date:message-id:reply-to; bh=P0PM5gYI++pDJ5bU1+MpZJ+BzSBdQwL+Ktmk8BT+Jmk=; b=xIji+pHLC+khv6zurCKGy+JISq7D9URB8ZkKeipJVrTwtwU/s1DxsPZQPR9eLnJJHB wzZ/zNJQ3qyETY8wfy7P/9BsT7jdisYwa44VxRkLud2ed/30gt8mvxaDxlsAej3qTS5q OWjOwVBrpvTyUw7kSw5O5vx9TNVSBwhUvAELkM6m2i6St1HiwZ0ubNJk8SukozqonCT8 C/fpgWzFRKgBJeHCwh7WimgjqNc+NqAxJTyduI1j2rEZK/WI4+LT7IGXykXf1mTGcF7i h72AlwSCeNu9Od7YoU4tBcQa/UhzvIj2doi7v1pYhp4KlBm19Eyx3Dq2C/RilYVgbnTT lwDQ== X-Gm-Message-State: AOJu0Yy4T7NGgEOZa00+64oDGjwYP6FFzIOfqut6Xppfmi5lj76gOuUf P0qrqGPYJZCOX4CYDxlFurMJR10Gm4kkiNnLNkyhYdAEj8l9DMuNs1+XMs7oKmZXwJWFOc1Bu0W FQ655RbWX5hskKexBDzMeRYmq9usXMMVyd4fxF+t/fQfKvtnL0ebtcxJiZkHz X-Gm-Gg: ASbGncsFbpncryl39+JduolMhxPIkdYPzpYaRH9gn8fmFAItQ0MzxwH3f588RZ/zfMh CwHIdGUj41h080ax45Fpn3qO0J1nLInLPSFCaYMKdDOA9IUajn8A9o5jg0UAcCkHvNLYCrld9Fs xeXIijGPyed7OuK5o1hHy9eZuzr06KduX6KelV1l9XHUiGUsr2CQ8uHzDrNo+FEhUC6Xu27p3Uo KJ/13eR78wlh7PVl4+XB6lw24BdE/e0NATXIo3VMTh+BZ2So3bgEmJgsjAdM6naqSrzrFMQg52u /iSDrQ9lzcBFVjWthrR+BT5+L7C6oQezZdP4LZAs8h6saEY1K/CUMXPQF+Hi+j7be0aFwuifcC/ hnm69qrDM X-Google-Smtp-Source: AGHT+IHKbRQPUJ4PUYegI6YKYLyK/6kMOcONgoOuLYAmvJaBW8d/Q30tBmI3OIoaUvgZIyTS1RVTgjUQqR2w X-Received: by 2002:a17:903:1ac6:b0:290:dd1f:3d60 with SMTP id d9443c01a7336-2962ae676e7mr73706865ad.51.1762410656431; Wed, 05 Nov 2025 22:30:56 -0800 (PST) Received: from postal.iol.unh.edu (postal.iol.unh.edu. [2606:4100:3880:1234::84]) by smtp-relay.gmail.com with ESMTPS id d9443c01a7336-29651cbffacsm1408535ad.60.2025.11.05.22.30.56 (version=TLS1_2 cipher=ECDHE-ECDSA-AES128-GCM-SHA256 bits=128/128); Wed, 05 Nov 2025 22:30:56 -0800 (PST) X-Relaying-Domain: iol.unh.edu Date: Wed, 05 Nov 2025 22:30:56 -0800 (PST) Message-ID: <690c40a0.170a0220.4db82.75dfSMTPIN_ADDED_MISSING@mx.google.com> Received: from [172.21.0.2] (unknown [172.18.0.240]) by postal.iol.unh.edu (Postfix) with ESMTP id E2E436051830; Thu, 6 Nov 2025 01:30:55 -0500 (EST) Subject: |SUCCESS| pw158475-158476 [PATCH] [v3,2/2] net/mlx5: support PF repr From: dpdklab@iol.unh.edu To: Test Report Cc: dpdk-test-reports@iol.unh.edu, Stephen Hemminger In-Reply-To: <20251105174839.323085-2-getelson@nvidia.com> References: <20251105174839.323085-2-getelson@nvidia.com> Content-Type: text/plain X-BeenThere: test-report@dpdk.org X-Mailman-Version: 2.1.29 Precedence: list List-Id: automatic DPDK test reports List-Unsubscribe: , List-Archive: List-Post: List-Help: List-Subscribe: , Errors-To: test-report-bounces@dpdk.org Test-Label: iol-unit-arm64-testing Test-Status: SUCCESS http://dpdk.org/patch/158476 _Testing PASS_ Submitter: Gregory Etelson Date: Wednesday, November 05 2025 17:48:38 DPDK git baseline: Repo:dpdk-next-net Branch: master CommitID:538052bb364db22ba8cc08b5e23a9e6d25a864a9 158475-158476 --> testing pass Upstream job id: Generic-Unit-Test-DPDK#389079 Test environment and result as below: +------------------------------+----------------+--------------+------------------------------+---------------------------+ | Environment | dpdk_unit_test | lpm_autotest | cryptodev_sw_snow3g_autotest | cryptodev_sw_zuc_autotest | +==============================+================+==============+==============================+===========================+ | Ubuntu 22.04 | PASS | SKIPPED | SKIPPED | SKIPPED | +------------------------------+----------------+--------------+------------------------------+---------------------------+ | Fedora Linux 40 | PASS | SKIPPED | SKIPPED | SKIPPED | +------------------------------+----------------+--------------+------------------------------+---------------------------+ | Fedora Linux 42 | PASS | SKIPPED | SKIPPED | SKIPPED | +------------------------------+----------------+--------------+------------------------------+---------------------------+ | Debian GNU/Linux 12 | PASS | SKIPPED | SKIPPED | SKIPPED | +------------------------------+----------------+--------------+------------------------------+---------------------------+ | Ubuntu 20.04 | PASS | PASS | SKIPPED | SKIPPED | +------------------------------+----------------+--------------+------------------------------+---------------------------+ | Red Hat Enterprise Linux 9.5 | PASS | SKIPPED | SKIPPED | SKIPPED | +------------------------------+----------------+--------------+------------------------------+---------------------------+ | Fedora Linux 41 | PASS | SKIPPED | SKIPPED | SKIPPED | +------------------------------+----------------+--------------+------------------------------+---------------------------+ | CentOS Stream 10 | PASS | SKIPPED | SKIPPED | SKIPPED | +------------------------------+----------------+--------------+------------------------------+---------------------------+ | Ubuntu 24.04 | PASS | SKIPPED | SKIPPED | SKIPPED | +------------------------------+----------------+--------------+------------------------------+---------------------------+ | CentOS Stream 9 | PASS | SKIPPED | SKIPPED | SKIPPED | +------------------------------+----------------+--------------+------------------------------+---------------------------+ | Debian 12 (arm) | SKIPPED | SKIPPED | PASS | PASS | +------------------------------+----------------+--------------+------------------------------+---------------------------+ Ubuntu 22.04 Kernel: 5.15 Compiler: gcc gcc (Ubuntu 11.4.0-1ubuntu1~22.04.2) 11.4.0 Fedora Linux 40 Kernel: 5.4 Compiler: clang gcc (GCC) 14.2.1 20240912 (Red Hat 14.2.1-3) Fedora Linux 42 Kernel: 5.4 Compiler: gcc gcc (GCC) 15.2.1 20250808 (Red Hat 15.2.1-1) Debian GNU/Linux 12 Kernel: 5.4 Compiler: gcc gcc (Debian 12.2.0-14+deb12u1) 12.2.0 Ubuntu 20.04 Kernel: 5.4 Compiler: gcc gcc (Ubuntu 9.4.0-1ubuntu1~20.04.2) 9.4.0 Red Hat Enterprise Linux 9.5 Kernel: 5.4 Compiler: gcc gcc (GCC) 11.5.0 20240719 (Red Hat 11.5.0-2) Fedora Linux 41 Kernel: 5.4 Compiler: clang gcc (GCC) 14.3.1 20250523 (Red Hat 14.3.1-1) CentOS Stream 10 Kernel: 5.4 Compiler: gcc gcc (GCC) 14.2.1 20250110 (Red Hat 14.2.1-8) Ubuntu 24.04 Kernel: 5.4 Compiler: gcc gcc (Ubuntu 13.3.0-6ubuntu2~24.04) 13.3.0 CentOS Stream 9 Kernel: 5.4 Compiler: gcc gcc (GCC) 11.5.0 20240719 (Red Hat 11.5.0-11) Debian 12 (arm) Kernel: Depends on container host Compiler: gcc (Debian 12.2.0-14) 12.2.0 To view detailed results, visit: https://lab.dpdk.org/results/dashboard/patchsets/34479/ UNH-IOL DPDK Community Lab To manage your email subscriptions, visit: https://lab.dpdk.org/results/dashboard/preferences/subscriptions/