From mboxrd@z Thu Jan 1 00:00:00 1970 Return-Path: Received: from mails.dpdk.org (mails.dpdk.org [217.70.189.124]) by inbox.dpdk.org (Postfix) with ESMTP id 4341748A79 for ; Thu, 6 Nov 2025 07:36:23 +0100 (CET) Received: from mails.dpdk.org (localhost [127.0.0.1]) by mails.dpdk.org (Postfix) with ESMTP id 21B4C4013F; Thu, 6 Nov 2025 07:36:23 +0100 (CET) Received: from mail-pg1-f228.google.com (mail-pg1-f228.google.com [209.85.215.228]) by mails.dpdk.org (Postfix) with ESMTP id ED1D74013F for ; Thu, 6 Nov 2025 07:36:21 +0100 (CET) Received: by mail-pg1-f228.google.com with SMTP id 41be03b00d2f7-b98a619f020so557300a12.2 for ; Wed, 05 Nov 2025 22:36:21 -0800 (PST) DKIM-Signature: v=1; a=rsa-sha256; c=relaxed/relaxed; d=iol.unh.edu; s=unh-iol; t=1762410981; x=1763015781; darn=dpdk.org; h=cc:to:from:subject:message-id:date:from:to:cc:subject:date :message-id:reply-to; bh=HCddTzV43WYm2cU6M52LTBW/cJA3nCSGUDwxmbuh2tE=; b=WtzoBjmjds5UMmS8pRtJqLVYXwloBqUC5StemHByvVyzq5ZjssFtU9wDWk2QKei96K PRv2GGbBArZ1p0h4ppmHCbMSZnmbS5m07euAWDEEJB+Dk0MoSCEodzLbR64Z3nZzXHvB ryXZnqYMK/gN9lY5o4gJdt37k1s3T46tEQfz0= X-Google-DKIM-Signature: v=1; a=rsa-sha256; c=relaxed/relaxed; d=1e100.net; s=20230601; t=1762410981; x=1763015781; h=cc:to:from:subject:message-id:date:x-gm-message-state:from:to:cc :subject:date:message-id:reply-to; bh=HCddTzV43WYm2cU6M52LTBW/cJA3nCSGUDwxmbuh2tE=; b=keVU0BmjnD8rD2P/eFFEMsOvLIyyJxwUfdXCxR2HttOTgFsRCQ8vX5X4dUNk12puTi pgUNeZ4lI8e7Lt8PVCaaUYekTuw0rgR0/YtQgRxoQEPsnjD09Rbo0w1MJhGA/G6NBuI/ +jcXH3+wwji8FWiT4AeRoTZ5NKdVzsbyG2S5im7aU7FgF64nn0KJu3Pfwr9XnJmr9WUf OHPfkSmH4u36ib+TI9WV5G/iJlARoO2AbSoP7789pBcwC57LaqborVT5m6+I6oXkZurB V82t1v9VPb+rxFLgi5AEk3xeiDPeuB3+ihOUNhidIL+i90m72p2VcauqCc3bmyr4ZvUf HVRA== X-Gm-Message-State: AOJu0YyFj5mw1T89AQUistfpU4fvL72AY9hWfFIdN05Z0rsx16Q1JpuT kAn1p99MxWyisf2Hcd0F7xnwqqsqOc++q/w/w8FizhDMDVBHIP8CRCT0ia8/Mco9Hqie2ah9OOq 9SmeWkMKeHm18D5IqNCBQJpeOGrzK7UfqF2e0 X-Gm-Gg: ASbGncu9pyST02Kk+8xE6uluUQw5r3XjyL6YHZCmkqZADEgS0qbYXjtN5MktEYlY0hB ZHj/RxGDWTLlbUbUU7MK1WBTJP03ra0dPiN5NifWbIl063oNNFSPpzyKn5JkKB0QnOO2o6yTrnN G8tpEk781xe0oh0MfkvpaRLCX71ZwGZTGxCgulWUw6z+hfNg3+EJe+u4+RQjm2J/z0vO9R/3ghU GlePduNXrG2N2/AWbbLg0psLTIyr8ZfKd6n0+bLuVB+pAMMMB7gBj0xroKzElv3LWcS0qgSANXM uJmw3VhrdoeHH486sdRZgZlembtTauXxfWY4HXvfGnfhFpphBxwEJ8o/ayi8/RY6KoouMwwx2Uf x1IIB6kgMOSRSlt7WkjyYdzLgYpdAmsU= X-Google-Smtp-Source: AGHT+IFLwZ1sc+WOq6LzOURIg16sBsVIRELUPi2VbfoKsU3j1NrEiYh5hV+4+3vbYYCZeFXQxW7rAAHYFWWG X-Received: by 2002:a17:902:f609:b0:295:2cb6:f4a8 with SMTP id d9443c01a7336-2962adb2635mr76216565ad.51.1762410980970; Wed, 05 Nov 2025 22:36:20 -0800 (PST) Received: from postal.iol.unh.edu (postal.iol.unh.edu. [132.177.123.84]) by smtp-relay.gmail.com with ESMTPS id d9443c01a7336-29651cc6766sm1503895ad.66.2025.11.05.22.36.20 (version=TLS1_2 cipher=ECDHE-ECDSA-AES128-GCM-SHA256 bits=128/128); Wed, 05 Nov 2025 22:36:20 -0800 (PST) X-Relaying-Domain: iol.unh.edu Date: Wed, 05 Nov 2025 22:36:20 -0800 (PST) Message-ID: <690c41e4.170a0220.34358a.7ca2SMTPIN_ADDED_MISSING@mx.google.com> Received: from [172.21.0.2] (unknown [172.18.0.240]) by postal.iol.unh.edu (Postfix) with ESMTP id 1A3916051830; Thu, 6 Nov 2025 01:36:20 -0500 (EST) Subject: |SUCCESS| [GIT MASTER] 0bd935abcb823f581ce53986986aa54eaf6f8140 From: dpdklab@iol.unh.edu To: Test Report Cc: dpdk-test-reports@iol.unh.edu, Xueming Li , Christian Ehrhardt , Kevin Traynor , Luca Boccassi Content-Type: text/plain X-BeenThere: test-report@dpdk.org X-Mailman-Version: 2.1.29 Precedence: list List-Id: automatic DPDK test reports List-Unsubscribe: , List-Archive: List-Post: List-Help: List-Subscribe: , Errors-To: test-report-bounces@dpdk.org _Testing PASS_ Branch: tags/v24.11 0bd935abcb823f581ce53986986aa54eaf6f8140 --> testing pass Upstream job id: Generic-DPDK-Compile-Meson#441333 Test environment and result as below: +-------------------------------+--------------------+------------------+-------------------+-------------------------+----------------------+ | Environment | dpdk_meson_compile | dpdk_compile_ovs | dpdk_msvc_compile | dpdk_llvm_clang_compile | dpdk_mingw64_compile | +===============================+====================+==================+===================+=========================+======================+ | Ubuntu 20.04 | PASS | SKIPPED | SKIPPED | SKIPPED | SKIPPED | +-------------------------------+--------------------+------------------+-------------------+-------------------------+----------------------+ | CentOS Stream 9 | PASS | SKIPPED | SKIPPED | SKIPPED | SKIPPED | +-------------------------------+--------------------+------------------+-------------------+-------------------------+----------------------+ | CentOS Stream 10 | PASS | SKIPPED | SKIPPED | SKIPPED | SKIPPED | +-------------------------------+--------------------+------------------+-------------------+-------------------------+----------------------+ | Debian GNU/Linux 12 | PASS | SKIPPED | SKIPPED | SKIPPED | SKIPPED | +-------------------------------+--------------------+------------------+-------------------+-------------------------+----------------------+ | Fedora Linux 42 | PASS | PASS | SKIPPED | SKIPPED | SKIPPED | +-------------------------------+--------------------+------------------+-------------------+-------------------------+----------------------+ | openSUSE Leap 15.6 | PASS | SKIPPED | SKIPPED | SKIPPED | SKIPPED | +-------------------------------+--------------------+------------------+-------------------+-------------------------+----------------------+ | Red Hat Enterprise Linux 8.10 | PASS | SKIPPED | SKIPPED | SKIPPED | SKIPPED | +-------------------------------+--------------------+------------------+-------------------+-------------------------+----------------------+ | Red Hat Enterprise Linux 9.5 | PASS | SKIPPED | SKIPPED | SKIPPED | SKIPPED | +-------------------------------+--------------------+------------------+-------------------+-------------------------+----------------------+ | Ubuntu 22.04 | PASS | SKIPPED | SKIPPED | SKIPPED | SKIPPED | +-------------------------------+--------------------+------------------+-------------------+-------------------------+----------------------+ | Ubuntu 24.04 | PASS | PASS | SKIPPED | SKIPPED | SKIPPED | +-------------------------------+--------------------+------------------+-------------------+-------------------------+----------------------+ | Alpine Linux 3.22.0 | PASS | SKIPPED | SKIPPED | SKIPPED | SKIPPED | +-------------------------------+--------------------+------------------+-------------------+-------------------------+----------------------+ | FreeBSD 14.2 | PASS | SKIPPED | SKIPPED | SKIPPED | SKIPPED | +-------------------------------+--------------------+------------------+-------------------+-------------------------+----------------------+ | Windows Server 2022 | SKIPPED | SKIPPED | PASS | PASS | PASS | +-------------------------------+--------------------+------------------+-------------------+-------------------------+----------------------+ Ubuntu 20.04 Kernel: 4.19 Compiler: gcc gcc (Ubuntu 9.4.0-1ubuntu1~20.04.2) 9.4.0 CentOS Stream 9 Kernel: 5.15 Compiler: gcc gcc (GCC) 11.5.0 20240719 (Red Hat 11.5.0-11) CentOS Stream 10 Kernel: 5.15 Compiler: gcc gcc (GCC) 14.2.1 20250110 (Red Hat 14.2.1-8) Debian GNU/Linux 12 Kernel: 5.15 Compiler: gcc gcc (Debian 12.2.0-14+deb12u1) 12.2.0 Fedora Linux 42 Kernel: 5.15 Compiler: gcc gcc (GCC) 15.2.1 20250808 (Red Hat 15.2.1-1) openSUSE Leap 15.6 Kernel: 5.15 Compiler: gcc gcc (SUSE Linux) 7.5.0 Red Hat Enterprise Linux 8.10 Kernel: 5.15 Compiler: gcc gcc (GCC) 8.5.0 20210514 (Red Hat 8.5.0-22) Red Hat Enterprise Linux 9.5 Kernel: 5.15 Compiler: gcc gcc (GCC) 11.5.0 20240719 (Red Hat 11.5.0-2) Ubuntu 22.04 Kernel: 5.15 Compiler: gcc gcc (Ubuntu 11.4.0-1ubuntu1~22.04) 11.4.0 Ubuntu 24.04 Kernel: 5.15 Compiler: gcc gcc (Ubuntu 13.3.0-6ubuntu2~24.04) 13.3.0 Alpine Linux 3.22.0 Kernel: 5.15 Compiler: gcc gcc (Alpine 14.2.0) 14.2.0 FreeBSD 14.2 Kernel: 14.2-RELEASE Compiler: clang 18.1.6 Windows Server 2022 Kernel: 10.0.20348.2031 Compiler: clang 15.0.7, gcc 14.1.0 (MinGW), and MSVC VS 19.39.33521 To view detailed results, visit: https://lab.dpdk.org/results/dashboard/tarballs/35476/ UNH-IOL DPDK Community Lab To manage your email subscriptions, visit: https://lab.dpdk.org/results/dashboard/preferences/subscriptions/