From mboxrd@z Thu Jan 1 00:00:00 1970 Return-Path: Received: from mails.dpdk.org (mails.dpdk.org [217.70.189.124]) by inbox.dpdk.org (Postfix) with ESMTP id BC30948A7E for ; Thu, 6 Nov 2025 08:10:31 +0100 (CET) Received: from mails.dpdk.org (localhost [127.0.0.1]) by mails.dpdk.org (Postfix) with ESMTP id 9418A4013F; Thu, 6 Nov 2025 08:10:31 +0100 (CET) Received: from mail-pl1-f226.google.com (mail-pl1-f226.google.com [209.85.214.226]) by mails.dpdk.org (Postfix) with ESMTP id AE9DE4013F for ; Thu, 6 Nov 2025 08:10:30 +0100 (CET) Received: by mail-pl1-f226.google.com with SMTP id d9443c01a7336-2952048eb88so8653915ad.0 for ; Wed, 05 Nov 2025 23:10:30 -0800 (PST) DKIM-Signature: v=1; a=rsa-sha256; c=relaxed/relaxed; d=iol.unh.edu; s=unh-iol; t=1762413030; x=1763017830; darn=dpdk.org; h=cc:to:from:subject:message-id:date:from:to:cc:subject:date :message-id:reply-to; bh=rxxUVBrR3QnpIXAaPOFzs41xa6/uzPUPqNuliMHu2Ow=; b=SpbBY0LfCq1dJzIc64QFW3pMa013GfdiLc8CV4bM5xGNMhGj5lEfddfJikEOe7UbLx VaVH2yfN6IJT5tlPCgaXJYhHCovFx9K1c97X4YXku0XjCnkMlBBT1kD3SIPD6ONT5TbJ AqLBQiK1/d1B/YG6t6jQ09zFFRXcIse4ppjLM= X-Google-DKIM-Signature: v=1; a=rsa-sha256; c=relaxed/relaxed; d=1e100.net; s=20230601; t=1762413030; x=1763017830; h=cc:to:from:subject:message-id:date:x-gm-message-state:from:to:cc :subject:date:message-id:reply-to; bh=rxxUVBrR3QnpIXAaPOFzs41xa6/uzPUPqNuliMHu2Ow=; b=g4MeciFty5jXqKcDl7+gq8PwGXA8U4Q6ajlqNvBkS7H7MAWDng29FnCTcSY/xPcuIy whsaHf8CS2Fkhrxiv484iGztdVDKVfYdEof2ZkH7aDuUgDHJg4cjOgdzbES01nKP2liN T3gA8Ji5mXYxm/Qc8AY6qSu9HtccldhnhQph4THzEwifHAEr1DIo4ovc1IvvQ4n2r8H9 8SRUEP7xlVOIFFcNPn3yulF28LvpQUqKCy7p7Z3vpyA33p/rHy9Rc7qOg3u/dRQ8cP2O FmRw1/BMyzXC1fIm1LrcISquTvMsh+WksUhQw28edO+lBuZqFrBtzSy+lhfKO88guyDR EQ2Q== X-Gm-Message-State: AOJu0YxHrZBp25NyckPjYzYO2HOyREpX+9cpQGW7iclFkNB83s3Jvj5k YHPZ7VxKHbIJ7xEwvrAxGFfl38jhCNLi05Ae75ov52gJxFgKpBdkcXkUdVz9V/mbA4JWbp1l9Ke uqwH8KyMMV0hrMv/Y7ErJK8LQtUlk5SKG/Ga2 X-Gm-Gg: ASbGncu9poG97lBw16uXZYpz13By6HJbXhFEija1HCwwtyHZP3pvRpL/PZOIV2ZgGSK uRcfaHM4NSZCXFODICql03vDSCrgTexyHNkeAZIlah/grx7Jz9Mn2XaN0pjahSmQ2kvKy25VLRV IAiPZJClc54U8iZnh1pK2fXpP40iyr6VZc73v4gSnBMJh1xrZX56bq6rR8qsnwEXU1gpxvylNsb aQFHBcMWoclW006zcVyfEKCMwIrAk3FE8QpWsbSM7XqU6H4fWU491X0auG8CyKm3EzT0adGJZEd F6KTybsJy9HYfGi8C9I1pzFAwxwwXzzxwGX4MQjdKktRdcGftEhT4D6hfuLids3SvsVON/Pu6eR U1si/1QPVhmmMnDCMJZNWApfPR8dAKrs= X-Google-Smtp-Source: AGHT+IFyGKF4gTYEbsHt9W9z+HEpceE1shVf52rrE0NTBtGcOw7IvbNtupL4CKO3dIyPSZ4ypRsVafEPNGt5 X-Received: by 2002:a17:903:2a84:b0:295:4d50:aaab with SMTP id d9443c01a7336-2962ad21137mr96216325ad.20.1762413029849; Wed, 05 Nov 2025 23:10:29 -0800 (PST) Received: from postal.iol.unh.edu (postal.iol.unh.edu. [132.177.123.84]) by smtp-relay.gmail.com with ESMTPS id d9443c01a7336-2965096eb49sm1613665ad.12.2025.11.05.23.10.29 (version=TLS1_2 cipher=ECDHE-ECDSA-AES128-GCM-SHA256 bits=128/128); Wed, 05 Nov 2025 23:10:29 -0800 (PST) X-Relaying-Domain: iol.unh.edu Date: Wed, 05 Nov 2025 23:10:29 -0800 (PST) Message-ID: <690c49e5.170a0220.344b65.899aSMTPIN_ADDED_MISSING@mx.google.com> Received: from [172.21.0.2] (unknown [172.18.0.240]) by postal.iol.unh.edu (Postfix) with ESMTP id 0C0206050A61; Thu, 6 Nov 2025 02:10:29 -0500 (EST) Subject: |SUCCESS| [GIT MASTER] 0bd935abcb823f581ce53986986aa54eaf6f8140 From: dpdklab@iol.unh.edu To: Test Report Cc: dpdk-test-reports@iol.unh.edu, Xueming Li , Christian Ehrhardt , Kevin Traynor , Luca Boccassi Content-Type: text/plain X-BeenThere: test-report@dpdk.org X-Mailman-Version: 2.1.29 Precedence: list List-Id: automatic DPDK test reports List-Unsubscribe: , List-Archive: List-Post: List-Help: List-Subscribe: , Errors-To: test-report-bounces@dpdk.org _Testing PASS_ Branch: tags/v24.11 0bd935abcb823f581ce53986986aa54eaf6f8140 --> testing pass Upstream job id: Generic-Unit-Test-DPDK#389216 Test environment and result as below: +-------------------------------+----------------+ | Environment | dpdk_unit_test | +===============================+================+ | CentOS Stream 10 | PASS | +-------------------------------+----------------+ | CentOS Stream 9 | PASS | +-------------------------------+----------------+ | Debian GNU/Linux 12 | PASS | +-------------------------------+----------------+ | Fedora Linux 40 | PASS | +-------------------------------+----------------+ | Fedora Linux 41 | PASS | +-------------------------------+----------------+ | Fedora Linux 42 | PASS | +-------------------------------+----------------+ | Red Hat Enterprise Linux 8.10 | PASS | +-------------------------------+----------------+ | Ubuntu 20.04 | PASS | +-------------------------------+----------------+ | Ubuntu 22.04 | PASS | +-------------------------------+----------------+ | Red Hat Enterprise Linux 9.5 | PASS | +-------------------------------+----------------+ | Ubuntu 24.04 | PASS | +-------------------------------+----------------+ | Windows Server 2022 | PASS | +-------------------------------+----------------+ CentOS Stream 10 Kernel: 5.15 Compiler: gcc gcc (GCC) 14.2.1 20250110 (Red Hat 14.2.1-8) CentOS Stream 9 Kernel: 5.15 Compiler: gcc gcc (GCC) 11.5.0 20240719 (Red Hat 11.5.0-11) Debian GNU/Linux 12 Kernel: 5.15 Compiler: gcc gcc (Debian 12.2.0-14+deb12u1) 12.2.0 Fedora Linux 40 Kernel: 5.15 Compiler: gcc gcc (GCC) 14.2.1 20240912 (Red Hat 14.2.1-3) Fedora Linux 41 Kernel: 5.15 Compiler: clang gcc (GCC) 14.3.1 20250523 (Red Hat 14.3.1-1) Fedora Linux 42 Kernel: 5.15 Compiler: clang gcc (GCC) 15.2.1 20250808 (Red Hat 15.2.1-1) Red Hat Enterprise Linux 8.10 Kernel: 5.15 Compiler: gcc gcc (GCC) 8.5.0 20210514 (Red Hat 8.5.0-22) Ubuntu 20.04 Kernel: 5.15 Compiler: gcc gcc (Ubuntu 9.4.0-1ubuntu1~20.04.2) 9.4.0 Ubuntu 22.04 Kernel: 5.15 Compiler: gcc gcc (Ubuntu 11.4.0-1ubuntu1~22.04) 11.4.0 Red Hat Enterprise Linux 9.5 Kernel: 5.15 Compiler: gcc gcc (GCC) 11.5.0 20240719 (Red Hat 11.5.0-2) Ubuntu 24.04 Kernel: 5.15 Compiler: gcc gcc (Ubuntu 13.3.0-6ubuntu2~24.04) 13.3.0 Windows Server 2022 Kernel: 10.0.20348.2031 Compiler: clang 15.0.7, gcc 14.1.0 (MinGW), and MSVC VS 19.39.33521 To view detailed results, visit: https://lab.dpdk.org/results/dashboard/tarballs/35476/ UNH-IOL DPDK Community Lab To manage your email subscriptions, visit: https://lab.dpdk.org/results/dashboard/preferences/subscriptions/