From mboxrd@z Thu Jan 1 00:00:00 1970 Return-Path: Received: from mails.dpdk.org (mails.dpdk.org [217.70.189.124]) by inbox.dpdk.org (Postfix) with ESMTP id D557A48A81 for ; Thu, 6 Nov 2025 10:19:40 +0100 (CET) Received: from mails.dpdk.org (localhost [127.0.0.1]) by mails.dpdk.org (Postfix) with ESMTP id D00E84013F; Thu, 6 Nov 2025 10:19:40 +0100 (CET) Received: from mail-io1-f98.google.com (mail-io1-f98.google.com [209.85.166.98]) by mails.dpdk.org (Postfix) with ESMTP id 64AF04013F for ; Thu, 6 Nov 2025 10:19:39 +0100 (CET) Received: by mail-io1-f98.google.com with SMTP id ca18e2360f4ac-93e89a59d68so26658439f.0 for ; Thu, 06 Nov 2025 01:19:39 -0800 (PST) DKIM-Signature: v=1; a=rsa-sha256; c=relaxed/relaxed; d=iol.unh.edu; s=unh-iol; t=1762420778; x=1763025578; darn=dpdk.org; h=cc:to:from:subject:message-id:date:from:to:cc:subject:date :message-id:reply-to; bh=OAKXbqVheuFVmoxSdc7gAP23RFolewLrbvT9kZ86Dw0=; b=FcoQCGlHNIv5rVqOuT8+zL5zjT1ENZvPSkSkgH0VM5A9V5LE67Xf5jdDXui6KJVsA7 YNyu1cEnqZ2sYm4KZv4YKNok1w2uYCHVPjVqvbEquDAV61zcvVzRs3N5dCKhOpNFseeW iTIXg+T0IcCgjzgYiSNim+m0N0ats6qQhO5XU= X-Google-DKIM-Signature: v=1; a=rsa-sha256; c=relaxed/relaxed; d=1e100.net; s=20230601; t=1762420778; x=1763025578; h=cc:to:from:subject:message-id:date:x-gm-message-state:from:to:cc :subject:date:message-id:reply-to; bh=OAKXbqVheuFVmoxSdc7gAP23RFolewLrbvT9kZ86Dw0=; b=baVDxApdmMT1He6gJ0QvVq8j5yplGKDIp1Z0YO9kmR29fq0Dy7DIq2EcKEYvskT9b6 mgYn5sPus4vldSC0wQg1Qr9SMVMc8qiDojZsG4ZgE02Sz+YaKolbc7oqBW2bZrt2nmvz 1XyyTN/EJYjC9KdieH8Y/eVxph94r+MInvgibM0uqOOOGH0duxnEHgSIQanwtblyh/wL r/U8JaOlNAsEPG8SrUZw52Z/h2agG46CjCXcN2omNjkQmUY9liIGmvGE6WFJYBQY2rEs VYxjr09PvjLMF5Y4FHHLwo+HJpcdZiuHixXSjzFBAkaEhBKgJ/KUi3L0dfE6CfcIsF9Z xHDQ== X-Gm-Message-State: AOJu0YxXM1E65ykNgONfLqVxA/N3w/gtS8dPYUnSFeHkUJs+Bd6/SCAW S0y2CUmqc7VgnD4GrWNPTo2l1HDM2Rh0zRlnh0uEg+R/pdQHehBk/9RqAMuy8Q1gH9zAgxyKzw2 fHKPHO74Sj70g18l9VI0GeUn8FgZMr0Bz726PWmNYm6BuipVJfy8xfh01YQdD X-Gm-Gg: ASbGnctKRK2E+FNsr8M06F5vNaYNF7gy3UX9Hw6Zp2HMn2QPFQZyXVWeOBSvUCOgiyC s73gTaRhdQLNUjpkga1b1VcwwwNRkGB2HBdX4EHATVTdb7a9FiALai7ou1jhMphrQapRC3bXOuk exK7yIKrw9/mGpk3NJQv6KLFRSr6a/FHMQRF0C3JFESm/WP9ckFL3YXRQIlk4CQ6cZZnOwH7+1B m+7KgfrbOB3Iz21IteeLQ8bdQtQRTaQ+QcebE9NQ21yJomgO6E+n9GIT+uzdfUt7jN8uWG03SbO W7TJJiFIHNptR+jKpYF83Pa98V+gNGeTLB4jMBqLRmuSYqpij1LLwP6UfolpNs+sK6UlxBZVfwp UuJvr6rWP X-Google-Smtp-Source: AGHT+IHqpW+6H920t+9Aik/t3YB3GeBkAHzk38a82TtYE7dFwYBk/TC1WrX0YfY8HjjlDysrkNsGaV2WR/Hx X-Received: by 2002:a05:6602:2dcf:b0:948:32ef:34d5 with SMTP id ca18e2360f4ac-94869cc9c18mr955229139f.4.1762420778695; Thu, 06 Nov 2025 01:19:38 -0800 (PST) Received: from postal.iol.unh.edu (postal.iol.unh.edu. [2606:4100:3880:1234::84]) by smtp-relay.gmail.com with ESMTPS id 8926c6da1cb9f-5b7467391fbsm203310173.8.2025.11.06.01.19.38 (version=TLS1_2 cipher=ECDHE-ECDSA-AES128-GCM-SHA256 bits=128/128); Thu, 06 Nov 2025 01:19:38 -0800 (PST) X-Relaying-Domain: iol.unh.edu Date: Thu, 06 Nov 2025 01:19:38 -0800 (PST) Message-ID: <690c682a.050a0220.1ea286.a491SMTPIN_ADDED_MISSING@mx.google.com> Received: from [172.21.0.3] (unknown [172.18.0.240]) by postal.iol.unh.edu (Postfix) with ESMTP id 5EDFD6051830; Thu, 6 Nov 2025 04:19:38 -0500 (EST) Subject: |SUCCESS| [GIT MASTER] f219e55e51d6bb9f8fcfc5899cfe5752e0bfca93 From: dpdklab@iol.unh.edu To: Test Report Cc: dpdk-test-reports@iol.unh.edu Content-Type: text/plain X-BeenThere: test-report@dpdk.org X-Mailman-Version: 2.1.29 Precedence: list List-Id: automatic DPDK test reports List-Unsubscribe: , List-Archive: List-Post: List-Help: List-Subscribe: , Errors-To: test-report-bounces@dpdk.org _Testing PASS_ Branch: dpdk f219e55e51d6bb9f8fcfc5899cfe5752e0bfca93 --> testing pass Upstream job id: Generic-DPDK-Compile-Meson#441294 Test environment and result as below: +------------------------------+--------------------+ | Environment | dpdk_meson_compile | +==============================+====================+ | Ubuntu 20.04 | PASS | +------------------------------+--------------------+ | Red Hat Enterprise Linux 9.5 | PASS | +------------------------------+--------------------+ | Debian GNU/Linux 12 | PASS | +------------------------------+--------------------+ | Fedora Linux 42 | PASS | +------------------------------+--------------------+ | Ubuntu 22.04 | PASS | +------------------------------+--------------------+ | CentOS Stream 9 | PASS | +------------------------------+--------------------+ | Ubuntu 24.04 | PASS | +------------------------------+--------------------+ | CentOS Stream 10 | PASS | +------------------------------+--------------------+ Ubuntu 20.04 Kernel: 5.15 Compiler: aarch64-linux-gnu-gcc gcc (Ubuntu 9.4.0-1ubuntu1~20.04.2) 9.4.0 Red Hat Enterprise Linux 9.5 Kernel: 5.4 Compiler: gcc gcc (GCC) 11.5.0 20240719 (Red Hat 11.5.0-2) Debian GNU/Linux 12 Kernel: 5.4 Compiler: gcc gcc (Debian 12.2.0-14+deb12u1) 12.2.0 Fedora Linux 42 Kernel: 5.4 Compiler: gcc gcc (GCC) 15.2.1 20250808 (Red Hat 15.2.1-1) Ubuntu 22.04 Kernel: 5.4 Compiler: gcc gcc (Ubuntu 11.4.0-1ubuntu1~22.04) 11.4.0 CentOS Stream 9 Kernel: 5.4 Compiler: gcc gcc (GCC) 11.5.0 20240719 (Red Hat 11.5.0-11) Ubuntu 24.04 Kernel: 5.4 Compiler: gcc gcc (Ubuntu 13.3.0-6ubuntu2~24.04) 13.3.0 CentOS Stream 10 Kernel: 5.4 Compiler: gcc gcc (GCC) 14.2.1 20250110 (Red Hat 14.2.1-8) To view detailed results, visit: https://lab.dpdk.org/results/dashboard/tarballs/35474/ UNH-IOL DPDK Community Lab To manage your email subscriptions, visit: https://lab.dpdk.org/results/dashboard/preferences/subscriptions/