From mboxrd@z Thu Jan 1 00:00:00 1970 Return-Path: Received: from mails.dpdk.org (mails.dpdk.org [217.70.189.124]) by inbox.dpdk.org (Postfix) with ESMTP id 8C65948A81 for ; Thu, 6 Nov 2025 10:46:30 +0100 (CET) Received: from mails.dpdk.org (localhost [127.0.0.1]) by mails.dpdk.org (Postfix) with ESMTP id 720ED40697; Thu, 6 Nov 2025 10:46:30 +0100 (CET) Received: from mail-pl1-f227.google.com (mail-pl1-f227.google.com [209.85.214.227]) by mails.dpdk.org (Postfix) with ESMTP id 009E44013F for ; Thu, 6 Nov 2025 10:46:28 +0100 (CET) Received: by mail-pl1-f227.google.com with SMTP id d9443c01a7336-29516a36affso7726145ad.3 for ; Thu, 06 Nov 2025 01:46:28 -0800 (PST) DKIM-Signature: v=1; a=rsa-sha256; c=relaxed/relaxed; d=iol.unh.edu; s=unh-iol; t=1762422388; x=1763027188; darn=dpdk.org; h=references:in-reply-to:cc:to:from:subject:message-id:date:from:to :cc:subject:date:message-id:reply-to; bh=c/h0qSfXNETrwj+OlgVegEQvLWi02XFQ/Kqt529po1A=; b=XAHw8pvwgL040pYm3LDhK9EfqMNMX/dPqBAOhtgVSP9Ux9b6+q6b9JfU4K64pQ+tJs vqm6SVPpLAFefVxXgP1FjT19dixpIKa/nWFwv/02Q1PP5MoqAzB+3RjuC6A8nQSs2Wz+ ZNaw6qZYYncnSamUWLn7X0oYai5Y1E6e3FBI4= X-Google-DKIM-Signature: v=1; a=rsa-sha256; c=relaxed/relaxed; d=1e100.net; s=20230601; t=1762422388; x=1763027188; h=references:in-reply-to:cc:to:from:subject:message-id:date :x-gm-message-state:from:to:cc:subject:date:message-id:reply-to; bh=c/h0qSfXNETrwj+OlgVegEQvLWi02XFQ/Kqt529po1A=; b=STnpR3OO5fCNteiR4uyCosjdVn35jgZGRrti5SYTxUcQu23gSJ+iW0UliwQDGz6ORp ygLLBNo9dsrZDwCRnJs1AJsjB0hWEBreHgnUdtCYXPgkdd8Me5CEcJxgXwGJh3Yr8FO0 5izj2pWFilA9hiOOxF3XxNVWRQsIgOYRpt8+I7/No/scOBMTBY3EjjspAJUoO+CIGvFh ijvaNHmipq+2j/4XGzjemcfTlZXFD+kRicPuuYx0hRlBZkkgfVNZAtJP5Zk5hm0pmM1R s62+u1CRHqwboxoszFSeAiuG9UBUxJvVuo6ERQxrtZYSj3L1GpoYSNlvgB+//imK0mgY kqAw== X-Gm-Message-State: AOJu0YwfATlgV1LifWarc/B/cFvC1UPzKDujsPiYWcpwgxeOsrFVkDve 40MaBvnNU2hV3m1eKGHQ1vcld0RDwr+tOLFzIdC8SgapsuM7kAAcpuWACunJmPdbFeZOyACvCHI sgybvDY6p1lTxpxljFuL4/1AE7RYdEzsb8bDiLhwpjUD0ZB1uJ8KCyVi495dX X-Gm-Gg: ASbGncu35UEXXKFLewQPKArJBQ/lkL32E4nDTkLwKaPlSFvUBTWbmfnjjG/tdJIVm1L gADU13KbdaTMPSjC/Lmh/9qmJ+p/FBrfPJNMaDp5bZ9eAbX4dcaf5zIFczkInLa+8YawgHb6yi7 dhfCO1scaMwjB6U83fq85Kbe+MkD34xqSvnbsbgLLIPiYn6CqcHRLAn5p4Z6DNHTR2SIMVsXut4 bc32R3PSbR9sz5ZblqvyVp2RLNI9gXsAZ/JvUldaO5HGdUdgiO/b5STVBtlQ1VrTTbR6FQBcxU5 yWRqtmwOBjImqwGpSY9sz3GczX1EOxjMrYz+Ft01Ge/LcUI9exPCxmXR3c5+8AkynhlmfWH89+D Om+QLfHnP X-Google-Smtp-Source: AGHT+IHEguDE6tzzXeF4ooToY28UG3y1oEQ0DMTR7DaLKBPGtLYjcSnxfYSCXPmZ6vMBFC6flARPurvxt08J X-Received: by 2002:a17:903:2341:b0:295:82b5:73e9 with SMTP id d9443c01a7336-2962ada6b0fmr90276535ad.35.1762422388087; Thu, 06 Nov 2025 01:46:28 -0800 (PST) Received: from postal.iol.unh.edu (postal.iol.unh.edu. [2606:4100:3880:1234::84]) by smtp-relay.gmail.com with ESMTPS id d9443c01a7336-2965096e4a5sm1820065ad.11.2025.11.06.01.46.27 (version=TLS1_2 cipher=ECDHE-ECDSA-AES128-GCM-SHA256 bits=128/128); Thu, 06 Nov 2025 01:46:28 -0800 (PST) X-Relaying-Domain: iol.unh.edu Date: Thu, 06 Nov 2025 01:46:28 -0800 (PST) Message-ID: <690c6e74.170a0220.1660c8.9820SMTPIN_ADDED_MISSING@mx.google.com> Received: from [172.21.0.3] (unknown [172.18.0.240]) by postal.iol.unh.edu (Postfix) with ESMTP id 4B4E56051830; Thu, 6 Nov 2025 04:46:27 -0500 (EST) Subject: |SUCCESS| pw158497-158498 [PATCH] [2/2] net/mlx5: update flow devarg From: dpdklab@iol.unh.edu To: Test Report Cc: dpdk-test-reports@iol.unh.edu In-Reply-To: <20251106083817.166689-2-mkashani@nvidia.com> References: <20251106083817.166689-2-mkashani@nvidia.com> Content-Type: text/plain X-BeenThere: test-report@dpdk.org X-Mailman-Version: 2.1.29 Precedence: list List-Id: automatic DPDK test reports List-Unsubscribe: , List-Archive: List-Post: List-Help: List-Subscribe: , Errors-To: test-report-bounces@dpdk.org Test-Label: iol-unit-amd64-testing Test-Status: SUCCESS http://dpdk.org/patch/158498 _Testing PASS_ Submitter: Maayan Kashani Date: Thursday, November 06 2025 08:38:17 DPDK git baseline: Repo:dpdk-next-net-mlx Branch: master CommitID:4ce83cd2397cb1d9290e59a48ed8e9563cd215d3 158497-158498 --> testing pass Upstream job id: Generic-VM-Unit-Test-DPDK#32337 Test environment and result as below: +-------------------------------+----------------+ | Environment | dpdk_unit_test | +===============================+================+ | Debian GNU/Linux 12 | PASS | +-------------------------------+----------------+ | Fedora Linux 40 | PASS | +-------------------------------+----------------+ | CentOS Stream 9 | PASS | +-------------------------------+----------------+ | Red Hat Enterprise Linux 8.10 | PASS | +-------------------------------+----------------+ | Red Hat Enterprise Linux 9.5 | PASS | +-------------------------------+----------------+ | Ubuntu 20.04 | PASS | +-------------------------------+----------------+ | Ubuntu 24.04 | PASS | +-------------------------------+----------------+ | Fedora Linux 41 | PASS | +-------------------------------+----------------+ | Ubuntu 22.04 | PASS | +-------------------------------+----------------+ | Fedora Linux 42 | PASS | +-------------------------------+----------------+ | CentOS Stream 10 | PASS | +-------------------------------+----------------+ | Windows Server 2022 | PASS | +-------------------------------+----------------+ Debian GNU/Linux 12 Kernel: 5.15 Compiler: gcc gcc (Debian 12.2.0-14+deb12u1) 12.2.0 Fedora Linux 40 Kernel: 5.15 Compiler: gcc gcc (GCC) 14.2.1 20240912 (Red Hat 14.2.1-3) CentOS Stream 9 Kernel: 5.15 Compiler: gcc gcc (GCC) 11.5.0 20240719 (Red Hat 11.5.0-11) Red Hat Enterprise Linux 8.10 Kernel: 5.15 Compiler: gcc gcc (GCC) 8.5.0 20210514 (Red Hat 8.5.0-22) Red Hat Enterprise Linux 9.5 Kernel: 5.15 Compiler: gcc gcc (GCC) 11.5.0 20240719 (Red Hat 11.5.0-2) Ubuntu 20.04 Kernel: 5.15 Compiler: gcc gcc (Ubuntu 9.4.0-1ubuntu1~20.04.2) 9.4.0 Ubuntu 24.04 Kernel: 5.15 Compiler: gcc gcc (Ubuntu 13.3.0-6ubuntu2~24.04) 13.3.0 Fedora Linux 41 Kernel: 5.15 Compiler: gcc gcc (GCC) 14.3.1 20250523 (Red Hat 14.3.1-1) Ubuntu 22.04 Kernel: 5.15 Compiler: gcc gcc (Ubuntu 11.4.0-1ubuntu1~22.04) 11.4.0 Fedora Linux 42 Kernel: 5.15 Compiler: clang gcc (GCC) 15.2.1 20250808 (Red Hat 15.2.1-1) CentOS Stream 10 Kernel: 5.15 Compiler: gcc gcc (GCC) 14.2.1 20250110 (Red Hat 14.2.1-8) Windows Server 2022 Kernel: 10.0.20348.2031 Compiler: clang 15.0.7, gcc 14.1.0 (MinGW), and MSVC VS 19.39.33521 To view detailed results, visit: https://lab.dpdk.org/results/dashboard/patchsets/34482/ UNH-IOL DPDK Community Lab To manage your email subscriptions, visit: https://lab.dpdk.org/results/dashboard/preferences/subscriptions/