From mboxrd@z Thu Jan 1 00:00:00 1970 Return-Path: Received: from mails.dpdk.org (mails.dpdk.org [217.70.189.124]) by inbox.dpdk.org (Postfix) with ESMTP id A0A7648A81 for ; Thu, 6 Nov 2025 10:47:26 +0100 (CET) Received: from mails.dpdk.org (localhost [127.0.0.1]) by mails.dpdk.org (Postfix) with ESMTP id 9C23C4013F; Thu, 6 Nov 2025 10:47:26 +0100 (CET) Received: from mail-pl1-f227.google.com (mail-pl1-f227.google.com [209.85.214.227]) by mails.dpdk.org (Postfix) with ESMTP id B3F114013F for ; Thu, 6 Nov 2025 10:47:24 +0100 (CET) Received: by mail-pl1-f227.google.com with SMTP id d9443c01a7336-2955623e6faso7708555ad.1 for ; Thu, 06 Nov 2025 01:47:24 -0800 (PST) DKIM-Signature: v=1; a=rsa-sha256; c=relaxed/relaxed; d=iol.unh.edu; s=unh-iol; t=1762422444; x=1763027244; darn=dpdk.org; h=references:in-reply-to:cc:to:from:subject:message-id:date:from:to :cc:subject:date:message-id:reply-to; bh=ygWiv7BeLy1vncS6PyqviZ/faI92rY26/t2GA8qXrZY=; b=EgC7vOEDp/3qfF+duC0igM+W2dDS1hC2cszH9iTfIXXD7zv2QFMFqQ22jx5O8z6yzJ hJt8rJ7BU6VeoBaAanW4GbKBJI6T8jsvxoJ1+tXJuK5ckOmQG4oKJ4+37DaARNrUQuzX 0FCqlUXoNa/TTuxQuWwlR9hUh+mPhk9sXAWMo= X-Google-DKIM-Signature: v=1; a=rsa-sha256; c=relaxed/relaxed; d=1e100.net; s=20230601; t=1762422444; x=1763027244; h=references:in-reply-to:cc:to:from:subject:message-id:date :x-gm-message-state:from:to:cc:subject:date:message-id:reply-to; bh=ygWiv7BeLy1vncS6PyqviZ/faI92rY26/t2GA8qXrZY=; b=tCWzNPDkQCQ8sGooaJCF32miPhZNsvu0ljYt3r9MmmKV9P6o2ejTdcyY8tJk9CgTe3 YVQk71q4ArpUQRFfQnwzEgbnQ3ElPUvvQ8LOYIWGXY+imj7h4rzfkmSe+G6PdM2g+q24 /bHj/1+csza4/t4sMT9HN7kdvS+4jHDw3szhR0M4RpDXwFi2UYWoaRauMS0+QEd+kR48 gfJOK1hSv75aqrlI2iXPlKdbu3GmNkKMat8ALcAKcPUndqmzQFxmyHbNSoO7tZMUOX7P cf5X1oUWpcfKCeEuekMLxklIjOmbV3vlosPTnvW0An4mfXqRALi9XunZmYG85cscdyE/ C+5w== X-Gm-Message-State: AOJu0YyPGv4eMb0WY6Gq7UywwCQbV5v+h4KELREltIK6wG5jmtDbNyaU Xt2rShN7d+ALd7n/ZktOnmr5sNoiYF4hytxcSa6rAd3zW8PspVBURvdLERgCuV5/iTIm5LYT72o JJAIoEDcPWDZuhlJwGBXjJ7K70+iQzNoT7RXFrV20xFEg X-Gm-Gg: ASbGncudFZ6FFMLoEVKRHJaREANNOJfrtXZT4eq+4mZMzhP/ZyocqDRuxlw1FLhNOvZ Xbxtf3jwGytx5jebd9v1XV73nULjKkq1Rby2bwvPpgpBFDO8dJsdS3kbmqeL6EwuZqErEjcxPqt UBJR6s4LpOrX7QAY9ha+ic3sQQH+c5scNHftU4pK2zsrp6p6h91H0Dqm6/JzeCfBlG+iawTQMXP pNQlej7g3Nry+Hi1jK2RjXbOl5yFzIZ+cFtjj5AlYsE/8RV4hMZnRV2zJ74B1IiDatP+9/lTtoX hS+JHrnZsktV7ZmwDohIND1RZWxWCNwfFlSIXeMghNCnDkXt1IwYQpaXm6pCEnu/nA8PRSL1Onr QGqU4R7dCoqbnRqAP9xfwUF/J0zsQAPc= X-Google-Smtp-Source: AGHT+IGX6FVTPP17gzLHhf1A+6mulgp2R+OMUcZDEZOWr8Jf0HJh2MkkK7bGv3L4Tsrv5fyXvdaD4JbpaMkr X-Received: by 2002:a17:902:d548:b0:295:64f8:d9cd with SMTP id d9443c01a7336-2962add985fmr89837495ad.15.1762422443967; Thu, 06 Nov 2025 01:47:23 -0800 (PST) Received: from postal.iol.unh.edu (postal.iol.unh.edu. [132.177.123.84]) by smtp-relay.gmail.com with ESMTPS id d9443c01a7336-2965096e32dsm1927365ad.7.2025.11.06.01.47.23 (version=TLS1_2 cipher=ECDHE-ECDSA-AES128-GCM-SHA256 bits=128/128); Thu, 06 Nov 2025 01:47:23 -0800 (PST) X-Relaying-Domain: iol.unh.edu Date: Thu, 06 Nov 2025 01:47:23 -0800 (PST) Message-ID: <690c6eab.170a0220.3c3b06.ac17SMTPIN_ADDED_MISSING@mx.google.com> Received: from [172.21.0.2] (unknown [172.18.0.240]) by postal.iol.unh.edu (Postfix) with ESMTP id 375AB6051830; Thu, 6 Nov 2025 04:47:23 -0500 (EST) Subject: |SUCCESS| pw158497-158498 [PATCH] [2/2] net/mlx5: update flow devarg From: dpdklab@iol.unh.edu To: Test Report Cc: dpdk-test-reports@iol.unh.edu In-Reply-To: <20251106083817.166689-2-mkashani@nvidia.com> References: <20251106083817.166689-2-mkashani@nvidia.com> Content-Type: text/plain X-BeenThere: test-report@dpdk.org X-Mailman-Version: 2.1.29 Precedence: list List-Id: automatic DPDK test reports List-Unsubscribe: , List-Archive: List-Post: List-Help: List-Subscribe: , Errors-To: test-report-bounces@dpdk.org Test-Label: iol-compile-amd64-testing Test-Status: SUCCESS http://dpdk.org/patch/158498 _Testing PASS_ Submitter: Maayan Kashani Date: Thursday, November 06 2025 08:38:17 DPDK git baseline: Repo:dpdk-next-net-mlx Branch: master CommitID:4ce83cd2397cb1d9290e59a48ed8e9563cd215d3 158497-158498 --> testing pass Upstream job id: Windows-Compile-DPDK-Native#32164 Test environment and result as below: +-------------------------------+--------------------+-------------------+------------------+-------------------------+----------------------+ | Environment | dpdk_meson_compile | dpdk_msvc_compile | dpdk_compile_ovs | dpdk_llvm_clang_compile | dpdk_mingw64_compile | +===============================+====================+===================+==================+=========================+======================+ | Fedora Linux 42 | PASS | SKIPPED | PASS | SKIPPED | SKIPPED | +-------------------------------+--------------------+-------------------+------------------+-------------------------+----------------------+ | CentOS Stream 9 | PASS | SKIPPED | SKIPPED | SKIPPED | SKIPPED | +-------------------------------+--------------------+-------------------+------------------+-------------------------+----------------------+ | openSUSE Leap 15.6 | PASS | SKIPPED | SKIPPED | SKIPPED | SKIPPED | +-------------------------------+--------------------+-------------------+------------------+-------------------------+----------------------+ | CentOS Stream 10 | PASS | SKIPPED | SKIPPED | SKIPPED | SKIPPED | +-------------------------------+--------------------+-------------------+------------------+-------------------------+----------------------+ | Debian GNU/Linux 12 | PASS | SKIPPED | SKIPPED | SKIPPED | SKIPPED | +-------------------------------+--------------------+-------------------+------------------+-------------------------+----------------------+ | Ubuntu 20.04 | PASS | SKIPPED | SKIPPED | SKIPPED | SKIPPED | +-------------------------------+--------------------+-------------------+------------------+-------------------------+----------------------+ | Red Hat Enterprise Linux 8.10 | PASS | SKIPPED | SKIPPED | SKIPPED | SKIPPED | +-------------------------------+--------------------+-------------------+------------------+-------------------------+----------------------+ | FreeBSD 14.2 | PASS | SKIPPED | SKIPPED | SKIPPED | SKIPPED | +-------------------------------+--------------------+-------------------+------------------+-------------------------+----------------------+ | Red Hat Enterprise Linux 9.5 | PASS | SKIPPED | SKIPPED | SKIPPED | SKIPPED | +-------------------------------+--------------------+-------------------+------------------+-------------------------+----------------------+ | Ubuntu 22.04 | PASS | SKIPPED | SKIPPED | SKIPPED | SKIPPED | +-------------------------------+--------------------+-------------------+------------------+-------------------------+----------------------+ | Ubuntu 24.04 | PASS | SKIPPED | PASS | SKIPPED | SKIPPED | +-------------------------------+--------------------+-------------------+------------------+-------------------------+----------------------+ | Alpine Linux 3.22.0 | PASS | SKIPPED | SKIPPED | SKIPPED | SKIPPED | +-------------------------------+--------------------+-------------------+------------------+-------------------------+----------------------+ | Windows Server 2022 | SKIPPED | PASS | SKIPPED | PASS | PASS | +-------------------------------+--------------------+-------------------+------------------+-------------------------+----------------------+ Fedora Linux 42 Kernel: 5.15 Compiler: clang gcc (GCC) 15.2.1 20250808 (Red Hat 15.2.1-1) CentOS Stream 9 Kernel: 5.15 Compiler: gcc gcc (GCC) 11.5.0 20240719 (Red Hat 11.5.0-11) openSUSE Leap 15.6 Kernel: 5.15 Compiler: gcc gcc (SUSE Linux) 7.5.0 CentOS Stream 10 Kernel: 5.15 Compiler: gcc gcc (GCC) 14.2.1 20250110 (Red Hat 14.2.1-8) Debian GNU/Linux 12 Kernel: 5.15 Compiler: gcc gcc (Debian 12.2.0-14+deb12u1) 12.2.0 Ubuntu 20.04 Kernel: 4.19 Compiler: gcc gcc (Ubuntu 9.4.0-1ubuntu1~20.04.2) 9.4.0 Red Hat Enterprise Linux 8.10 Kernel: 5.15 Compiler: gcc gcc (GCC) 8.5.0 20210514 (Red Hat 8.5.0-22) FreeBSD 14.2 Kernel: 14.2-RELEASE Compiler: clang 18.1.6 Red Hat Enterprise Linux 9.5 Kernel: 5.15 Compiler: gcc gcc (GCC) 11.5.0 20240719 (Red Hat 11.5.0-2) Ubuntu 22.04 Kernel: 5.15 Compiler: gcc gcc (Ubuntu 11.4.0-1ubuntu1~22.04) 11.4.0 Ubuntu 24.04 Kernel: 5.15 Compiler: gcc gcc (Ubuntu 13.3.0-6ubuntu2~24.04) 13.3.0 Alpine Linux 3.22.0 Kernel: 5.15 Compiler: gcc gcc (Alpine 14.2.0) 14.2.0 Windows Server 2022 Kernel: 10.0.20348.2031 Compiler: clang 15.0.7, gcc 14.1.0 (MinGW), and MSVC VS 19.39.33521 To view detailed results, visit: https://lab.dpdk.org/results/dashboard/patchsets/34482/ UNH-IOL DPDK Community Lab To manage your email subscriptions, visit: https://lab.dpdk.org/results/dashboard/preferences/subscriptions/