From mboxrd@z Thu Jan 1 00:00:00 1970 Return-Path: Received: from mails.dpdk.org (mails.dpdk.org [217.70.189.124]) by inbox.dpdk.org (Postfix) with ESMTP id 8BB7348A81 for ; Thu, 6 Nov 2025 11:03:25 +0100 (CET) Received: from mails.dpdk.org (localhost [127.0.0.1]) by mails.dpdk.org (Postfix) with ESMTP id 10A764013F; Thu, 6 Nov 2025 11:03:25 +0100 (CET) Received: from mail-qv1-f100.google.com (mail-qv1-f100.google.com [209.85.219.100]) by mails.dpdk.org (Postfix) with ESMTP id CB7554013F for ; Thu, 6 Nov 2025 11:03:23 +0100 (CET) Received: by mail-qv1-f100.google.com with SMTP id 6a1803df08f44-8805d54ac94so7933196d6.3 for ; Thu, 06 Nov 2025 02:03:23 -0800 (PST) DKIM-Signature: v=1; a=rsa-sha256; c=relaxed/relaxed; d=iol.unh.edu; s=unh-iol; t=1762423403; x=1763028203; darn=dpdk.org; h=cc:to:from:subject:message-id:date:from:to:cc:subject:date :message-id:reply-to; bh=G3RxbSYGzLQGhbg3R/DsRVDCeJLt8Lr8+pmbk0Crq00=; b=jnUqO+ZXp6QungTZZAiYA+pcoA2Lezg0x/UX7z6UjcXVSKg3s/sUGDHVvkpMQwfiGS yicuJBw6gwcOekHi6jSdpuqimCdq5t+AW5OVtNoYxD0Qwhhv2giAwB7SVgRieuS8O1f4 rV19w3+lpdaZ6QUfp60GOwmKALuwG2NT2iN80= X-Google-DKIM-Signature: v=1; a=rsa-sha256; c=relaxed/relaxed; d=1e100.net; s=20230601; t=1762423403; x=1763028203; h=cc:to:from:subject:message-id:date:x-gm-message-state:from:to:cc :subject:date:message-id:reply-to; bh=G3RxbSYGzLQGhbg3R/DsRVDCeJLt8Lr8+pmbk0Crq00=; b=FJY8XVlO1siVxC91CI1nd4HOP3jXFJgkjxXXjrggOy7md3g0DtPnc8GDUiAB6ssol6 6kmCmsIalKDdK28aQ003rqADyqAsNLVZA75ZG2D5dVhHgiX6m3/zfW7DUAiNsYO8mnq+ FyMDxmm/DMdPdMWovH3OVPnZj8BliN6eOaIWxEvvuQWNi0QUqlrgSmT25I2cfRqapcC8 BAiwSbVWiM73ENxbXw7OY9KrbCT+KlvN8zzwfq2+RIhrg2i8CB7d7hbVo/BG4lUIClIN 0AFuoQ50FW/iHX1mARIq7DP0I6T5pjqTKj9S13uYOgytqZXT0UjILPBt3lcAz78B4vmu GMAw== X-Gm-Message-State: AOJu0Ywt9goVHYVbplUfNpgVlhB1Qqn76vByGdN0byJU9dAkSQs6/myF 4wKv4FC2mYrLl7Pa9qLHvghqZk4OWFUY4hb+LcyfNmEVeztATz25OTNqkbTO8vSKKrRq2gOC3ZT O9yQsFFSgzEJNtOPNmicklUAqnXKC6MHumueK X-Gm-Gg: ASbGnct7F2EUI0jy1TNdTah2vY3LqJrQVAVHyfyuw+ABh25DCJ+NmU8Eus9muUxp+Gx TXG1TEsLh5OUoLHXbyGLhtyevt2N3N55zHWhNQsZmu6o8YUGndCYoZ2vbLo8iLyIfZK7kMWmj9k FElGciZwjvIaDcJgwNe/9qRXQ2wz4eE2yvBk/bARz8uIP46acqEjdgmfOjJ00NqMpG7qwX4fHAs bOolFwwEY1evFvszQRANvEEfTJ5RNHNGAyJBF2GNumHegVKWllXfcv6p8iekIwWnBkdMTfOJGOW +ffLdohenBkuR9OYr4uk0CQOTRmElrSfqh72UijYt5/d3UPE0OsJVXif3y1yVw9y2fIbPxVeaJ+ ymtl9G7tOcBquhxnYLH+cAWcI5vDKTcU= X-Google-Smtp-Source: AGHT+IG3EkmG1SA+gocIFPEIhIELImJEBg5Ntmv/zXgPZNwt6jMwLOnLyMKTwBW90iouZW0bg8Sg2FoYmt4Q X-Received: by 2002:a05:6214:d45:b0:880:627c:fe12 with SMTP id 6a1803df08f44-8807108e244mr77856636d6.4.1762423403123; Thu, 06 Nov 2025 02:03:23 -0800 (PST) Received: from postal.iol.unh.edu (postal.iol.unh.edu. [132.177.123.84]) by smtp-relay.gmail.com with ESMTPS id 6a1803df08f44-880828d5b06sm1948946d6.10.2025.11.06.02.03.23 (version=TLS1_2 cipher=ECDHE-ECDSA-AES128-GCM-SHA256 bits=128/128); Thu, 06 Nov 2025 02:03:23 -0800 (PST) X-Relaying-Domain: iol.unh.edu Date: Thu, 06 Nov 2025 02:03:23 -0800 (PST) Message-ID: <690c726b.050a0220.354e1f.a032SMTPIN_ADDED_MISSING@mx.google.com> Received: from [172.21.0.3] (unknown [172.18.0.240]) by postal.iol.unh.edu (Postfix) with ESMTP id D1D756051830; Thu, 6 Nov 2025 05:03:22 -0500 (EST) Subject: |SUCCESS| [GIT MASTER] 9784db2c5af1eecd02fc21132b59b5b266039b87 From: dpdklab@iol.unh.edu To: Test Report Cc: dpdk-test-reports@iol.unh.edu, Xueming Li , Christian Ehrhardt , Kevin Traynor , Luca Boccassi Content-Type: text/plain X-BeenThere: test-report@dpdk.org X-Mailman-Version: 2.1.29 Precedence: list List-Id: automatic DPDK test reports List-Unsubscribe: , List-Archive: List-Post: List-Help: List-Subscribe: , Errors-To: test-report-bounces@dpdk.org _Testing PASS_ Branch: tags/v22.11 9784db2c5af1eecd02fc21132b59b5b266039b87 --> testing pass Upstream job id: Generic-DPDK-Compile-Meson#441319 Test environment and result as below: +------------------------------+--------------------+ | Environment | dpdk_meson_compile | +==============================+====================+ | Red Hat Enterprise Linux 9.5 | PASS | +------------------------------+--------------------+ | Ubuntu 20.04 | PASS | +------------------------------+--------------------+ | Fedora Linux 42 | PASS | +------------------------------+--------------------+ | Debian GNU/Linux 12 | PASS | +------------------------------+--------------------+ | Ubuntu 22.04 | PASS | +------------------------------+--------------------+ | Ubuntu 24.04 | PASS | +------------------------------+--------------------+ | CentOS Stream 9 | PASS | +------------------------------+--------------------+ | CentOS Stream 10 | PASS | +------------------------------+--------------------+ Red Hat Enterprise Linux 9.5 Kernel: 5.4 Compiler: gcc gcc (GCC) 11.5.0 20240719 (Red Hat 11.5.0-2) Ubuntu 20.04 Kernel: 5.15 Compiler: aarch64-linux-gnu-gcc gcc (Ubuntu 9.4.0-1ubuntu1~20.04.2) 9.4.0 Fedora Linux 42 Kernel: 5.4 Compiler: gcc gcc (GCC) 15.2.1 20250808 (Red Hat 15.2.1-1) Debian GNU/Linux 12 Kernel: 5.4 Compiler: gcc gcc (Debian 12.2.0-14+deb12u1) 12.2.0 Ubuntu 22.04 Kernel: 5.4 Compiler: gcc gcc (Ubuntu 11.4.0-1ubuntu1~22.04) 11.4.0 Ubuntu 24.04 Kernel: 5.4 Compiler: gcc gcc (Ubuntu 13.3.0-6ubuntu2~24.04) 13.3.0 CentOS Stream 9 Kernel: 5.4 Compiler: gcc gcc (GCC) 11.5.0 20240719 (Red Hat 11.5.0-11) CentOS Stream 10 Kernel: 5.4 Compiler: gcc gcc (GCC) 14.2.1 20250110 (Red Hat 14.2.1-8) To view detailed results, visit: https://lab.dpdk.org/results/dashboard/tarballs/35475/ UNH-IOL DPDK Community Lab To manage your email subscriptions, visit: https://lab.dpdk.org/results/dashboard/preferences/subscriptions/