From mboxrd@z Thu Jan 1 00:00:00 1970 Return-Path: Received: from mails.dpdk.org (mails.dpdk.org [217.70.189.124]) by inbox.dpdk.org (Postfix) with ESMTP id 6F0BB48A81 for ; Thu, 6 Nov 2025 11:44:02 +0100 (CET) Received: from mails.dpdk.org (localhost [127.0.0.1]) by mails.dpdk.org (Postfix) with ESMTP id 4D95C4013F; Thu, 6 Nov 2025 11:44:02 +0100 (CET) Received: from mail-qt1-f227.google.com (mail-qt1-f227.google.com [209.85.160.227]) by mails.dpdk.org (Postfix) with ESMTP id A6A614013F for ; Thu, 6 Nov 2025 11:44:01 +0100 (CET) Received: by mail-qt1-f227.google.com with SMTP id d75a77b69052e-4e88cacc5d9so6801751cf.0 for ; Thu, 06 Nov 2025 02:44:01 -0800 (PST) DKIM-Signature: v=1; a=rsa-sha256; c=relaxed/relaxed; d=iol.unh.edu; s=unh-iol; t=1762425841; x=1763030641; darn=dpdk.org; h=cc:to:from:subject:message-id:date:from:to:cc:subject:date :message-id:reply-to; bh=GWxEP/YRhIFEE/40gIomuJN6DRJDfublFM4wv2adUyQ=; b=E8K9mseBIsYhj1AlbAT4Ghy53nVLvsSl+qvjOFRyX37Bz2yODnD/b+kdt23/+TyUI+ 3uC9m1r9FsPVydigCNARTu/BS+2C0YqfsArvjBJMgWHxF8N9+7vFdK33fzqXUg8d5M8k MMbjbKCqOmxxJ8FU5jiZOiYQGvrXTduzkwZzE= X-Google-DKIM-Signature: v=1; a=rsa-sha256; c=relaxed/relaxed; d=1e100.net; s=20230601; t=1762425841; x=1763030641; h=cc:to:from:subject:message-id:date:x-gm-message-state:from:to:cc :subject:date:message-id:reply-to; bh=GWxEP/YRhIFEE/40gIomuJN6DRJDfublFM4wv2adUyQ=; b=LsxiGtp4ipFjI4+UT+OUlP+eXS2t1xYqaJAQMs2jC2dAnYe9UsPRNIiLYFyhc4kkcd mfxfS1HSs4onG2q1ecFXO2trwqUUo7tQAhb4noIVtGsJ7b6lhOZLprQNoVuij9BSaG06 kfdynziUQyQtzLgakumCho6xGK8MQgFFanzxNSH34Nev3MNZM3ofvT11qbxCm+zqIYhE jAV4hh3Zmiv3plsMcckCckmWvTElqP2aydTIm9SNe0npxsZRhvCd+ziztE3nZshlA0tF kKtJ6eoRtBx8RLQ6mhfVbDk28cYosUzuOY5TAGD0l2SJlr0YozhWZH2Dyo0jYTiXcKmr Y3Dw== X-Gm-Message-State: AOJu0Ywj7iAbKbyc8BgG/VZvigrs0d7vfABPsgBasKBRU7t9CEJ8fP1G OhM5alHDc/eUqIW4PfMa1PHiMBIaPWIHDst97jgnVILLcsJ3B69tz7+gI5GycCL/nl2wwd4mZ5q f91KgzIDTvzXW/GqhWIkFYtWOw/skohZzQOkG4IK/wKeWKd7ipPzu X-Gm-Gg: ASbGncsKzyDpEScC/CmLX95MMeYhaxMNH5CG/r+RcOOgNEJAYNAInXggx/7UQDTSFp6 vSivYrBBmkDoHqm/Ug6dWeFQnmKgA6+k4NSOw9bPHu43pp0L1FpZr+Fnc4d26hb0uUJjyWTJfnt h6kf1q2kmBJ8B5S0MHNfPzJJnT7++0Zdm7nm6juk54LpqgqeWOEWeeK/2jghBtsrkfMvrB5RLfd u/AbLWxL6sQm1If9QjbAOnMFh1ur4uT2tYUC+/Wx6YnD5dh1/oFq1UeMtZlkDBvZJ3NZzl+kq6X 0AcPO21c1ePuj+u2ry4ztvlF2rDqZWLm6EipyrlFqQt9S9lJu61vNd1dGVwX8LjbrEsC904LqHU DP5jev765 X-Google-Smtp-Source: AGHT+IFa+ibszV6oW8YhF33yAvQrdQ6UGWKzHUeOy/nSZMMNN9F36JyR4xo/J6BXHOczV3PVT4QzJSvtByxw X-Received: by 2002:a05:622a:2b07:b0:4ec:f9c2:c1f2 with SMTP id d75a77b69052e-4ed7236b98emr103730671cf.25.1762425841034; Thu, 06 Nov 2025 02:44:01 -0800 (PST) Received: from postal.iol.unh.edu (postal.iol.unh.edu. [2606:4100:3880:1234::84]) by smtp-relay.gmail.com with ESMTPS id af79cd13be357-8b235383220sm17863385a.0.2025.11.06.02.44.00 (version=TLS1_2 cipher=ECDHE-ECDSA-AES128-GCM-SHA256 bits=128/128); Thu, 06 Nov 2025 02:44:01 -0800 (PST) X-Relaying-Domain: iol.unh.edu Date: Thu, 06 Nov 2025 02:44:01 -0800 (PST) Message-ID: <690c7bf1.050a0220.268c54.91e5SMTPIN_ADDED_MISSING@mx.google.com> Received: from [172.21.0.2] (unknown [172.18.0.240]) by postal.iol.unh.edu (Postfix) with ESMTP id 15E746051830; Thu, 6 Nov 2025 05:44:00 -0500 (EST) Subject: |SUCCESS| [GIT MASTER] 0bd935abcb823f581ce53986986aa54eaf6f8140 From: dpdklab@iol.unh.edu To: Test Report Cc: dpdk-test-reports@iol.unh.edu, Xueming Li , Christian Ehrhardt , Kevin Traynor , Luca Boccassi Content-Type: text/plain X-BeenThere: test-report@dpdk.org X-Mailman-Version: 2.1.29 Precedence: list List-Id: automatic DPDK test reports List-Unsubscribe: , List-Archive: List-Post: List-Help: List-Subscribe: , Errors-To: test-report-bounces@dpdk.org _Testing PASS_ Branch: tags/v24.11 0bd935abcb823f581ce53986986aa54eaf6f8140 --> testing pass Upstream job id: Generic-DPDK-Compile-Meson#441339 Test environment and result as below: +------------------------------+--------------------+ | Environment | dpdk_meson_compile | +==============================+====================+ | Red Hat Enterprise Linux 9.5 | PASS | +------------------------------+--------------------+ | Ubuntu 20.04 | PASS | +------------------------------+--------------------+ | Debian GNU/Linux 12 | PASS | +------------------------------+--------------------+ | Fedora Linux 42 | PASS | +------------------------------+--------------------+ | Ubuntu 24.04 | PASS | +------------------------------+--------------------+ | Ubuntu 22.04 | PASS | +------------------------------+--------------------+ | CentOS Stream 9 | PASS | +------------------------------+--------------------+ | CentOS Stream 10 | PASS | +------------------------------+--------------------+ Red Hat Enterprise Linux 9.5 Kernel: 5.4 Compiler: gcc gcc (GCC) 11.5.0 20240719 (Red Hat 11.5.0-2) Ubuntu 20.04 Kernel: 5.15 Compiler: aarch64-linux-gnu-gcc gcc (Ubuntu 9.4.0-1ubuntu1~20.04.2) 9.4.0 Debian GNU/Linux 12 Kernel: 5.4 Compiler: gcc gcc (Debian 12.2.0-14+deb12u1) 12.2.0 Fedora Linux 42 Kernel: 5.4 Compiler: gcc gcc (GCC) 15.2.1 20250808 (Red Hat 15.2.1-1) Ubuntu 24.04 Kernel: 5.4 Compiler: gcc gcc (Ubuntu 13.3.0-6ubuntu2~24.04) 13.3.0 Ubuntu 22.04 Kernel: 5.4 Compiler: gcc gcc (Ubuntu 11.4.0-1ubuntu1~22.04) 11.4.0 CentOS Stream 9 Kernel: 5.4 Compiler: gcc gcc (GCC) 11.5.0 20240719 (Red Hat 11.5.0-11) CentOS Stream 10 Kernel: 5.4 Compiler: gcc gcc (GCC) 14.2.1 20250110 (Red Hat 14.2.1-8) To view detailed results, visit: https://lab.dpdk.org/results/dashboard/tarballs/35476/ UNH-IOL DPDK Community Lab To manage your email subscriptions, visit: https://lab.dpdk.org/results/dashboard/preferences/subscriptions/