From mboxrd@z Thu Jan 1 00:00:00 1970 Return-Path: Received: from mails.dpdk.org (mails.dpdk.org [217.70.189.124]) by inbox.dpdk.org (Postfix) with ESMTP id BAD9F48A85 for ; Thu, 6 Nov 2025 14:05:03 +0100 (CET) Received: from mails.dpdk.org (localhost [127.0.0.1]) by mails.dpdk.org (Postfix) with ESMTP id B5EB34021F; Thu, 6 Nov 2025 14:05:03 +0100 (CET) Received: from mail-io1-f99.google.com (mail-io1-f99.google.com [209.85.166.99]) by mails.dpdk.org (Postfix) with ESMTP id 0839C4021F for ; Thu, 6 Nov 2025 14:05:03 +0100 (CET) Received: by mail-io1-f99.google.com with SMTP id ca18e2360f4ac-9486adc1aa9so38474739f.1 for ; Thu, 06 Nov 2025 05:05:02 -0800 (PST) DKIM-Signature: v=1; a=rsa-sha256; c=relaxed/relaxed; d=iol.unh.edu; s=unh-iol; t=1762434302; x=1763039102; darn=dpdk.org; h=references:in-reply-to:cc:to:from:subject:message-id:date:from:to :cc:subject:date:message-id:reply-to; bh=34+MB6H2IUZ4Tbl4r073g3O55ogeC+/lcx31H1zzadk=; b=Ti7VczZb8w0aix6wD8uptJZaE0/EDQochA9yUNxiPJ2wCx8I8DU+SdsjfxOo8fNTXb ya/OTfj1lTWVYW/A66fsmbiniSkzkv2ABo7RJuKIe0R4ERQSQO/CfLzfUUhWUM/Dshnd zfMPVrKSiy4ZEXEq3FQgXhRlROqn6N7cMxUZY= X-Google-DKIM-Signature: v=1; a=rsa-sha256; c=relaxed/relaxed; d=1e100.net; s=20230601; t=1762434302; x=1763039102; h=references:in-reply-to:cc:to:from:subject:message-id:date :x-gm-message-state:from:to:cc:subject:date:message-id:reply-to; bh=34+MB6H2IUZ4Tbl4r073g3O55ogeC+/lcx31H1zzadk=; b=FEat70NHteNfqYjnHDGLaQIo3iO11zljp4fN4ClZxW3dz0MvXO44ZebT20KIEqUP3z vl0hH0soGuFN6YvdQyv6hxb1vhgY7JbMe3P0cE2g2mO234PpyPNh7oX4rpZCagXLmjlu 3i2PYzKbHLMDA+RrLxdXF9ApqdRdrk4btXos51+0/XdwIXNXZ32vIvVoA3egS2PxQI0K CxVgoo3vM7HnLJCnwtDBKdU9tEulmDSJKI1qL3Q4O86ZxlKfvl08rKxTHrB1T0PFj+iU QS6RKYX8c16k5hGiPudwfz+Mje3dhexVCW5XOTxrQuZ8B1MAt24BRgcRT16vmB47oCQE nOyA== X-Gm-Message-State: AOJu0Ywn55bf/bExrqilFw0Yg6jpnniUyB5eStQcLvdRer2OL9xsPoUJ TCSJjGfaCvS1gSqLLd2I7IoDTG3gjzitGhOilbQamyYfk9iERQicSHwaDzEDpVYCASD3p6ooWB6 qnlXAYOcD4dgzy4jtNLHha2pP0n0opgRoTqdRdF/y/ETf X-Gm-Gg: ASbGncvhMzozNKjnm0iROMoP3zIRQ2svuhfFUGfjHraS0q5dQkoeH1U1Q697zIMFTLn h3TuLHedWtD/raxTtsjRkm5/jMnAxHCy3f6JPBv1hVUpV/E8aBvQyCWgyRNmzpFocevjqO4I8Bz 7FvLsjcu7Al+fcZjji6UhrD43NluJlfZC2a/57rttfWDLeZwVE3Guuw92S5V+7p57T393VMsej0 3A7CxtQJTxl9/7cHegWZPC3L+LWh1zj4Z8s0nLWNclTxiTVoSGnkJMUNNJpd93XuusaOP/k6Uxd ZC99FNt7L68+IUMQNFc2afHXj4h2Rcn4LDHlJamLBHUa8aRD+Oi3HhgPIPJrcn5UKhfqQNcRBY3 37IPdim+v/MluvM6ffNi5eKzEmYplRqU= X-Google-Smtp-Source: AGHT+IEkt3UErBj1rjEHXRnU7+olqTACHvTBL9WmGKZRhgmHMew9sCPCxSazFp2I/dYc5bEIeIcf/c44gy/H X-Received: by 2002:a05:6602:2c92:b0:940:d8e5:c58 with SMTP id ca18e2360f4ac-94869d20df4mr1112417339f.7.1762434302193; Thu, 06 Nov 2025 05:05:02 -0800 (PST) Received: from postal.iol.unh.edu (postal.iol.unh.edu. [132.177.123.84]) by smtp-relay.gmail.com with ESMTPS id 8926c6da1cb9f-5b7467399ddsm257471173.7.2025.11.06.05.05.02 (version=TLS1_2 cipher=ECDHE-ECDSA-AES128-GCM-SHA256 bits=128/128); Thu, 06 Nov 2025 05:05:02 -0800 (PST) X-Relaying-Domain: iol.unh.edu Date: Thu, 06 Nov 2025 05:05:02 -0800 (PST) Message-ID: <690c9cfe.050a0220.63387.d7faSMTPIN_ADDED_MISSING@mx.google.com> Received: from [172.21.0.2] (unknown [172.18.0.240]) by postal.iol.unh.edu (Postfix) with ESMTP id B707B6050A61; Thu, 6 Nov 2025 08:05:01 -0500 (EST) Subject: |SUCCESS| pw158497-158498 [PATCH] [2/2] net/mlx5: update flow devarg From: dpdklab@iol.unh.edu To: Test Report Cc: dpdk-test-reports@iol.unh.edu In-Reply-To: <20251106083817.166689-2-mkashani@nvidia.com> References: <20251106083817.166689-2-mkashani@nvidia.com> Content-Type: text/plain X-BeenThere: test-report@dpdk.org X-Mailman-Version: 2.1.29 Precedence: list List-Id: automatic DPDK test reports List-Unsubscribe: , List-Archive: List-Post: List-Help: List-Subscribe: , Errors-To: test-report-bounces@dpdk.org Test-Label: iol-compile-arm64-testing Test-Status: SUCCESS http://dpdk.org/patch/158498 _Testing PASS_ Submitter: Maayan Kashani Date: Thursday, November 06 2025 08:38:17 DPDK git baseline: Repo:dpdk-next-net-mlx Branch: master CommitID:4ce83cd2397cb1d9290e59a48ed8e9563cd215d3 158497-158498 --> testing pass Upstream job id: Generic-DPDK-Compile-Meson#441388 Test environment and result as below: +------------------------------+--------------------+ | Environment | dpdk_meson_compile | +==============================+====================+ | Ubuntu 20.04 | PASS | +------------------------------+--------------------+ | Ubuntu 24.04 | PASS | +------------------------------+--------------------+ | Ubuntu 22.04 | PASS | +------------------------------+--------------------+ | Fedora Linux 42 | PASS | +------------------------------+--------------------+ | Red Hat Enterprise Linux 9.5 | PASS | +------------------------------+--------------------+ | CentOS Stream 10 | PASS | +------------------------------+--------------------+ | CentOS Stream 9 | PASS | +------------------------------+--------------------+ | Debian GNU/Linux 12 | PASS | +------------------------------+--------------------+ Ubuntu 20.04 Kernel: 5.15 Compiler: gcc gcc (Ubuntu 9.4.0-1ubuntu1~20.04.2) 9.4.0 Ubuntu 24.04 Kernel: 5.4 Compiler: gcc gcc (Ubuntu 13.3.0-6ubuntu2~24.04) 13.3.0 Ubuntu 22.04 Kernel: 5.4 Compiler: gcc gcc (Ubuntu 11.4.0-1ubuntu1~22.04) 11.4.0 Fedora Linux 42 Kernel: 5.4 Compiler: gcc gcc (GCC) 15.2.1 20250808 (Red Hat 15.2.1-1) Red Hat Enterprise Linux 9.5 Kernel: 5.4 Compiler: gcc gcc (GCC) 11.5.0 20240719 (Red Hat 11.5.0-2) CentOS Stream 10 Kernel: 5.4 Compiler: gcc gcc (GCC) 14.2.1 20250110 (Red Hat 14.2.1-8) CentOS Stream 9 Kernel: 5.4 Compiler: gcc gcc (GCC) 11.5.0 20240719 (Red Hat 11.5.0-11) Debian GNU/Linux 12 Kernel: 5.4 Compiler: gcc gcc (Debian 12.2.0-14+deb12u1) 12.2.0 To view detailed results, visit: https://lab.dpdk.org/results/dashboard/patchsets/34482/ UNH-IOL DPDK Community Lab To manage your email subscriptions, visit: https://lab.dpdk.org/results/dashboard/preferences/subscriptions/