From mboxrd@z Thu Jan 1 00:00:00 1970 Return-Path: Received: from mails.dpdk.org (mails.dpdk.org [217.70.189.124]) by inbox.dpdk.org (Postfix) with ESMTP id E527948A5B for ; Thu, 6 Nov 2025 16:36:31 +0100 (CET) Received: from mails.dpdk.org (localhost [127.0.0.1]) by mails.dpdk.org (Postfix) with ESMTP id E07504013F; Thu, 6 Nov 2025 16:36:31 +0100 (CET) Received: from mail-il1-f227.google.com (mail-il1-f227.google.com [209.85.166.227]) by mails.dpdk.org (Postfix) with ESMTP id C7B0B4013F for ; Thu, 6 Nov 2025 16:36:30 +0100 (CET) Received: by mail-il1-f227.google.com with SMTP id e9e14a558f8ab-4331e9cb748so4700445ab.1 for ; Thu, 06 Nov 2025 07:36:30 -0800 (PST) DKIM-Signature: v=1; a=rsa-sha256; c=relaxed/relaxed; d=iol.unh.edu; s=unh-iol; t=1762443390; x=1763048190; darn=dpdk.org; h=references:in-reply-to:cc:to:from:subject:message-id:date:from:to :cc:subject:date:message-id:reply-to; bh=eJHhgx8iHyLXxVhTUlDhiuJuJDUjtkZh3B2w8DwPxWk=; b=hHo0Fq7P76/uf25X+BuIEYuahw31SWAOUR0OsuRyK3UO8/FD8PJFqdSAC97fSXlTjH p/5ikJw7qvbtO/Bj4QQMOeEXCM3tdNfsx1q1MVfsDA4islAMLpxpNb8T5znBL5MNr24z /pGfECPThRlcZbwgKefe27/gXswOAMRPkdaao= X-Google-DKIM-Signature: v=1; a=rsa-sha256; c=relaxed/relaxed; d=1e100.net; s=20230601; t=1762443390; x=1763048190; h=references:in-reply-to:cc:to:from:subject:message-id:date :x-gm-message-state:from:to:cc:subject:date:message-id:reply-to; bh=eJHhgx8iHyLXxVhTUlDhiuJuJDUjtkZh3B2w8DwPxWk=; b=wcLSMsPXUNb4drInbgQu7l8v/9S4lVwfiOLDIptd5SUPuib26/4rLsmqMa0F4T6Dvw q6GJF8kEec/kWoFDatX+ggATVuI2PSq8jnTIC9JzaktUpg10VdPaue0la2BevYzg1VMV hbv/Adh5Z4iIu8l75eV83P5Strg170wnFZGEZznPKzYU0bfWkA5TMxjWvKggbDXx0JC8 F7yWBWj088GEBrLCe/Rj/iBVF4fTVzN5c9uXS6oJJAEDgPD+KaIsRIhK49WpAJZwVkb6 87tO8ErFTr2yp8beHAV2vlqZ0ASS4a5NNPUr2KjkLJKGgoXfhtRUEp4AoUSPXo7LvOJK eL9g== X-Gm-Message-State: AOJu0Yykb9UzhGwvfa1i9445LAw0EWznu/nf8hCESGIxImCLhjgAZMKk OLP1O6E9phyNVz3spPM7zAuODgVj4O/MTw7LXZauQ4kOa1j3alXEbdDagPwhiiIvDhh2s7novJV aHhJhcTEp1moYkz8zG6y8aysycWiNZOtdfMn/wcn3tiRo X-Gm-Gg: ASbGnct1Ex2kQs+GG31+E50OtBfg8No+MLX5ch6iLzwKYCO45Q3iPswUKogqOCxIcPd QjRcx3ENo7sbZ7TnCdAtnpY8bctkn7ixSLogaFNCKaRx2IMXrtk8nfRcTpkHnrhA7n6CTcRMj83 Q3bQn5Cqq/sGzVR2yiqT4jUzHzIfpBJjeSuoiJHedsgEk6S431wZ7bu4GbZNSdrX40llWuEW7HP O1CdHlMh+XASjvDJ439JOK07rqWKQGTkXCotK9BdcWZYepAoJhaC+JE7CjxE+A7JqVheIKBkSb4 FnObf+sj2Oqo4aLJP6VZ5LRcSAPLKKJfnwHQTwloh9bHC3EMJE+HTaAL3bxHojGUv6oh+eyPcuK QjdE521v/Vo+NFQhgA2jZ7uCSRmYciH4= X-Google-Smtp-Source: AGHT+IGSMTssp5RYX3+QRddRe9Qm650+juv2E5ubIJFLgnmxXcAS8MNnEVVLNCtpkTHg0aACkzPQRA6X5kYh X-Received: by 2002:a92:c244:0:b0:433:2dcb:db41 with SMTP id e9e14a558f8ab-4334ee6e945mr59312045ab.10.1762443390038; Thu, 06 Nov 2025 07:36:30 -0800 (PST) Received: from postal.iol.unh.edu (postal.iol.unh.edu. [132.177.123.84]) by smtp-relay.gmail.com with ESMTPS id e9e14a558f8ab-4335b9eabbfsm824145ab.0.2025.11.06.07.36.29 (version=TLS1_2 cipher=ECDHE-ECDSA-AES128-GCM-SHA256 bits=128/128); Thu, 06 Nov 2025 07:36:30 -0800 (PST) X-Relaying-Domain: iol.unh.edu Date: Thu, 06 Nov 2025 07:36:30 -0800 (PST) Message-ID: <690cc07e.050a0220.7ce4e.42b3SMTPIN_ADDED_MISSING@mx.google.com> Received: from [172.21.0.7] (unknown [172.18.0.240]) by postal.iol.unh.edu (Postfix) with ESMTP id 9A0786050A61; Thu, 6 Nov 2025 10:36:29 -0500 (EST) Subject: |SUCCESS| pw158527 [PATCH] [v3] examples/l3fwd: add Tx burst size co From: dpdklab@iol.unh.edu To: Test Report Cc: dpdk-test-reports@iol.unh.edu In-Reply-To: <20251106141631.179443-1-sivaprasad.tummala@amd.com> References: <20251106141631.179443-1-sivaprasad.tummala@amd.com> Content-Type: text/plain X-BeenThere: test-report@dpdk.org X-Mailman-Version: 2.1.29 Precedence: list List-Id: automatic DPDK test reports List-Unsubscribe: , List-Archive: List-Post: List-Help: List-Subscribe: , Errors-To: test-report-bounces@dpdk.org Test-Label: iol-unit-amd64-testing Test-Status: SUCCESS http://dpdk.org/patch/158527 _Testing PASS_ Submitter: Sivaprasad Tummala Date: Thursday, November 06 2025 14:16:31 DPDK git baseline: Repo:dpdk Branch: master CommitID:87f7895e470c13e13efd6762d701139d0987294a 158527 --> testing pass Upstream job id: Generic-VM-Unit-Test-DPDK#32346 Test environment and result as below: +-------------------------------+----------------+ | Environment | dpdk_unit_test | +===============================+================+ | CentOS Stream 9 | PASS | +-------------------------------+----------------+ | CentOS Stream 10 | PASS | +-------------------------------+----------------+ | Debian GNU/Linux 12 | PASS | +-------------------------------+----------------+ | Fedora Linux 40 | PASS | +-------------------------------+----------------+ | Fedora Linux 41 | PASS | +-------------------------------+----------------+ | Red Hat Enterprise Linux 8.10 | PASS | +-------------------------------+----------------+ | Fedora Linux 42 | PASS | +-------------------------------+----------------+ | Red Hat Enterprise Linux 9.5 | PASS | +-------------------------------+----------------+ | Ubuntu 20.04 | PASS | +-------------------------------+----------------+ | Ubuntu 22.04 | PASS | +-------------------------------+----------------+ | Ubuntu 24.04 | PASS | +-------------------------------+----------------+ | Windows Server 2022 | PASS | +-------------------------------+----------------+ CentOS Stream 9 Kernel: 5.15 Compiler: gcc gcc (GCC) 11.5.0 20240719 (Red Hat 11.5.0-11) CentOS Stream 10 Kernel: 5.15 Compiler: gcc gcc (GCC) 14.2.1 20250110 (Red Hat 14.2.1-8) Debian GNU/Linux 12 Kernel: 5.15 Compiler: gcc gcc (Debian 12.2.0-14+deb12u1) 12.2.0 Fedora Linux 40 Kernel: 5.15 Compiler: gcc gcc (GCC) 14.2.1 20240912 (Red Hat 14.2.1-3) Fedora Linux 41 Kernel: 5.15 Compiler: clang gcc (GCC) 14.3.1 20250523 (Red Hat 14.3.1-1) Red Hat Enterprise Linux 8.10 Kernel: 5.15 Compiler: gcc gcc (GCC) 8.5.0 20210514 (Red Hat 8.5.0-22) Fedora Linux 42 Kernel: 5.15 Compiler: clang gcc (GCC) 15.2.1 20250808 (Red Hat 15.2.1-1) Red Hat Enterprise Linux 9.5 Kernel: 5.15 Compiler: gcc gcc (GCC) 11.5.0 20240719 (Red Hat 11.5.0-2) Ubuntu 20.04 Kernel: 5.15 Compiler: gcc gcc (Ubuntu 9.4.0-1ubuntu1~20.04.2) 9.4.0 Ubuntu 22.04 Kernel: 5.15 Compiler: gcc gcc (Ubuntu 11.4.0-1ubuntu1~22.04) 11.4.0 Ubuntu 24.04 Kernel: 5.15 Compiler: gcc gcc (Ubuntu 13.3.0-6ubuntu2~24.04) 13.3.0 Windows Server 2022 Kernel: 10.0.20348.2031 Compiler: clang 15.0.7, gcc 14.1.0 (MinGW), and MSVC VS 19.39.33521 To view detailed results, visit: https://lab.dpdk.org/results/dashboard/patchsets/34487/ UNH-IOL DPDK Community Lab To manage your email subscriptions, visit: https://lab.dpdk.org/results/dashboard/preferences/subscriptions/