From mboxrd@z Thu Jan 1 00:00:00 1970 Return-Path: Received: from mails.dpdk.org (mails.dpdk.org [217.70.189.124]) by inbox.dpdk.org (Postfix) with ESMTP id 9B4DF48A5B for ; Thu, 6 Nov 2025 17:07:16 +0100 (CET) Received: from mails.dpdk.org (localhost [127.0.0.1]) by mails.dpdk.org (Postfix) with ESMTP id 7F3E24013F; Thu, 6 Nov 2025 17:07:16 +0100 (CET) Received: from mail-il1-f225.google.com (mail-il1-f225.google.com [209.85.166.225]) by mails.dpdk.org (Postfix) with ESMTP id 4543B4013F for ; Thu, 6 Nov 2025 17:07:15 +0100 (CET) Received: by mail-il1-f225.google.com with SMTP id e9e14a558f8ab-4332d5be8adso8269145ab.0 for ; Thu, 06 Nov 2025 08:07:15 -0800 (PST) DKIM-Signature: v=1; a=rsa-sha256; c=relaxed/relaxed; d=iol.unh.edu; s=unh-iol; t=1762445234; x=1763050034; darn=dpdk.org; h=cc:to:from:subject:message-id:date:from:to:cc:subject:date :message-id:reply-to; bh=yTPS7SbzpHWqfQiPEeWNh4w1DLBJxGwHtw1QeIGJ+44=; b=TrTcYFS+yiowHdBoHPbSX+7DMvICsbZtFpNDnjdAyvzgOdgmuZ+cVCcbIm1EV9A3QL tPsh7/U0Ut0UyQvT4uxKTYfhiigocMTF3t3COvHemrysVZ0aYRsQ51XCU8kV9lfzXpMb TIycz2qT8JI90aF6UtLjTAYhgMI7mxsdc2TZ0= X-Google-DKIM-Signature: v=1; a=rsa-sha256; c=relaxed/relaxed; d=1e100.net; s=20230601; t=1762445234; x=1763050034; h=cc:to:from:subject:message-id:date:x-gm-message-state:from:to:cc :subject:date:message-id:reply-to; bh=yTPS7SbzpHWqfQiPEeWNh4w1DLBJxGwHtw1QeIGJ+44=; b=AOwMS+/E+z3YXhAj/JpGlA7wMc3BsbtUdWSXUldSHlgcjFNsyTzEbqrV1/lz/ZsEu4 tlPBOA1iadh8Xe8kj/qhLnIpwhtKrYG/pKtOuFEQbDblSp0myKAeyj8BF7VKQ6U3Bae2 jYghnTTKpAEU1w5+Ah4jgegpixMyp88FgCoHuB7C6ypvH1ykdeQBbA0ngjMeKC3cfhrZ DM/M6+A8l8HyzQi/t+9Y4GX6oGeOVKKEXVpleKJ09oShDvAO8EWIxMG0UuG/bR83dk+x ys0Hgl+27QT8eXCX6IR3vZPY1WWBhuDo2kG3zLsVUBhedhbYpaLwGKYoVJCEL44KGOS9 NJBA== X-Gm-Message-State: AOJu0YwhdFmjyEOZ8LeUBf/LT9AE8d/MEsGco4A7nD5g/gVoaADyy8QV Umx9excDTH4WmCzgTbtF0aqVgruTW4WDPUHtxLcvHBkvZBAUlGwAoPHrbKuirvMD6f4WRzfAJ8M jZeMF2QZGZLAiA6u5Z+pqAaAkURM86VR9FdBA X-Gm-Gg: ASbGncvDya1TkjMWzDx5EDMmEcY0jz4kFgvSghsJqJwubDDqeuz89GTr4oZ4Pu04RuR 5nH+cdkkvJFxOlzhQi2glTgmpvBxgTZdSrn8Sj3DPqd/5+uuzqt939wmi22BHhqHVuEEakrJMUa NGY7bpWT6zGk4wzZAfN6zWxAEpDYnV6eOJUdYVMaeXp33+E5BT7SZukTZr+SBFOKG43vAMZlrYD lp4SKz3ocIkYrT5Lwm7N2R+vpuZ4PXMP8G9mkmYk8sKEFccqL5rE4TLQ4hAohaC6ms1jD+kOHbY WzFBzpZcIrftwW4U1GUjFTrJW1sAlhXrvkJQZ+HRgjAemDvQRsDFVIDQo2N6kaDiaxQh6TrLker d6WT+MdVvyXGdSgpjZnnTXSr5EjzyISE= X-Google-Smtp-Source: AGHT+IFNUkXBEULAv3B3WGwhaFXOTSid1WlRSAVNidcUxBidtQxoJb3HTWACdbegjb131IbkOI7u/7V6PT6+ X-Received: by 2002:a05:6e02:b46:b0:432:fbe2:35ef with SMTP id e9e14a558f8ab-433407dfbebmr112329905ab.30.1762445234159; Thu, 06 Nov 2025 08:07:14 -0800 (PST) Received: from postal.iol.unh.edu (postal.iol.unh.edu. [132.177.123.84]) by smtp-relay.gmail.com with ESMTPS id e9e14a558f8ab-4335b9eabbfsm886635ab.0.2025.11.06.08.07.14 (version=TLS1_2 cipher=ECDHE-ECDSA-AES128-GCM-SHA256 bits=128/128); Thu, 06 Nov 2025 08:07:14 -0800 (PST) X-Relaying-Domain: iol.unh.edu Date: Thu, 06 Nov 2025 08:07:14 -0800 (PST) Message-ID: <690cc7b2.050a0220.7ce4e.4827SMTPIN_ADDED_MISSING@mx.google.com> Received: from [172.21.0.2] (unknown [172.18.0.240]) by postal.iol.unh.edu (Postfix) with ESMTP id C062B6050A61; Thu, 6 Nov 2025 11:07:13 -0500 (EST) Subject: |SUCCESS| [GIT MASTER] 0bd935abcb823f581ce53986986aa54eaf6f8140 From: dpdklab@iol.unh.edu To: Test Report Cc: dpdk-test-reports@iol.unh.edu, Xueming Li , Christian Ehrhardt , Kevin Traynor , Luca Boccassi Content-Type: text/plain X-BeenThere: test-report@dpdk.org X-Mailman-Version: 2.1.29 Precedence: list List-Id: automatic DPDK test reports List-Unsubscribe: , List-Archive: List-Post: List-Help: List-Subscribe: , Errors-To: test-report-bounces@dpdk.org _Testing PASS_ Branch: tags/v24.11 0bd935abcb823f581ce53986986aa54eaf6f8140 --> testing pass Upstream job id: Generic-Unit-Test-DPDK#389217 Test environment and result as below: +------------------------------+----------------+---------------------------+------------------------------+--------------+ | Environment | dpdk_unit_test | cryptodev_sw_zuc_autotest | cryptodev_sw_snow3g_autotest | lpm_autotest | +==============================+================+===========================+==============================+==============+ | CentOS Stream 9 | PASS | SKIPPED | SKIPPED | SKIPPED | +------------------------------+----------------+---------------------------+------------------------------+--------------+ | CentOS Stream 10 | PASS | SKIPPED | SKIPPED | SKIPPED | +------------------------------+----------------+---------------------------+------------------------------+--------------+ | Debian GNU/Linux 12 | PASS | SKIPPED | SKIPPED | SKIPPED | +------------------------------+----------------+---------------------------+------------------------------+--------------+ | Fedora Linux 40 | PASS | SKIPPED | SKIPPED | SKIPPED | +------------------------------+----------------+---------------------------+------------------------------+--------------+ | Fedora Linux 41 | PASS | SKIPPED | SKIPPED | SKIPPED | +------------------------------+----------------+---------------------------+------------------------------+--------------+ | Fedora Linux 42 | PASS | SKIPPED | SKIPPED | SKIPPED | +------------------------------+----------------+---------------------------+------------------------------+--------------+ | Ubuntu 20.04 | PASS | SKIPPED | SKIPPED | PASS | +------------------------------+----------------+---------------------------+------------------------------+--------------+ | Red Hat Enterprise Linux 9.5 | PASS | SKIPPED | SKIPPED | SKIPPED | +------------------------------+----------------+---------------------------+------------------------------+--------------+ | Ubuntu 24.04 | PASS | SKIPPED | SKIPPED | SKIPPED | +------------------------------+----------------+---------------------------+------------------------------+--------------+ | Ubuntu 22.04 | PASS | SKIPPED | SKIPPED | SKIPPED | +------------------------------+----------------+---------------------------+------------------------------+--------------+ | Debian 12 (arm) | SKIPPED | PASS | PASS | SKIPPED | +------------------------------+----------------+---------------------------+------------------------------+--------------+ CentOS Stream 9 Kernel: 5.4 Compiler: gcc gcc (GCC) 11.5.0 20240719 (Red Hat 11.5.0-11) CentOS Stream 10 Kernel: 5.4 Compiler: gcc gcc (GCC) 14.2.1 20250110 (Red Hat 14.2.1-8) Debian GNU/Linux 12 Kernel: 5.4 Compiler: gcc gcc (Debian 12.2.0-14+deb12u1) 12.2.0 Fedora Linux 40 Kernel: 5.4 Compiler: gcc gcc (GCC) 14.2.1 20240912 (Red Hat 14.2.1-3) Fedora Linux 41 Kernel: 5.4 Compiler: clang gcc (GCC) 14.3.1 20250523 (Red Hat 14.3.1-1) Fedora Linux 42 Kernel: 5.4 Compiler: gcc gcc (GCC) 15.2.1 20250808 (Red Hat 15.2.1-1) Ubuntu 20.04 Kernel: 5.4 Compiler: gcc gcc (Ubuntu 9.4.0-1ubuntu1~20.04.2) 9.4.0 Red Hat Enterprise Linux 9.5 Kernel: 5.4 Compiler: gcc gcc (GCC) 11.5.0 20240719 (Red Hat 11.5.0-2) Ubuntu 24.04 Kernel: 5.4 Compiler: gcc gcc (Ubuntu 13.3.0-6ubuntu2~24.04) 13.3.0 Ubuntu 22.04 Kernel: 5.4 Compiler: gcc gcc (Ubuntu 11.4.0-1ubuntu1~22.04) 11.4.0 Debian 12 (arm) Kernel: Depends on container host Compiler: gcc (Debian 12.2.0-14) 12.2.0 To view detailed results, visit: https://lab.dpdk.org/results/dashboard/tarballs/35476/ UNH-IOL DPDK Community Lab To manage your email subscriptions, visit: https://lab.dpdk.org/results/dashboard/preferences/subscriptions/