From mboxrd@z Thu Jan 1 00:00:00 1970 Return-Path: Received: from mails.dpdk.org (mails.dpdk.org [217.70.189.124]) by inbox.dpdk.org (Postfix) with ESMTP id AA98A48A5B for ; Thu, 6 Nov 2025 17:18:33 +0100 (CET) Received: from mails.dpdk.org (localhost [127.0.0.1]) by mails.dpdk.org (Postfix) with ESMTP id A633D4013F; Thu, 6 Nov 2025 17:18:33 +0100 (CET) Received: from mail-qv1-f97.google.com (mail-qv1-f97.google.com [209.85.219.97]) by mails.dpdk.org (Postfix) with ESMTP id 159A94013F for ; Thu, 6 Nov 2025 17:18:32 +0100 (CET) Received: by mail-qv1-f97.google.com with SMTP id 6a1803df08f44-87dfd3cfafbso12173866d6.0 for ; Thu, 06 Nov 2025 08:18:32 -0800 (PST) DKIM-Signature: v=1; a=rsa-sha256; c=relaxed/relaxed; d=iol.unh.edu; s=unh-iol; t=1762445911; x=1763050711; darn=dpdk.org; h=references:in-reply-to:cc:to:from:subject:message-id:date:from:to :cc:subject:date:message-id:reply-to; bh=sUti/G1iqPCGqzzK5iw7ZALdeLjxUvLjlIzA6XCjl3w=; b=RTntmdrec0x1zBCDd3Aolz5ojRVjz6dXzJNjWVtNcJeIDWopr+klFdrlODcm3igGQk WRCbg31nKx8p+gNrvizHb4K6eAsalyH1xPIk7HUO9aKBObb4G3XUZB+NsdHMudXrP/TI +20ffYYkgesioHsXxdrB3XLHqA4sJp5VqEeVg= X-Google-DKIM-Signature: v=1; a=rsa-sha256; c=relaxed/relaxed; d=1e100.net; s=20230601; t=1762445911; x=1763050711; h=references:in-reply-to:cc:to:from:subject:message-id:date:x-gm-gg :x-gm-message-state:from:to:cc:subject:date:message-id:reply-to; bh=sUti/G1iqPCGqzzK5iw7ZALdeLjxUvLjlIzA6XCjl3w=; b=o5qNVqB6bnBYjLb6nFaNsbdndbrSHU7g+AEp5x/ogd0/sjnFnsf9y2dF5XQ1b8cd9d qGioLXHJr3K8zHKIuqfnaoxMv/qxXMsmYmNpm33ZlCM7gFjDySHiJKRbGLcTkuchBESI b8kPil/FP87/hTB2xzM8wPIAsuUHuStQyb66LFM62V1zJgtbknLGUfzeWW7eu7scQWAt dOqq2RS7EtEA+YA4CWHS4/x5MSldouIJPnIwOo9BMXmQ4lXFUDLguT9oh3RfrQeHz7NK sWF6+tjw9xoX5S8l7KVxND2w0nUHaijVbt5VeQkQU//up4BQGCrmq/WORTUtWCUdcwmR oPWw== X-Gm-Message-State: AOJu0YwWSYvzwhzmEfVvXfcENFma0x4xPcpeoIbgvwJBDaKsKeDCP0cD nKpC7s/szvcmcBvnqOiWW7KZFD84IVSbaGeNZ6R+EguuldjMDSZMxlJioVxI4tx1ubP/mkseOWk 7+e9jTajs18zFK/jRS++9k7Oz0wY51LqaSnDC5Xgyh3z2KmjMy1dzfwutqzWI X-Gm-Gg: ASbGnctrn4obrEro63NgIqmuFx8P7hyM866hYf5q+rnJT9YP6fAN4Dv+CRKbJfQiAIY XkkgrB5YfNKR9TjqR2EUg+OtHZSCyfzLIFjbbVptBKHIvjdI2wklwxRnEr25i63vNYiAGookczM Ww8tSySednNR5pAA5E8ZuhuHfESCzpNcU9sC+peVJD6Y5ubUdiePKBjSVQrBbWVoVU50Ltp+e9J i2n0QMLhuPTw/Ay8R3Wf/XVt3mDxh3ciewRYJP2NQmbg+CAjWQIw6NZZzkYvgzbqahVCqGGzlLl cQqJY+3gd7JyKDoRrQYvazs+bjpsVemw5DK4eC560g1dSdWe/S4BYGfevMPIEOf83pE3/fhdqMa g/97fbmgv X-Google-Smtp-Source: AGHT+IGg2uG1PnZMVp24XXhd+kkeftJeqXACMPkL5+DBNe42IjzdQWc4ov5RSSsjLdR2t3G4OT2X12zofADc X-Received: by 2002:a05:6214:1d25:b0:794:5578:70 with SMTP id 6a1803df08f44-88167afce2bmr978396d6.6.1762445911089; Thu, 06 Nov 2025 08:18:31 -0800 (PST) Received: from postal.iol.unh.edu (postal.iol.unh.edu. [2606:4100:3880:1234::84]) by smtp-relay.gmail.com with ESMTPS id 6a1803df08f44-880828b978bsm2699436d6.7.2025.11.06.08.18.31 (version=TLS1_2 cipher=ECDHE-ECDSA-AES128-GCM-SHA256 bits=128/128); Thu, 06 Nov 2025 08:18:31 -0800 (PST) X-Relaying-Domain: iol.unh.edu Date: Thu, 06 Nov 2025 08:18:31 -0800 (PST) Message-ID: <690cca57.d40a0220.23b505.dee4SMTPIN_ADDED_MISSING@mx.google.com> Received: from [172.21.0.2] (unknown [172.18.0.240]) by postal.iol.unh.edu (Postfix) with ESMTP id C8454604D420; Thu, 6 Nov 2025 11:18:30 -0500 (EST) Subject: |SUCCESS| pw158527 [PATCH] [v3] examples/l3fwd: add Tx burst size co From: dpdklab@iol.unh.edu To: Test Report Cc: dpdk-test-reports@iol.unh.edu In-Reply-To: <20251106141631.179443-1-sivaprasad.tummala@amd.com> References: <20251106141631.179443-1-sivaprasad.tummala@amd.com> Content-Type: text/plain X-BeenThere: test-report@dpdk.org X-Mailman-Version: 2.1.29 Precedence: list List-Id: automatic DPDK test reports List-Unsubscribe: , List-Archive: List-Post: List-Help: List-Subscribe: , Errors-To: test-report-bounces@dpdk.org Test-Label: iol-compile-amd64-testing Test-Status: SUCCESS http://dpdk.org/patch/158527 _Testing PASS_ Submitter: Sivaprasad Tummala Date: Thursday, November 06 2025 14:16:31 DPDK git baseline: Repo:dpdk Branch: master CommitID:87f7895e470c13e13efd6762d701139d0987294a 158527 --> testing pass Upstream job id: Windows-Compile-DPDK-Native#32171 Test environment and result as below: +-------------------------------+--------------------+------------------+-------------------+-------------------------+ | Environment | dpdk_meson_compile | dpdk_compile_ovs | dpdk_msvc_compile | dpdk_llvm_clang_compile | +===============================+====================+==================+===================+=========================+ | CentOS Stream 9 | PASS | SKIPPED | SKIPPED | SKIPPED | +-------------------------------+--------------------+------------------+-------------------+-------------------------+ | CentOS Stream 10 | PASS | SKIPPED | SKIPPED | SKIPPED | +-------------------------------+--------------------+------------------+-------------------+-------------------------+ | Debian GNU/Linux 12 | PASS | SKIPPED | SKIPPED | SKIPPED | +-------------------------------+--------------------+------------------+-------------------+-------------------------+ | Fedora Linux 42 | PASS | PASS | SKIPPED | SKIPPED | +-------------------------------+--------------------+------------------+-------------------+-------------------------+ | Ubuntu 20.04 | PASS | SKIPPED | SKIPPED | SKIPPED | +-------------------------------+--------------------+------------------+-------------------+-------------------------+ | Red Hat Enterprise Linux 8.10 | PASS | SKIPPED | SKIPPED | SKIPPED | +-------------------------------+--------------------+------------------+-------------------+-------------------------+ | openSUSE Leap 15.6 | PASS | SKIPPED | SKIPPED | SKIPPED | +-------------------------------+--------------------+------------------+-------------------+-------------------------+ | Red Hat Enterprise Linux 9.5 | PASS | SKIPPED | SKIPPED | SKIPPED | +-------------------------------+--------------------+------------------+-------------------+-------------------------+ | FreeBSD 14.2 | PASS | SKIPPED | SKIPPED | SKIPPED | +-------------------------------+--------------------+------------------+-------------------+-------------------------+ | Ubuntu 22.04 | PASS | SKIPPED | SKIPPED | SKIPPED | +-------------------------------+--------------------+------------------+-------------------+-------------------------+ | Ubuntu 24.04 | PASS | PASS | SKIPPED | SKIPPED | +-------------------------------+--------------------+------------------+-------------------+-------------------------+ | Alpine Linux 3.22.0 | PASS | SKIPPED | SKIPPED | SKIPPED | +-------------------------------+--------------------+------------------+-------------------+-------------------------+ | Windows Server 2022 | SKIPPED | SKIPPED | PASS | PASS | +-------------------------------+--------------------+------------------+-------------------+-------------------------+ CentOS Stream 9 Kernel: 5.15 Compiler: gcc gcc (GCC) 11.5.0 20240719 (Red Hat 11.5.0-11) CentOS Stream 10 Kernel: 5.15 Compiler: gcc gcc (GCC) 14.2.1 20250110 (Red Hat 14.2.1-8) Debian GNU/Linux 12 Kernel: 5.15 Compiler: gcc gcc (Debian 12.2.0-14+deb12u1) 12.2.0 Fedora Linux 42 Kernel: 5.15 Compiler: clang gcc (GCC) 15.2.1 20250808 (Red Hat 15.2.1-1) Ubuntu 20.04 Kernel: 4.19 Compiler: gcc gcc (Ubuntu 9.4.0-1ubuntu1~20.04.2) 9.4.0 Red Hat Enterprise Linux 8.10 Kernel: 5.15 Compiler: gcc gcc (GCC) 8.5.0 20210514 (Red Hat 8.5.0-22) openSUSE Leap 15.6 Kernel: 5.15 Compiler: gcc gcc (SUSE Linux) 7.5.0 Red Hat Enterprise Linux 9.5 Kernel: 5.15 Compiler: gcc gcc (GCC) 11.5.0 20240719 (Red Hat 11.5.0-2) FreeBSD 14.2 Kernel: 14.2-RELEASE Compiler: clang 18.1.6 Ubuntu 22.04 Kernel: 5.15 Compiler: gcc gcc (Ubuntu 11.4.0-1ubuntu1~22.04) 11.4.0 Ubuntu 24.04 Kernel: 5.15 Compiler: gcc gcc (Ubuntu 13.3.0-6ubuntu2~24.04) 13.3.0 Alpine Linux 3.22.0 Kernel: 5.15 Compiler: gcc gcc (Alpine 14.2.0) 14.2.0 Windows Server 2022 Kernel: 10.0.20348.2031 Compiler: clang 15.0.7, gcc 14.1.0 (MinGW), and MSVC VS 19.39.33521 To view detailed results, visit: https://lab.dpdk.org/results/dashboard/patchsets/34487/ UNH-IOL DPDK Community Lab To manage your email subscriptions, visit: https://lab.dpdk.org/results/dashboard/preferences/subscriptions/