From mboxrd@z Thu Jan 1 00:00:00 1970 Return-Path: Received: from mails.dpdk.org (mails.dpdk.org [217.70.189.124]) by inbox.dpdk.org (Postfix) with ESMTP id CC71146E24 for ; Thu, 6 Nov 2025 17:29:52 +0100 (CET) Received: from mails.dpdk.org (localhost [127.0.0.1]) by mails.dpdk.org (Postfix) with ESMTP id B21C54013F; Thu, 6 Nov 2025 17:29:52 +0100 (CET) Received: from mail-oa1-f99.google.com (mail-oa1-f99.google.com [209.85.160.99]) by mails.dpdk.org (Postfix) with ESMTP id A3E314013F for ; Thu, 6 Nov 2025 17:29:50 +0100 (CET) Received: by mail-oa1-f99.google.com with SMTP id 586e51a60fabf-3d2059871d0so769431fac.3 for ; Thu, 06 Nov 2025 08:29:50 -0800 (PST) DKIM-Signature: v=1; a=rsa-sha256; c=relaxed/relaxed; d=iol.unh.edu; s=unh-iol; t=1762446590; x=1763051390; darn=dpdk.org; h=references:in-reply-to:cc:to:from:subject:message-id:date:from:to :cc:subject:date:message-id:reply-to; bh=pYm57NOIeeReDQ8Vo92qEEfcDlMLVs/p/nK91Y1+KU0=; b=BxP8LeuBmJ8o4ydlypAxJ+T5ewYEqdtk0HEjGq9rRDc2v2FI8722vuCgZHfQ2VuQBl roe+PaxPra261On93exMCUuG5ScOWO1naUBE7PjI/3gT5NPbGT4k0RewnqaVygKI9tPn DZ/274+dFqyYjyXkDobafnTEcCA6qJl5mx9C0= X-Google-DKIM-Signature: v=1; a=rsa-sha256; c=relaxed/relaxed; d=1e100.net; s=20230601; t=1762446590; x=1763051390; h=references:in-reply-to:cc:to:from:subject:message-id:date:x-gm-gg :x-gm-message-state:from:to:cc:subject:date:message-id:reply-to; bh=pYm57NOIeeReDQ8Vo92qEEfcDlMLVs/p/nK91Y1+KU0=; b=Yk1Jjk4MXUFOKruL/0roV+qMa7IWCNdPWjcL8RAGfhYTf96CCXplLeD1K2btErJ34/ crORDlnILIpsjGsugiILH0h4ndd3uBahY/w9ApFzD4zMINbB7pjgnAiUhnJJrP0USPJm 86tHw99GDX0yfI1g3lSm5EKMuMNt85WpIYc0ksPkv3BX0U0kN7u3KEJC0c+fxGk4a/1Q OkkF6lau1KjiQ4Ac4eYgGYTX0uRMyqiorsCzfMRbtIsfZGXFJ2ccbc2IWWsHNK/qubkv 7B5/rOjk8QPNMhaaMT3zlAsu2peMAHFU5gFrRDiQy5gpC55J4RNrGLuw8UKiHb1qvhlP 9TAg== X-Gm-Message-State: AOJu0YwL+CpG9ZMchWy+wZmY/VhSdqXOlvrP0rOsBirwuLFVfWC60AMx WrwXNkZYWpfoBYmJzWCyexx0s1uOI5OsXcv2dNm/e6cfTokI5VH3+kIBLmEhXgMg+NOQgWYRH9I 5GGAjf89j4Z4HTSlKU8TDDbLkSQ7yCbensIFNJ+smafD7LRjKtrKgVPGTf3Go X-Gm-Gg: ASbGncvmOkMi9JQx02iCk/WJ0qTCuN7PmHD3BGMj0T38AEg5TSyhj7jC/50zoccAxO8 Yot2fKAbyJvoD2ZWaRIcyPkKY5lQb5Xh25rl1KD6ynizwHfs9FV31tBblZXtzIlp4fTwL8Bdh7y klsbBXTFeKZT7QSBZZ3ZhgJxZJJ6Qd4h8n9xfEUBNgkAc4x23DpyFaAPZekRZ250lTtUSCiSpbV GOurgt4sIHcFPcpxNFxhXo54JcrHeNDdOn+8mtdccw8reMpwqltYhHGOwKKf4OGC9YdeFnVeJ7v TThGLCYiVjS3qZqsXn5zDl6mMC5TEZAsFC768INqSPgaYCi3X9xokgB26sYKhp1CWrWdAIDaFLX kxnlczzxX X-Google-Smtp-Source: AGHT+IG/+vKDIDTwrmiSKKwZGeZHzHEPG+TEF7dU79HGtWoblHD2fYLKL//ncxuFKcLKmy9mmHQ6T6GF2fQn X-Received: by 2002:a05:6870:82ac:b0:36f:3997:dfaa with SMTP id 586e51a60fabf-3e41e67c988mr36699fac.33.1762446589816; Thu, 06 Nov 2025 08:29:49 -0800 (PST) Received: from postal.iol.unh.edu (postal.iol.unh.edu. [2606:4100:3880:1234::84]) by smtp-relay.gmail.com with ESMTPS id 586e51a60fabf-3e30bfb0c41sm216682fac.20.2025.11.06.08.29.49 (version=TLS1_2 cipher=ECDHE-ECDSA-AES128-GCM-SHA256 bits=128/128); Thu, 06 Nov 2025 08:29:49 -0800 (PST) X-Relaying-Domain: iol.unh.edu Date: Thu, 06 Nov 2025 08:29:49 -0800 (PST) Message-ID: <690cccfd.050a0220.2f51e8.bc34SMTPIN_ADDED_MISSING@mx.google.com> Received: from [172.21.0.2] (unknown [172.18.0.240]) by postal.iol.unh.edu (Postfix) with ESMTP id DDA88604D420; Thu, 6 Nov 2025 11:29:48 -0500 (EST) Subject: |SUCCESS| pw158527 [PATCH] [v3] examples/l3fwd: add Tx burst size co From: dpdklab@iol.unh.edu To: Test Report Cc: dpdk-test-reports@iol.unh.edu In-Reply-To: <20251106141631.179443-1-sivaprasad.tummala@amd.com> References: <20251106141631.179443-1-sivaprasad.tummala@amd.com> Content-Type: text/plain X-BeenThere: test-report@dpdk.org X-Mailman-Version: 2.1.29 Precedence: list List-Id: automatic DPDK test reports List-Unsubscribe: , List-Archive: List-Post: List-Help: List-Subscribe: , Errors-To: test-report-bounces@dpdk.org Test-Label: iol-compile-amd64-testing Test-Status: SUCCESS http://dpdk.org/patch/158527 _Testing PASS_ Submitter: Sivaprasad Tummala Date: Thursday, November 06 2025 14:16:31 DPDK git baseline: Repo:dpdk Branch: master CommitID:87f7895e470c13e13efd6762d701139d0987294a 158527 --> testing pass Upstream job id: Windows-Compile-DPDK-Native#32172 Test environment and result as below: +-------------------------------+--------------------+------------------+-------------------+-------------------------+----------------------+ | Environment | dpdk_meson_compile | dpdk_compile_ovs | dpdk_msvc_compile | dpdk_llvm_clang_compile | dpdk_mingw64_compile | +===============================+====================+==================+===================+=========================+======================+ | CentOS Stream 9 | PASS | SKIPPED | SKIPPED | SKIPPED | SKIPPED | +-------------------------------+--------------------+------------------+-------------------+-------------------------+----------------------+ | CentOS Stream 10 | PASS | SKIPPED | SKIPPED | SKIPPED | SKIPPED | +-------------------------------+--------------------+------------------+-------------------+-------------------------+----------------------+ | Debian GNU/Linux 12 | PASS | SKIPPED | SKIPPED | SKIPPED | SKIPPED | +-------------------------------+--------------------+------------------+-------------------+-------------------------+----------------------+ | Fedora Linux 42 | PASS | PASS | SKIPPED | SKIPPED | SKIPPED | +-------------------------------+--------------------+------------------+-------------------+-------------------------+----------------------+ | Ubuntu 20.04 | PASS | SKIPPED | SKIPPED | SKIPPED | SKIPPED | +-------------------------------+--------------------+------------------+-------------------+-------------------------+----------------------+ | Red Hat Enterprise Linux 8.10 | PASS | SKIPPED | SKIPPED | SKIPPED | SKIPPED | +-------------------------------+--------------------+------------------+-------------------+-------------------------+----------------------+ | openSUSE Leap 15.6 | PASS | SKIPPED | SKIPPED | SKIPPED | SKIPPED | +-------------------------------+--------------------+------------------+-------------------+-------------------------+----------------------+ | Red Hat Enterprise Linux 9.5 | PASS | SKIPPED | SKIPPED | SKIPPED | SKIPPED | +-------------------------------+--------------------+------------------+-------------------+-------------------------+----------------------+ | FreeBSD 14.2 | PASS | SKIPPED | SKIPPED | SKIPPED | SKIPPED | +-------------------------------+--------------------+------------------+-------------------+-------------------------+----------------------+ | Ubuntu 22.04 | PASS | SKIPPED | SKIPPED | SKIPPED | SKIPPED | +-------------------------------+--------------------+------------------+-------------------+-------------------------+----------------------+ | Ubuntu 24.04 | PASS | PASS | SKIPPED | SKIPPED | SKIPPED | +-------------------------------+--------------------+------------------+-------------------+-------------------------+----------------------+ | Alpine Linux 3.22.0 | PASS | SKIPPED | SKIPPED | SKIPPED | SKIPPED | +-------------------------------+--------------------+------------------+-------------------+-------------------------+----------------------+ | Windows Server 2022 | SKIPPED | SKIPPED | PASS | PASS | PASS | +-------------------------------+--------------------+------------------+-------------------+-------------------------+----------------------+ CentOS Stream 9 Kernel: 5.15 Compiler: gcc gcc (GCC) 11.5.0 20240719 (Red Hat 11.5.0-11) CentOS Stream 10 Kernel: 5.15 Compiler: gcc gcc (GCC) 14.2.1 20250110 (Red Hat 14.2.1-8) Debian GNU/Linux 12 Kernel: 5.15 Compiler: gcc gcc (Debian 12.2.0-14+deb12u1) 12.2.0 Fedora Linux 42 Kernel: 5.15 Compiler: clang gcc (GCC) 15.2.1 20250808 (Red Hat 15.2.1-1) Ubuntu 20.04 Kernel: 4.19 Compiler: gcc gcc (Ubuntu 9.4.0-1ubuntu1~20.04.2) 9.4.0 Red Hat Enterprise Linux 8.10 Kernel: 5.15 Compiler: gcc gcc (GCC) 8.5.0 20210514 (Red Hat 8.5.0-22) openSUSE Leap 15.6 Kernel: 5.15 Compiler: gcc gcc (SUSE Linux) 7.5.0 Red Hat Enterprise Linux 9.5 Kernel: 5.15 Compiler: gcc gcc (GCC) 11.5.0 20240719 (Red Hat 11.5.0-2) FreeBSD 14.2 Kernel: 14.2-RELEASE Compiler: clang 18.1.6 Ubuntu 22.04 Kernel: 5.15 Compiler: gcc gcc (Ubuntu 11.4.0-1ubuntu1~22.04) 11.4.0 Ubuntu 24.04 Kernel: 5.15 Compiler: gcc gcc (Ubuntu 13.3.0-6ubuntu2~24.04) 13.3.0 Alpine Linux 3.22.0 Kernel: 5.15 Compiler: gcc gcc (Alpine 14.2.0) 14.2.0 Windows Server 2022 Kernel: 10.0.20348.2031 Compiler: clang 15.0.7, gcc 14.1.0 (MinGW), and MSVC VS 19.39.33521 To view detailed results, visit: https://lab.dpdk.org/results/dashboard/patchsets/34487/ UNH-IOL DPDK Community Lab To manage your email subscriptions, visit: https://lab.dpdk.org/results/dashboard/preferences/subscriptions/