From mboxrd@z Thu Jan 1 00:00:00 1970 Return-Path: Received: from mails.dpdk.org (mails.dpdk.org [217.70.189.124]) by inbox.dpdk.org (Postfix) with ESMTP id E63CE48A5B for ; Thu, 6 Nov 2025 18:02:47 +0100 (CET) Received: from mails.dpdk.org (localhost [127.0.0.1]) by mails.dpdk.org (Postfix) with ESMTP id D30EB4013F; Thu, 6 Nov 2025 18:02:47 +0100 (CET) Received: from mail-pg1-f227.google.com (mail-pg1-f227.google.com [209.85.215.227]) by mails.dpdk.org (Postfix) with ESMTP id 6988C4013F for ; Thu, 6 Nov 2025 18:02:46 +0100 (CET) Received: by mail-pg1-f227.google.com with SMTP id 41be03b00d2f7-b9a5b5b47bfso683576a12.1 for ; Thu, 06 Nov 2025 09:02:46 -0800 (PST) DKIM-Signature: v=1; a=rsa-sha256; c=relaxed/relaxed; d=iol.unh.edu; s=unh-iol; t=1762448565; x=1763053365; darn=dpdk.org; h=references:in-reply-to:cc:to:from:subject:message-id:date:from:to :cc:subject:date:message-id:reply-to; bh=xRsCSmgK0lID85kf/vU8V/rS6MwLaDpfsC2MhsDkJCY=; b=aQaDKOJzl/RyFUFKq0X/iu/BoiiuLaRHPtdW11BiyN/tqBhVuHoULNCoTlJwwdtwHa 2zSwCQOp70GDemiWp5rG4oLNZLQLSyH+gXG30qoksTSIO7dwpKg/q21rWf9LnQfNYNrQ eBfdEucPceyazb5VslpC6w9EV/lrUt9QKQBds= X-Google-DKIM-Signature: v=1; a=rsa-sha256; c=relaxed/relaxed; d=1e100.net; s=20230601; t=1762448565; x=1763053365; h=references:in-reply-to:cc:to:from:subject:message-id:date:x-gm-gg :x-gm-message-state:from:to:cc:subject:date:message-id:reply-to; bh=xRsCSmgK0lID85kf/vU8V/rS6MwLaDpfsC2MhsDkJCY=; b=W/TGPv5J+lKrdpbaksokbBzpCR/XgVeORJWD7a9Hr34zOGGo018sC0WgGb2cTGX+5J 1rFK4b2J97CdFO3BqxkJ8pute1oW1FK+nFQG82+Qg6TRj7bot0XWo5Raub4/9i2yyZFI VTColXra7qk8LUqZIu4CYH53oSh5JMTQ27wfRDEiVt5jbEpKTCbgc02/nwNMWKAu8KOY HOCyAy6opfZtwuDASSkadKh2bcYccekyNIpAtUCxOGqG/lHt9uKHIcBVt7MOFWJngnW5 YIkemmeEyJQqTviatBtEO1B2ZykddclGIuruVNsDimiY5rCpeSqAvA+l2+/oNB6crXI5 s/+A== X-Gm-Message-State: AOJu0Yz5mfCtfgzANBvSZl+juyy2Js6+ZBeIjKAUss+MZ+3het9uGCtr As39ytNb1i0C4a5KLyXLr5tc4wgNOVqVP7OaxnrH3q/xNRC/IlgYmi4CeYq6bDMI5QyxNCc64KC c0vmAFts3SDI72Bh8HqWGvOO1Q8ikChI4fgm9HCmOT5Xo X-Gm-Gg: ASbGnctOyl3QJWStP7iEohasGugofiZiDYmyFt5C9f/KAU5H9aCMgn9iorYZe+35tWi AbJcxYchpSMcKTgocikQw1O2g8bZz3gDxw65fnRZ7KlAkNGBseB+BeHZ93CxIZLHMUPBdBSFxMT wSsfiJ5cdVyXnnDWnWdMyEv2aJprSDlOTAwffxi0AF3Y72odVRw3dXNszLlvYOQZG0Ih/v8Thl7 X6zOU5u3CZ17D5RqElQGI5nffMnRUm97GeJ65jZ7jV6s4SkitwRFgcBXfMB0nUzS4JrhA2FoZRn CpX089uBZRhgtC25BGwMahoC52S+edGuHMd7l/E9aZ5Yk7cS67WFBxVPlMVXXMAQmjBKEbo8rXf 6Fjg88LKULAIDxgCbv4CmPfWe4pJOD/c= X-Google-Smtp-Source: AGHT+IEtr6RHKjKjGgnTbJ90cc6X0tcZiiT6t5mgT0nLkz5dDB0QFyhccADT/qqkpeVbdPSJ+L7fXFaT6j3o X-Received: by 2002:a17:902:ecc1:b0:295:9db1:ff41 with SMTP id d9443c01a7336-297c03e5933mr2197535ad.21.1762448562470; Thu, 06 Nov 2025 09:02:42 -0800 (PST) Received: from postal.iol.unh.edu (postal.iol.unh.edu. [132.177.123.84]) by smtp-relay.gmail.com with ESMTPS id d9443c01a7336-29651c6a3cesm2720845ad.35.2025.11.06.09.02.42 (version=TLS1_2 cipher=ECDHE-ECDSA-AES128-GCM-SHA256 bits=128/128); Thu, 06 Nov 2025 09:02:42 -0800 (PST) X-Relaying-Domain: iol.unh.edu Date: Thu, 06 Nov 2025 09:02:42 -0800 (PST) Message-ID: <690cd4b2.170a0220.1d6a17.e38aSMTPIN_ADDED_MISSING@mx.google.com> Received: from [172.21.0.9] (unknown [172.18.0.240]) by postal.iol.unh.edu (Postfix) with ESMTP id EB7CB6051830; Thu, 6 Nov 2025 12:02:41 -0500 (EST) Subject: |SUCCESS| pw158500-158505 [PATCH] [v3,6/6] net/iavf: fix QinQ insert From: dpdklab@iol.unh.edu To: Test Report Cc: dpdk-test-reports@iol.unh.edu, Bruce Richardson In-Reply-To: <20251106115016.3035639-7-ciara.loftus@intel.com> References: <20251106115016.3035639-7-ciara.loftus@intel.com> Content-Type: text/plain X-BeenThere: test-report@dpdk.org X-Mailman-Version: 2.1.29 Precedence: list List-Id: automatic DPDK test reports List-Unsubscribe: , List-Archive: List-Post: List-Help: List-Subscribe: , Errors-To: test-report-bounces@dpdk.org Test-Label: iol-compile-arm64-testing Test-Status: SUCCESS http://dpdk.org/patch/158505 _Testing PASS_ Submitter: Ciara Loftus Date: Thursday, November 06 2025 11:50:16 DPDK git baseline: Repo:dpdk-next-net-intel Branch: master CommitID:03e1f9ac281264a54af53f547a2eb80f25bc19e6 158500-158505 --> testing pass Upstream job id: Generic-DPDK-Compile-Meson#441402 Test environment and result as below: +------------------------------+--------------------+ | Environment | dpdk_meson_compile | +==============================+====================+ | Red Hat Enterprise Linux 9.5 | PASS | +------------------------------+--------------------+ | Ubuntu 20.04 | PASS | +------------------------------+--------------------+ | Debian GNU/Linux 12 | PASS | +------------------------------+--------------------+ | Fedora Linux 42 | PASS | +------------------------------+--------------------+ | Ubuntu 24.04 | PASS | +------------------------------+--------------------+ | Ubuntu 22.04 | PASS | +------------------------------+--------------------+ | CentOS Stream 9 | PASS | +------------------------------+--------------------+ | CentOS Stream 10 | PASS | +------------------------------+--------------------+ Red Hat Enterprise Linux 9.5 Kernel: 5.4 Compiler: gcc gcc (GCC) 11.5.0 20240719 (Red Hat 11.5.0-2) Ubuntu 20.04 Kernel: 5.4 Compiler: gcc gcc (Ubuntu 9.4.0-1ubuntu1~20.04.2) 9.4.0 Debian GNU/Linux 12 Kernel: 5.4 Compiler: gcc gcc (Debian 12.2.0-14+deb12u1) 12.2.0 Fedora Linux 42 Kernel: 5.4 Compiler: gcc gcc (GCC) 15.2.1 20250808 (Red Hat 15.2.1-1) Ubuntu 24.04 Kernel: 5.4 Compiler: gcc gcc (Ubuntu 13.3.0-6ubuntu2~24.04) 13.3.0 Ubuntu 22.04 Kernel: 5.4 Compiler: gcc gcc (Ubuntu 11.4.0-1ubuntu1~22.04) 11.4.0 CentOS Stream 9 Kernel: 5.4 Compiler: gcc gcc (GCC) 11.5.0 20240719 (Red Hat 11.5.0-11) CentOS Stream 10 Kernel: 5.4 Compiler: gcc gcc (GCC) 14.2.1 20250110 (Red Hat 14.2.1-8) To view detailed results, visit: https://lab.dpdk.org/results/dashboard/patchsets/34484/ UNH-IOL DPDK Community Lab To manage your email subscriptions, visit: https://lab.dpdk.org/results/dashboard/preferences/subscriptions/