From mboxrd@z Thu Jan 1 00:00:00 1970 Return-Path: Received: from mails.dpdk.org (mails.dpdk.org [217.70.189.124]) by inbox.dpdk.org (Postfix) with ESMTP id 36CE548A5B for ; Thu, 6 Nov 2025 18:16:52 +0100 (CET) Received: from mails.dpdk.org (localhost [127.0.0.1]) by mails.dpdk.org (Postfix) with ESMTP id 30ED04013F; Thu, 6 Nov 2025 18:16:52 +0100 (CET) Received: from mail-oa1-f97.google.com (mail-oa1-f97.google.com [209.85.160.97]) by mails.dpdk.org (Postfix) with ESMTP id CE4844013F for ; Thu, 6 Nov 2025 18:16:50 +0100 (CET) Received: by mail-oa1-f97.google.com with SMTP id 586e51a60fabf-3d47192e99bso1364461fac.0 for ; Thu, 06 Nov 2025 09:16:50 -0800 (PST) DKIM-Signature: v=1; a=rsa-sha256; c=relaxed/relaxed; d=iol.unh.edu; s=unh-iol; t=1762449410; x=1763054210; darn=dpdk.org; h=cc:to:from:subject:message-id:date:from:to:cc:subject:date :message-id:reply-to; bh=8aZYGuELWIr7EyVxu5e8BJWCEIt26R+zh5rSDAiShnE=; b=R7fxi3Ut6hpEL20RDnJFprLBY8IsixTI+ojjY14kvRcEE+DaCnnTvytWRlC4Vw1Zpz X7Z477dxFmMbzCwXuJXjlqu5mBZ4tu2WeE4ga2N7L+CLc6qac7vxcpIo45qpaiVZi+Xc N4NudcJsFuZjreC678yLS44jpuXi6YWlcIMuE= X-Google-DKIM-Signature: v=1; a=rsa-sha256; c=relaxed/relaxed; d=1e100.net; s=20230601; t=1762449410; x=1763054210; h=cc:to:from:subject:message-id:date:x-gm-gg:x-gm-message-state:from :to:cc:subject:date:message-id:reply-to; bh=8aZYGuELWIr7EyVxu5e8BJWCEIt26R+zh5rSDAiShnE=; b=fdPH70WiPIh7V8zqxg1VsKe273xFzcRO14L5KzBXuoQo0JR/9Q3/mRLiKBYWRVvTC/ +oYu/fAnk0CL1DHLSlvOasG2oFgVBeTRv3ggz6JwpEBUUNaUzLAdmiFoXD0kvt7uPDFa 1+kMC1+8JHT7AXMep8vy0nUAHfnjy7n4JTXvFQyKUURn0hFCb99nPEtzj2ZWbTOiFJSk aNOKDk1kKGKbtBWXglBDtFLPIuU29nZMLgZd2CiZPYuc5u8J0UhiLs/4dGoHW1Ckhj2V YEXVFC/zWOowwXscowqy8msP2rqc+DbtzOv99BeeASZ1Y0ShJA7Yjvqj8SeejbmfunD0 uyXg== X-Gm-Message-State: AOJu0Yy191AyT/ZKBekN1IyYvJMe+O0i9VToQFLcHGXhQatRDkcLBd0j GI/cuA9vmb3Fl1+6Q9z9yTpNS8qq6pSgjEywGI9NtOBwPX5hU+b+BLUDvk/aGVbx5isneink5uR UmdcrerIfMN4BBgrZzmEmuzuK5ClNTlYZ852V X-Gm-Gg: ASbGncuY3tPs2isp1KA5O8oSOlmR8se4xSP3uv32KNDqsoY8D8wVQsa7rb6EnjYp2g+ ZTtAGag2Sh7WV6hItox0ilJ8ReBhF/TAnr9zWQ4CGotfgKg706iOjYyauDpXbFtDvM0Yi0nRw3v FKl5Vfvo5wyIQKFCCI06sBd6nvnMV/zuHqeXZFXGpaPFMJ15y03vXB+WkAO5SfZKuvKVud+KZb6 Ti+PSWRPrOuQbM9P9yBKwLkjLAooncnPZPvbeXlP1RC759PoXbA2zOTtLSnCADy5XaMgGwnHW0k XrsiYicT9h6IJYxwaHLfmVkfl066X2lfFtz91aMSUrh3xv548DGCsv1XeaCedBffiTYAe+LNwZo IZEgr831r7lGR5haV2RBI5nLFnEZPxko= X-Google-Smtp-Source: AGHT+IE6tDm5pZvKKPOpxrVSAc7Qad9Mu9Vm3DSYDtAL+veTQ2t/oes6vJyiJct3q+c5zlwHm4HDoanG2Q91 X-Received: by 2002:a05:6871:5d0f:b0:3db:7959:a620 with SMTP id 586e51a60fabf-3e41dd2c442mr236775fac.15.1762449410052; Thu, 06 Nov 2025 09:16:50 -0800 (PST) Received: from postal.iol.unh.edu (postal.iol.unh.edu. [132.177.123.84]) by smtp-relay.gmail.com with ESMTPS id 586e51a60fabf-3e41f1d0311sm6175fac.11.2025.11.06.09.16.49 (version=TLS1_2 cipher=ECDHE-ECDSA-AES128-GCM-SHA256 bits=128/128); Thu, 06 Nov 2025 09:16:50 -0800 (PST) X-Relaying-Domain: iol.unh.edu Date: Thu, 06 Nov 2025 09:16:50 -0800 (PST) Message-ID: <690cd802.050a0220.2b4d72.0598SMTPIN_ADDED_MISSING@mx.google.com> Received: from [172.21.0.3] (unknown [172.18.0.240]) by postal.iol.unh.edu (Postfix) with ESMTP id 8A26D6051830; Thu, 6 Nov 2025 12:16:49 -0500 (EST) Subject: |WARNING| [GIT MASTER] 62f583c49bf67dd4d6733ece14e55fe6839e66d1 From: dpdklab@iol.unh.edu To: Test Report Cc: dpdk-test-reports@iol.unh.edu, Xueming Li , Christian Ehrhardt , Kevin Traynor , Luca Boccassi Content-Type: text/plain X-BeenThere: test-report@dpdk.org X-Mailman-Version: 2.1.29 Precedence: list List-Id: automatic DPDK test reports List-Unsubscribe: , List-Archive: List-Post: List-Help: List-Subscribe: , Errors-To: test-report-bounces@dpdk.org _Testing issues_ Branch: tags/v23.11 62f583c49bf67dd4d6733ece14e55fe6839e66d1 --> testing issues Upstream job id: Generic-Unit-Test-DPDK#389238 Test environment and result as below: +------------------------------+----------------+--------------+------------------------------+---------------------------+ | Environment | dpdk_unit_test | lpm_autotest | cryptodev_sw_snow3g_autotest | cryptodev_sw_zuc_autotest | +==============================+================+==============+==============================+===========================+ | CentOS Stream 9 | PASS | SKIPPED | SKIPPED | SKIPPED | +------------------------------+----------------+--------------+------------------------------+---------------------------+ | Debian GNU/Linux 12 | PASS | SKIPPED | SKIPPED | SKIPPED | +------------------------------+----------------+--------------+------------------------------+---------------------------+ | CentOS Stream 10 | PASS | SKIPPED | SKIPPED | SKIPPED | +------------------------------+----------------+--------------+------------------------------+---------------------------+ | Fedora Linux 40 | PASS | SKIPPED | SKIPPED | SKIPPED | +------------------------------+----------------+--------------+------------------------------+---------------------------+ | Fedora Linux 41 | PASS | SKIPPED | SKIPPED | SKIPPED | +------------------------------+----------------+--------------+------------------------------+---------------------------+ | Ubuntu 20.04 | PASS | PASS | SKIPPED | SKIPPED | +------------------------------+----------------+--------------+------------------------------+---------------------------+ | Fedora Linux 42 | PASS | SKIPPED | SKIPPED | SKIPPED | +------------------------------+----------------+--------------+------------------------------+---------------------------+ | Ubuntu 22.04 | PASS | SKIPPED | SKIPPED | SKIPPED | +------------------------------+----------------+--------------+------------------------------+---------------------------+ | Red Hat Enterprise Linux 9.5 | PASS | SKIPPED | SKIPPED | SKIPPED | +------------------------------+----------------+--------------+------------------------------+---------------------------+ | Ubuntu 24.04 | PASS | SKIPPED | SKIPPED | SKIPPED | +------------------------------+----------------+--------------+------------------------------+---------------------------+ | Debian 12 (arm) | SKIPPED | SKIPPED | PASS | PASS | +------------------------------+----------------+--------------+------------------------------+---------------------------+ CentOS Stream 9 Kernel: 5.4 Compiler: gcc gcc (GCC) 11.5.0 20240719 (Red Hat 11.5.0-11) Debian GNU/Linux 12 Kernel: 5.4 Compiler: gcc gcc (Debian 12.2.0-14+deb12u1) 12.2.0 CentOS Stream 10 Kernel: 5.4 Compiler: gcc gcc (GCC) 14.2.1 20250110 (Red Hat 14.2.1-8) Fedora Linux 40 Kernel: 5.4 Compiler: gcc gcc (GCC) 14.2.1 20240912 (Red Hat 14.2.1-3) Fedora Linux 41 Kernel: 5.4 Compiler: gcc gcc (GCC) 14.3.1 20250523 (Red Hat 14.3.1-1) Ubuntu 20.04 Kernel: 5.4 Compiler: gcc gcc (Ubuntu 9.4.0-1ubuntu1~20.04.2) 9.4.0 Fedora Linux 42 Kernel: 5.4 Compiler: gcc gcc (GCC) 15.2.1 20250808 (Red Hat 15.2.1-1) Ubuntu 22.04 Kernel: 5.4 Compiler: gcc gcc (Ubuntu 11.4.0-1ubuntu1~22.04) 11.4.0 Red Hat Enterprise Linux 9.5 Kernel: 5.4 Compiler: gcc gcc (GCC) 11.5.0 20240719 (Red Hat 11.5.0-2) Ubuntu 24.04 Kernel: 5.4 Compiler: gcc gcc (Ubuntu 13.3.0-6ubuntu2~24.04) 13.3.0 Debian 12 (arm) Kernel: Depends on container host Compiler: gcc (Debian 12.2.0-14) 12.2.0 To view detailed results, visit: https://lab.dpdk.org/results/dashboard/tarballs/35477/ UNH-IOL DPDK Community Lab To manage your email subscriptions, visit: https://lab.dpdk.org/results/dashboard/preferences/subscriptions/