From: dpdklab@iol.unh.edu
To: Test Report <test-report@dpdk.org>
Cc: dpdk-test-reports@iol.unh.edu,
Stephen Hemminger <stephen@networkplumber.org>
Subject: |WARNING| pw158529-158531 [PATCH] [3/3] bus/fslmc: add support for h
Date: Thu, 06 Nov 2025 09:40:15 -0800 (PST) [thread overview]
Message-ID: <690cdd7f.050a0220.1cc64e.b4a7SMTPIN_ADDED_MISSING@mx.google.com> (raw)
In-Reply-To: <20251106163807.201451-3-hemant.agrawal@nxp.com>
Test-Label: iol-sample-apps-testing
Test-Status: WARNING
http://dpdk.org/patch/158531
_Testing issues_
Submitter: Hemant Agrawal <hemant.agrawal@nxp.com>
Date: Thursday, November 06 2025 16:38:07
DPDK git baseline: Repo:dpdk-next-net
Branch: master
CommitID:591ee7f468aebec30d68d30afa8d5e4dcfc897dc
158529-158531 --> testing issues
Upstream job id: ACVP-FIPS-testing#11705
Test environment and result as below:
+--------------+----------------------+----------------------+
| Environment | dpdk_fips_validation | compressdev_zlib_pmd |
+==============+======================+======================+
| Ubuntu 20.04 | WARN | SKIPPED |
+--------------+----------------------+----------------------+
| Ubuntu 22.04 | SKIPPED | PASS |
+--------------+----------------------+----------------------+
==== 20 line log output for Ubuntu 20.04 (dpdk_fips_validation): ====
INFO:root:Using response file...
INFO:root:Uploading response file...
INFO:root:Fetching verdict...
INFO:root:Downloading verdict for vector set 3494289
INFO:root:Vector set verdict not ready, waiting 30 seconds...
INFO:root:Vector set verdict not ready, waiting 30 seconds...
INFO:root:Done
INFO:root:Using response file...
INFO:root:Uploading response file...
INFO:root:Fetching verdict...
INFO:root:Downloading verdict for vector set 3494290
INFO:root:Vector set verdict not ready, waiting 30 seconds...
INFO:root:Done
INFO:root:Using response file...
Traceback (most recent call last):
File "/dpdk-ci/tools/acvp/acvp_tool.py", line 368, in <module>
main(
File "/dpdk-ci/tools/acvp/acvp_tool.py", line 314, in main
with open(response_path, 'r') as upload_file:
FileNotFoundError: [Errno 2] No such file or directory: '/root/workspace/ACVP-FIPS-testing/out/acvp-aes-ctr-answers.rsp'
==== End log output ====
Ubuntu 20.04
Kernel: 5.15
Compiler: gcc gcc (Ubuntu 9.4.0-1ubuntu1~20.04.2) 9.4.0
Ubuntu 22.04
Kernel: 5.15
Compiler: gcc gcc (Ubuntu 11.4.0-1ubuntu1~22.04.2) 11.4.0
To view detailed results, visit:
https://lab.dpdk.org/results/dashboard/patchsets/34489/
UNH-IOL DPDK Community Lab
To manage your email subscriptions, visit:
https://lab.dpdk.org/results/dashboard/preferences/subscriptions/
next prev parent reply other threads:[~2025-11-06 17:40 UTC|newest]
Thread overview: 21+ messages / expand[flat|nested] mbox.gz Atom feed top
[not found] <20251106163807.201451-3-hemant.agrawal@nxp.com>
2025-11-06 16:08 ` |SUCCESS| pw158529-158531 [PATCH 3/3] bus/fslmc: add support for hotplug of dpni qemudev
2025-11-06 16:12 ` qemudev
2025-11-06 16:38 ` |SUCCESS| pw158531 " checkpatch
2025-11-06 17:00 ` |PENDING| pw158529-158531 [PATCH] [3/3] bus/fslmc: add support for h dpdklab
2025-11-06 17:03 ` dpdklab
2025-11-06 17:08 ` |SUCCESS| " dpdklab
2025-11-06 17:13 ` |PENDING| " dpdklab
2025-11-06 17:19 ` |SUCCESS| " dpdklab
2025-11-06 17:21 ` |PENDING| " dpdklab
2025-11-06 17:22 ` |SUCCESS| " dpdklab
2025-11-06 17:40 ` dpdklab [this message]
2025-11-06 17:42 ` |WARNING| " dpdklab
2025-11-06 17:52 ` |SUCCESS| " dpdklab
2025-11-06 17:53 ` dpdklab
2025-11-06 18:02 ` dpdklab
2025-11-06 18:32 ` dpdklab
2025-11-06 18:35 ` dpdklab
2025-11-06 18:38 ` |SUCCESS| pw158531 [PATCH 3/3] bus/fslmc: add support for hotplug of dpni 0-day Robot
2025-11-06 18:38 ` 0-day Robot
2025-11-06 19:22 ` |SUCCESS| pw158529-158531 [PATCH] [3/3] bus/fslmc: add support for h dpdklab
2025-11-06 19:53 ` dpdklab
Reply instructions:
You may reply publicly to this message via plain-text email
using any one of the following methods:
* Save the following mbox file, import it into your mail client,
and reply-to-all from there: mbox
Avoid top-posting and favor interleaved quoting:
https://en.wikipedia.org/wiki/Posting_style#Interleaved_style
* Reply using the --to, --cc, and --in-reply-to
switches of git-send-email(1):
git send-email \
--in-reply-to=690cdd7f.050a0220.1cc64e.b4a7SMTPIN_ADDED_MISSING@mx.google.com \
--to=dpdklab@iol.unh.edu \
--cc=dpdk-test-reports@iol.unh.edu \
--cc=stephen@networkplumber.org \
--cc=test-report@dpdk.org \
/path/to/YOUR_REPLY
https://kernel.org/pub/software/scm/git/docs/git-send-email.html
* If your mail client supports setting the In-Reply-To header
via mailto: links, try the mailto: link
Be sure your reply has a Subject: header at the top and a blank line
before the message body.
This is a public inbox, see mirroring instructions
for how to clone and mirror all data and code used for this inbox;
as well as URLs for NNTP newsgroup(s).