From mboxrd@z Thu Jan 1 00:00:00 1970 Return-Path: Received: from mails.dpdk.org (mails.dpdk.org [217.70.189.124]) by inbox.dpdk.org (Postfix) with ESMTP id 7202848A5B for ; Thu, 6 Nov 2025 19:07:25 +0100 (CET) Received: from mails.dpdk.org (localhost [127.0.0.1]) by mails.dpdk.org (Postfix) with ESMTP id 6DC5D4013F; Thu, 6 Nov 2025 19:07:25 +0100 (CET) Received: from mail-io1-f99.google.com (mail-io1-f99.google.com [209.85.166.99]) by mails.dpdk.org (Postfix) with ESMTP id 8B4664013F for ; Thu, 6 Nov 2025 19:07:24 +0100 (CET) Received: by mail-io1-f99.google.com with SMTP id ca18e2360f4ac-948640d425aso99220339f.0 for ; Thu, 06 Nov 2025 10:07:24 -0800 (PST) DKIM-Signature: v=1; a=rsa-sha256; c=relaxed/relaxed; d=iol.unh.edu; s=unh-iol; t=1762452444; x=1763057244; darn=dpdk.org; h=references:in-reply-to:cc:to:from:subject:message-id:date:from:to :cc:subject:date:message-id:reply-to; bh=P74I2pMisKrG3jbP0d+WqEwHIBiSH6F7DXojHsVtzsc=; b=FTbW0Mb4D/2t4BP7bHYkfgT1uIkIMAbgPLaMMPRoL+Q+IOn9rzmoO2Bw0Dh4b7mQMt tnE4kJsTbDkvpm0vTaxqYYtt/6JeVWHW6QYfNk6/EwX2huqRHZad2fyns8DRfP//ci52 cRLikeLzDwRFhcJ+ydHHm0txyVUFewFOXBrI4= X-Google-DKIM-Signature: v=1; a=rsa-sha256; c=relaxed/relaxed; d=1e100.net; s=20230601; t=1762452444; x=1763057244; h=references:in-reply-to:cc:to:from:subject:message-id:date:x-gm-gg :x-gm-message-state:from:to:cc:subject:date:message-id:reply-to; bh=P74I2pMisKrG3jbP0d+WqEwHIBiSH6F7DXojHsVtzsc=; b=U4JnAieCozPWc+vHlZZ+1nXzuD5NGbcHx0iKKcpbTL4DJxR4QYNLSladm5csX86ems D3k6ByJetfd1tPPFpThKT2jPYOxE3JG51hJPFL+MdpxoLhdn9pPzA6Yg+0t3dhM2stxn uX4Q3fsf9gKL4qD7hNpqpuSR05RO9WF+Ff5Dm7VIZjAzF4UKJY2pqS3PTEVqA22aKG6d wv1qXdjO16/hpBs4EAol3we32S/0jKKe+vbp83hl4u+FAhCThgWsHMPBH1wJ7ZOTHc/j oV7xskzZBIidA3f+swb+CFGGpzQOUgoAKdQ/Vz8tCHVtStriJfU1N7TI5PFW2AOBlRt2 ZhNg== X-Gm-Message-State: AOJu0YwrmnKFcMcRCUGRf9hfJHRwJQ3P6Hm864vMVqoiklRHRewpqewb BqwKvWabEFG0AeiUCLsozi86vaRURsll8FIQcDmxA1DP5ClL34j037CklypVwufFbbz4Sw56jib 1U0g2COR51oaZXZLbBJ2XNBq7p36aiyr1oATHafXM314W X-Gm-Gg: ASbGncsm4EqjtACGoEeMX+8JhSdvxRo5Q3mln9+O9yuLHGEpzRxqZ+KsdUxkxCH3gaV qKNkTaKUSYc07vHehn57npqR8j5fnZWyia/abBW+JFwDusMofD9miyfEA1Fxij1YdOU+EBqYWkm kJoBuEmDtMD3dDuS9eV3eCc+qhpvVJg7NWKccSjeNJeMK6MvLAZZw7zyQpFetXVuDARGoE7G4ts GmP8Gdff/nsEj144YJy0IC8dlBsJ41eX4y9sYeS40++oGzL8yvX5sL+zoSYgdO2nZeFIZib1UO4 LJXtxjQmgfh4zjeaDhkfUDhRXCRic9kQ6wcEi5jLniGTirpvAgdSn3AvrMjpZJ+t/+Tde9a7lpK NAdzGXVke885mfuv5jKIzJQutae4wiTY= X-Google-Smtp-Source: AGHT+IFobFkLdLkSKdubogbfHWiFBVZ147lAftugEXF4XmFQJ3WlLwEjswWG7If5RUJnI/03IzXWsfhdRHTd X-Received: by 2002:a05:6e02:184a:b0:433:290d:d978 with SMTP id e9e14a558f8ab-4335f4407a7mr5420825ab.15.1762452443807; Thu, 06 Nov 2025 10:07:23 -0800 (PST) Received: from postal.iol.unh.edu (postal.iol.unh.edu. [132.177.123.84]) by smtp-relay.gmail.com with ESMTPS id 8926c6da1cb9f-5b7468b63f7sm359952173.36.2025.11.06.10.07.23 (version=TLS1_2 cipher=ECDHE-ECDSA-AES128-GCM-SHA256 bits=128/128); Thu, 06 Nov 2025 10:07:23 -0800 (PST) X-Relaying-Domain: iol.unh.edu Date: Thu, 06 Nov 2025 10:07:23 -0800 (PST) Message-ID: <690ce3db.050a0220.ef7a7.3124SMTPIN_ADDED_MISSING@mx.google.com> Received: from [172.21.0.2] (unknown [172.18.0.240]) by postal.iol.unh.edu (Postfix) with ESMTP id 5E46C6051830; Thu, 6 Nov 2025 13:07:23 -0500 (EST) Subject: |SUCCESS| pw158528 [PATCH] [v5] net/ice: add option to enable source From: dpdklab@iol.unh.edu To: Test Report Cc: dpdk-test-reports@iol.unh.edu, Bruce Richardson In-Reply-To: <20251106163334.95660-1-anurag.mandal@intel.com> References: <20251106163334.95660-1-anurag.mandal@intel.com> Content-Type: text/plain X-BeenThere: test-report@dpdk.org X-Mailman-Version: 2.1.29 Precedence: list List-Id: automatic DPDK test reports List-Unsubscribe: , List-Archive: List-Post: List-Help: List-Subscribe: , Errors-To: test-report-bounces@dpdk.org Test-Label: iol-unit-amd64-testing Test-Status: SUCCESS http://dpdk.org/patch/158528 _Testing PASS_ Submitter: Anurag Mandal Date: Thursday, November 06 2025 16:33:34 DPDK git baseline: Repo:dpdk-next-net-intel Branch: master CommitID:2a7bebfa5b488f8c49c9c63f2b7b7ce5cc088560 158528 --> testing pass Upstream job id: Generic-Unit-Test-DPDK#389474 Test environment and result as below: +-------------------------------+----------------+ | Environment | dpdk_unit_test | +===============================+================+ | Fedora Linux 40 | PASS | +-------------------------------+----------------+ | Fedora Linux 41 | PASS | +-------------------------------+----------------+ | CentOS Stream 10 | PASS | +-------------------------------+----------------+ | Red Hat Enterprise Linux 9.5 | PASS | +-------------------------------+----------------+ | Ubuntu 24.04 | PASS | +-------------------------------+----------------+ | Red Hat Enterprise Linux 8.10 | PASS | +-------------------------------+----------------+ | Ubuntu 22.04 | PASS | +-------------------------------+----------------+ | Ubuntu 20.04 | PASS | +-------------------------------+----------------+ | Debian GNU/Linux 12 | PASS | +-------------------------------+----------------+ | Fedora Linux 42 | PASS | +-------------------------------+----------------+ | CentOS Stream 9 | PASS | +-------------------------------+----------------+ Fedora Linux 40 Kernel: 5.15 Compiler: clang gcc (GCC) 14.2.1 20240912 (Red Hat 14.2.1-3) Fedora Linux 41 Kernel: 5.15 Compiler: gcc gcc (GCC) 14.3.1 20250523 (Red Hat 14.3.1-1) CentOS Stream 10 Kernel: 5.15 Compiler: gcc gcc (GCC) 14.2.1 20250110 (Red Hat 14.2.1-8) Red Hat Enterprise Linux 9.5 Kernel: 5.15 Compiler: gcc gcc (GCC) 11.5.0 20240719 (Red Hat 11.5.0-2) Ubuntu 24.04 Kernel: 5.15 Compiler: gcc gcc (Ubuntu 13.3.0-6ubuntu2~24.04) 13.3.0 Red Hat Enterprise Linux 8.10 Kernel: 5.15 Compiler: gcc gcc (GCC) 8.5.0 20210514 (Red Hat 8.5.0-22) Ubuntu 22.04 Kernel: 5.15 Compiler: gcc gcc (Ubuntu 11.4.0-1ubuntu1~22.04) 11.4.0 Ubuntu 20.04 Kernel: 5.15 Compiler: gcc gcc (Ubuntu 9.4.0-1ubuntu1~20.04.2) 9.4.0 Debian GNU/Linux 12 Kernel: 5.15 Compiler: gcc gcc (Debian 12.2.0-14+deb12u1) 12.2.0 Fedora Linux 42 Kernel: 5.15 Compiler: clang gcc (GCC) 15.2.1 20250808 (Red Hat 15.2.1-1) CentOS Stream 9 Kernel: 5.15 Compiler: gcc gcc (GCC) 11.5.0 20240719 (Red Hat 11.5.0-11) To view detailed results, visit: https://lab.dpdk.org/results/dashboard/patchsets/34490/ UNH-IOL DPDK Community Lab To manage your email subscriptions, visit: https://lab.dpdk.org/results/dashboard/preferences/subscriptions/