From mboxrd@z Thu Jan 1 00:00:00 1970 Return-Path: Received: from mails.dpdk.org (mails.dpdk.org [217.70.189.124]) by inbox.dpdk.org (Postfix) with ESMTP id 60E2448A5B for ; Thu, 6 Nov 2025 19:13:38 +0100 (CET) Received: from mails.dpdk.org (localhost [127.0.0.1]) by mails.dpdk.org (Postfix) with ESMTP id 43F1A4013F; Thu, 6 Nov 2025 19:13:38 +0100 (CET) Received: from mail-pf1-f227.google.com (mail-pf1-f227.google.com [209.85.210.227]) by mails.dpdk.org (Postfix) with ESMTP id C82FE4013F for ; Thu, 6 Nov 2025 19:13:36 +0100 (CET) Received: by mail-pf1-f227.google.com with SMTP id d2e1a72fcca58-7acd9a03ba9so1246434b3a.1 for ; Thu, 06 Nov 2025 10:13:36 -0800 (PST) DKIM-Signature: v=1; a=rsa-sha256; c=relaxed/relaxed; d=iol.unh.edu; s=unh-iol; t=1762452816; x=1763057616; darn=dpdk.org; h=references:in-reply-to:cc:to:from:subject:message-id:date:from:to :cc:subject:date:message-id:reply-to; bh=w+/s5H8VE+umaVjWl/357QymcJ39A7G7icL7CfgWfUA=; b=IkjDzRT8jtEbZeEyRpEVcuMVs0kDvTliW3MrJ3CFY8Nn+Y8buMbzCz59+3tvJ07RI7 JmU7dxVqmAY90/Nf5x3St73MtSWMyjZI7UfFAmXnOsVeWlBdVv2OTsA3GZ7mgYsRGdaK O/hiYGBHBDW2aCiAdEuy8ZjpzmLd7nKDTppEU= X-Google-DKIM-Signature: v=1; a=rsa-sha256; c=relaxed/relaxed; d=1e100.net; s=20230601; t=1762452816; x=1763057616; h=references:in-reply-to:cc:to:from:subject:message-id:date:x-gm-gg :x-gm-message-state:from:to:cc:subject:date:message-id:reply-to; bh=w+/s5H8VE+umaVjWl/357QymcJ39A7G7icL7CfgWfUA=; b=O9F+y7v+AgM/l6VfFifMMi2TXkFR0Tqp8kiI87IdTriVK1D0ZuCZPyDS159hh8ahBK B5vUJk/mphjrydp4tUqOoT6zfCtW9v10+KPe+vlUBJ+d1B1S4ylwM5qslcLZEqexu+pq +dSxl9+/V+v7Nqw3LD1Wyyg4g/8qeVtkFoHcaImGLD/qE/m6WDleafIVdq7k0qxJ+G/0 KwG3d0QEFmoqZiSDd/BHY5K62vwY7r81JXoK3BRAXGdgnd2TGZdEIM6s0RVryP3BrQj+ ouvuZEpzCYhQbvLE4RkW6oEEeLy1xP6ICa7UgjzN8/mk0gi6O2yb6l07OthihT4upVI1 118Q== X-Gm-Message-State: AOJu0YzOrvuLKWAw6p86210T4BMPypzfhF5VgBRjOsHeRao+H6J0xmbC glsX9eCXfG23Oqa1XPT5s1LRsY/Zm32Gkpph8zuOo3UQiUBv3ZUwjctHz7q3Hv1cnUppNJRLA0L gtFV+9iMu0p2GzZcuiI5sQShFSZz29XOBiwmH5ciWkXtd X-Gm-Gg: ASbGncs2E7gc8Gr8O+zyfatQppjISNRM+GnKoT9Rl+/z2f8NvY8RsAWH0cM9dAvDzEW WZwqIYjzheg33zbfqZUpMDAvYk2UnAQeWZp9e3lSKKpgnzwvgkbWMdR6FT44qh5ijGbCtW/dT57 PkoqAQ3YfpriFdT7jGHMrWa0Ydzau/qiaUWwh0dQZlcNAqAOqGjhtPIHBoIW4SM2DixqRMnysme 29l1kR6zW8b3U1xt6X6xojxuonni07r8tMcQ5nYWsAyxxj0xrpTLUOHKDBZAPmvuN+3l9CL+Hjv ESKq9Gz4Pr2ZY3+VJ8od8yAiuAKWCOQfM0htbaqSDqxjViKbD1j2K8EgaqHseVKQrlbo+6wNLNf PBT4bJXz+Sx2uuS28vRzHQ0y0CO4lkY0= X-Google-Smtp-Source: AGHT+IGEiiu5lzI9sCkj1/cb4G3X5gDxy7Wedi3Reieabd7SlJNUXx0eH/q1Ur+JwyhFvZYUW6E7V1CkkAhp X-Received: by 2002:a05:6a21:3292:b0:2fb:62bb:dec with SMTP id adf61e73a8af0-3522a071dc1mr602620637.39.1762452815892; Thu, 06 Nov 2025 10:13:35 -0800 (PST) Received: from postal.iol.unh.edu (postal.iol.unh.edu. [132.177.123.84]) by smtp-relay.gmail.com with ESMTPS id 41be03b00d2f7-ba8fd8f487dsm148289a12.10.2025.11.06.10.13.35 (version=TLS1_2 cipher=ECDHE-ECDSA-AES128-GCM-SHA256 bits=128/128); Thu, 06 Nov 2025 10:13:35 -0800 (PST) X-Relaying-Domain: iol.unh.edu Date: Thu, 06 Nov 2025 10:13:35 -0800 (PST) Message-ID: <690ce54f.050a0220.361bf9.82b2SMTPIN_ADDED_MISSING@mx.google.com> Received: from [172.21.0.2] (unknown [172.18.0.240]) by postal.iol.unh.edu (Postfix) with ESMTP id 22B626051830; Thu, 6 Nov 2025 13:13:35 -0500 (EST) Subject: |SUCCESS| pw158532 [PATCH] net/ice: adjust RSS LUT settings From: dpdklab@iol.unh.edu To: Test Report Cc: dpdk-test-reports@iol.unh.edu, Bruce Richardson In-Reply-To: <20251106171736.163516-1-vladimir.medvedkin@intel.com> References: <20251106171736.163516-1-vladimir.medvedkin@intel.com> Content-Type: text/plain X-BeenThere: test-report@dpdk.org X-Mailman-Version: 2.1.29 Precedence: list List-Id: automatic DPDK test reports List-Unsubscribe: , List-Archive: List-Post: List-Help: List-Subscribe: , Errors-To: test-report-bounces@dpdk.org Test-Label: iol-compile-amd64-testing Test-Status: SUCCESS http://dpdk.org/patch/158532 _Testing PASS_ Submitter: Vladimir Medvedkin Date: Thursday, November 06 2025 17:17:36 DPDK git baseline: Repo:dpdk-next-net-intel Branch: master CommitID:2a7bebfa5b488f8c49c9c63f2b7b7ce5cc088560 158532 --> testing pass Upstream job id: Generic-DPDK-Compile-Meson#441603 Test environment and result as below: +-------------------------------+--------------------+------------------+ | Environment | dpdk_meson_compile | dpdk_compile_ovs | +===============================+====================+==================+ | Ubuntu 20.04 | PASS | SKIPPED | +-------------------------------+--------------------+------------------+ | FreeBSD 14.2 | PASS | SKIPPED | +-------------------------------+--------------------+------------------+ | CentOS Stream 9 | PASS | SKIPPED | +-------------------------------+--------------------+------------------+ | CentOS Stream 10 | PASS | SKIPPED | +-------------------------------+--------------------+------------------+ | Debian GNU/Linux 12 | PASS | SKIPPED | +-------------------------------+--------------------+------------------+ | Fedora Linux 42 | PASS | PASS | +-------------------------------+--------------------+------------------+ | openSUSE Leap 15.6 | PASS | SKIPPED | +-------------------------------+--------------------+------------------+ | Red Hat Enterprise Linux 8.10 | PASS | SKIPPED | +-------------------------------+--------------------+------------------+ Ubuntu 20.04 Kernel: 4.19 Compiler: gcc gcc (Ubuntu 9.4.0-1ubuntu1~20.04.2) 9.4.0 FreeBSD 14.2 Kernel: 14.2-RELEASE Compiler: clang 18.1.6 CentOS Stream 9 Kernel: 5.15 Compiler: gcc gcc (GCC) 11.5.0 20240719 (Red Hat 11.5.0-11) CentOS Stream 10 Kernel: 5.15 Compiler: gcc gcc (GCC) 14.2.1 20250110 (Red Hat 14.2.1-8) Debian GNU/Linux 12 Kernel: 5.15 Compiler: gcc gcc (Debian 12.2.0-14+deb12u1) 12.2.0 Fedora Linux 42 Kernel: 5.15 Compiler: clang gcc (GCC) 15.2.1 20250808 (Red Hat 15.2.1-1) openSUSE Leap 15.6 Kernel: 5.15 Compiler: gcc gcc (SUSE Linux) 7.5.0 Red Hat Enterprise Linux 8.10 Kernel: 5.15 Compiler: gcc gcc (GCC) 8.5.0 20210514 (Red Hat 8.5.0-22) To view detailed results, visit: https://lab.dpdk.org/results/dashboard/patchsets/34491/ UNH-IOL DPDK Community Lab To manage your email subscriptions, visit: https://lab.dpdk.org/results/dashboard/preferences/subscriptions/