From mboxrd@z Thu Jan 1 00:00:00 1970 Return-Path: Received: from mails.dpdk.org (mails.dpdk.org [217.70.189.124]) by inbox.dpdk.org (Postfix) with ESMTP id 58F1648A5B for ; Thu, 6 Nov 2025 19:31:24 +0100 (CET) Received: from mails.dpdk.org (localhost [127.0.0.1]) by mails.dpdk.org (Postfix) with ESMTP id 552904013F; Thu, 6 Nov 2025 19:31:24 +0100 (CET) Received: from mail-ot1-f99.google.com (mail-ot1-f99.google.com [209.85.210.99]) by mails.dpdk.org (Postfix) with ESMTP id 682E34013F for ; Thu, 6 Nov 2025 19:31:22 +0100 (CET) Received: by mail-ot1-f99.google.com with SMTP id 46e09a7af769-7c68bfe1719so374895a34.3 for ; Thu, 06 Nov 2025 10:31:22 -0800 (PST) DKIM-Signature: v=1; a=rsa-sha256; c=relaxed/relaxed; d=iol.unh.edu; s=unh-iol; t=1762453881; x=1763058681; darn=dpdk.org; h=references:in-reply-to:cc:to:from:subject:message-id:date:from:to :cc:subject:date:message-id:reply-to; bh=g7uZ9oDC16ySeKTNaeAMYsmcnZpmkSC+t+u8ipmD7WE=; b=HuCUj9KXyZgnAJXN1g69J1EPy8HTVUDN9PqOZuNgEC2beiHuOebTdiw3HbIFpxEN+O tLVkMYs2czcUh4eFaTi2ZXza3EJhslHinGUHTbo+8mSQViqWpHCe6wnKskY2sIFJm8kJ QSz+pKTZ953/usun268GU38DLzI40vDGb8iwc= X-Google-DKIM-Signature: v=1; a=rsa-sha256; c=relaxed/relaxed; d=1e100.net; s=20230601; t=1762453881; x=1763058681; h=references:in-reply-to:cc:to:from:subject:message-id:date:x-gm-gg :x-gm-message-state:from:to:cc:subject:date:message-id:reply-to; bh=g7uZ9oDC16ySeKTNaeAMYsmcnZpmkSC+t+u8ipmD7WE=; b=ibLhddaBsA+8ijmxMlsXPYS75NsyaFjw8y0KMMCt+uTvFro4MCE+fJMHm4q1fm0PKm xVTdEZbj5VDHPwBpOsLeHHyg+j+xlfVldcDcMhJOETeN9FZ1X6Xy8S1AOr7knism+vm/ p1SVEfWHGOmMO1p4ZwjbQonzZzd2xJw15cWLzbwCebiSVx3cu05Ot/V7G2T+qw3ItCY5 7zLuU94/P8JCWecGCKI3a2uQ0QjdVhqdB4WvE7BxZO4X/CHJDzYPLwj8yG01ffSjE4Zg Vf7Q2aicoePnzpbjKALo/0Wr+BEP8CnrhpX/ZYvm2nEWZHMGJtgANsc2EB3DPpMJfcJf ZFGg== X-Gm-Message-State: AOJu0Ywk1s9CL/UvfqaFUZEGsI+W8aE5vBy3Q6d3i6wzByq9YZyEt2/D wcwofzXISfyRX/JroEjorLBxAz74+hRoDj1ISDZx/xDaMh6+nbaTuupWGXiDhxfhQtcZYaX6m9F 1w3H1vmpvFoxfIx+MQpLGEZtnBBHQHsriPi/qq8UmCatr X-Gm-Gg: ASbGncubyw14kbg7EtUleOawW3uKt6N85A6sdCwpCmDSKwJH6c4I/6XPIztwMvcUs3x fhRp7ksr2j9IiyZsbEXMlmx53Ltvnut+G346M3SWXGTTi3T6kfp8i0IwzYgk4AMTgjH7af/qTCX WFo8LGMPZop7FsYCDsDuIa7oLv8EOrRODwLLJOkzIyKdFTlyHbY7w3+YuRhco743XB2AOi0LGtS QyDKsENR4Fv/FhHzgh4JBxE458Oog9ptm9/G+J4GiNJn8ZHVxizHwi9t8pQ94GIdgAbgaSDTy7W 2bRw83LoP9PUpjlXswB8qCSemVFd7AkDE6Kloa9DP0z3KMD9aSxPDHmO1HUHxYK5fkgMQFqPkBp jDS2cxncolx/0vM9trdwBUoiU3gLnBq0= X-Google-Smtp-Source: AGHT+IEFs5oGieI2lZCF6VtD995WV+WGZxBdrsD8kzZEqG2wtjsORtXaCHZcvirY2GohR25cFHaBOXEWt39Y X-Received: by 2002:a05:6830:661a:b0:7ac:9a7d:a4a1 with SMTP id 46e09a7af769-7c6f0090b96mr485874a34.32.1762453881473; Thu, 06 Nov 2025 10:31:21 -0800 (PST) Received: from postal.iol.unh.edu (postal.iol.unh.edu. [132.177.123.84]) by smtp-relay.gmail.com with ESMTPS id 46e09a7af769-7c6f108669dsm20395a34.4.2025.11.06.10.31.21 (version=TLS1_2 cipher=ECDHE-ECDSA-AES128-GCM-SHA256 bits=128/128); Thu, 06 Nov 2025 10:31:21 -0800 (PST) X-Relaying-Domain: iol.unh.edu Date: Thu, 06 Nov 2025 10:31:21 -0800 (PST) Message-ID: <690ce979.050a0220.ce571.1146SMTPIN_ADDED_MISSING@mx.google.com> Received: from [172.21.0.2] (unknown [172.18.0.240]) by postal.iol.unh.edu (Postfix) with ESMTP id 02363604D420; Thu, 6 Nov 2025 13:31:21 -0500 (EST) Subject: |SUCCESS| pw158497-158498 [PATCH] [2/2] net/mlx5: update flow devarg From: dpdklab@iol.unh.edu To: Test Report Cc: dpdk-test-reports@iol.unh.edu In-Reply-To: <20251106083817.166689-2-mkashani@nvidia.com> References: <20251106083817.166689-2-mkashani@nvidia.com> Content-Type: text/plain X-BeenThere: test-report@dpdk.org X-Mailman-Version: 2.1.29 Precedence: list List-Id: automatic DPDK test reports List-Unsubscribe: , List-Archive: List-Post: List-Help: List-Subscribe: , Errors-To: test-report-bounces@dpdk.org Test-Label: iol-unit-arm64-testing Test-Status: SUCCESS http://dpdk.org/patch/158498 _Testing PASS_ Submitter: Maayan Kashani Date: Thursday, November 06 2025 08:38:17 DPDK git baseline: Repo:dpdk-next-net-mlx Branch: master CommitID:4ce83cd2397cb1d9290e59a48ed8e9563cd215d3 158497-158498 --> testing pass Upstream job id: Generic-Unit-Test-DPDK#389262 Test environment and result as below: +------------------------------+------------------------------+--------------+---------------------------+----------------+ | Environment | cryptodev_sw_snow3g_autotest | lpm_autotest | cryptodev_sw_zuc_autotest | dpdk_unit_test | +==============================+==============================+==============+===========================+================+ | Debian 12 (arm) | PASS | SKIPPED | PASS | SKIPPED | +------------------------------+------------------------------+--------------+---------------------------+----------------+ | Ubuntu 20.04 | SKIPPED | PASS | SKIPPED | PASS | +------------------------------+------------------------------+--------------+---------------------------+----------------+ | Fedora Linux 41 | SKIPPED | SKIPPED | SKIPPED | PASS | +------------------------------+------------------------------+--------------+---------------------------+----------------+ | Fedora Linux 42 | SKIPPED | SKIPPED | SKIPPED | PASS | +------------------------------+------------------------------+--------------+---------------------------+----------------+ | Fedora Linux 40 | SKIPPED | SKIPPED | SKIPPED | PASS | +------------------------------+------------------------------+--------------+---------------------------+----------------+ | Ubuntu 24.04 | SKIPPED | SKIPPED | SKIPPED | PASS | +------------------------------+------------------------------+--------------+---------------------------+----------------+ | Red Hat Enterprise Linux 9.5 | SKIPPED | SKIPPED | SKIPPED | PASS | +------------------------------+------------------------------+--------------+---------------------------+----------------+ | Debian GNU/Linux 12 | SKIPPED | SKIPPED | SKIPPED | PASS | +------------------------------+------------------------------+--------------+---------------------------+----------------+ | Ubuntu 22.04 | SKIPPED | SKIPPED | SKIPPED | PASS | +------------------------------+------------------------------+--------------+---------------------------+----------------+ | CentOS Stream 9 | SKIPPED | SKIPPED | SKIPPED | PASS | +------------------------------+------------------------------+--------------+---------------------------+----------------+ | CentOS Stream 10 | SKIPPED | SKIPPED | SKIPPED | PASS | +------------------------------+------------------------------+--------------+---------------------------+----------------+ Debian 12 (arm) Kernel: Depends on container host Compiler: gcc (Debian 12.2.0-14) 12.2.0 Ubuntu 20.04 Kernel: 5.4 Compiler: gcc gcc (Ubuntu 9.4.0-1ubuntu1~20.04.2) 9.4.0 Fedora Linux 41 Kernel: 5.4 Compiler: clang gcc (GCC) 14.3.1 20250523 (Red Hat 14.3.1-1) Fedora Linux 42 Kernel: 5.4 Compiler: clang gcc (GCC) 15.2.1 20250808 (Red Hat 15.2.1-1) Fedora Linux 40 Kernel: 5.4 Compiler: clang gcc (GCC) 14.2.1 20240912 (Red Hat 14.2.1-3) Ubuntu 24.04 Kernel: 5.4 Compiler: gcc gcc (Ubuntu 13.3.0-6ubuntu2~24.04) 13.3.0 Red Hat Enterprise Linux 9.5 Kernel: 5.4 Compiler: gcc gcc (GCC) 11.5.0 20240719 (Red Hat 11.5.0-2) Debian GNU/Linux 12 Kernel: 5.4 Compiler: gcc gcc (Debian 12.2.0-14+deb12u1) 12.2.0 Ubuntu 22.04 Kernel: 5.4 Compiler: gcc gcc (Ubuntu 11.4.0-1ubuntu1~22.04) 11.4.0 CentOS Stream 9 Kernel: 5.4 Compiler: gcc gcc (GCC) 11.5.0 20240719 (Red Hat 11.5.0-11) CentOS Stream 10 Kernel: 5.4 Compiler: gcc gcc (GCC) 14.2.1 20250110 (Red Hat 14.2.1-8) To view detailed results, visit: https://lab.dpdk.org/results/dashboard/patchsets/34482/ UNH-IOL DPDK Community Lab To manage your email subscriptions, visit: https://lab.dpdk.org/results/dashboard/preferences/subscriptions/