From mboxrd@z Thu Jan 1 00:00:00 1970 Return-Path: Received: from mails.dpdk.org (mails.dpdk.org [217.70.189.124]) by inbox.dpdk.org (Postfix) with ESMTP id 7031C48A5B for ; Thu, 6 Nov 2025 19:31:57 +0100 (CET) Received: from mails.dpdk.org (localhost [127.0.0.1]) by mails.dpdk.org (Postfix) with ESMTP id 6B1ED4013F; Thu, 6 Nov 2025 19:31:57 +0100 (CET) Received: from mail-yw1-f227.google.com (mail-yw1-f227.google.com [209.85.128.227]) by mails.dpdk.org (Postfix) with ESMTP id A7E7D4013F for ; Thu, 6 Nov 2025 19:31:56 +0100 (CET) Received: by mail-yw1-f227.google.com with SMTP id 00721157ae682-781014f4e12so13719397b3.1 for ; Thu, 06 Nov 2025 10:31:56 -0800 (PST) DKIM-Signature: v=1; a=rsa-sha256; c=relaxed/relaxed; d=iol.unh.edu; s=unh-iol; t=1762453916; x=1763058716; darn=dpdk.org; h=references:in-reply-to:cc:to:from:subject:message-id:date:from:to :cc:subject:date:message-id:reply-to; bh=jI6k6Whr0o9F4hUatbWvR/xQM0Xj5cjNuyF71KXd0kY=; b=LDoYvXpZIDzNweAEv08CsvH67GS/mT02bGIJrbkhJNM4UT3UpZnimMQIVUmbdWyA8e qGap7DysuCUOaJ46ADfEcmKBIvTdLIFkTxtLdxz7rvULslx4WiWO/si2fB1Z3mg/NgO0 rnDo2O6GK1GdlIoP4hjbfuxSNJgANYJ2TfdnE= X-Google-DKIM-Signature: v=1; a=rsa-sha256; c=relaxed/relaxed; d=1e100.net; s=20230601; t=1762453916; x=1763058716; h=references:in-reply-to:cc:to:from:subject:message-id:date:x-gm-gg :x-gm-message-state:from:to:cc:subject:date:message-id:reply-to; bh=jI6k6Whr0o9F4hUatbWvR/xQM0Xj5cjNuyF71KXd0kY=; b=qYm8ccDnWRcl9lBFq2O84RFJbb7XEwxQiRD7kvG4yFCXtwkU5PoWqxVI5aOtYRhhVQ EzUgHIk5d9ZhProXUTuovk9MTtzMkeUcx5TVjgxk1l5ZLWVDFBMR5q8HE92u0TT0GsML PMva99tIJu8tcbEYm/ucaIXsZg4QS4I7t+lIMiCfEUlMoTRW7kxo4ryw1Pm3uFOr2GSU ZqV+I/bIaZo7wKIX/BqUPKNy3Gtf+Jvr0tlVtEx1fJLfYe5XnKWTdO12P0/lQuD6L27w FYmeDgZfagNkiAJMHRYACP0QJsMnPCOnYYhGtv+beCnYwZzp7D1mggSPuVg0H75+8ID8 WzlQ== X-Gm-Message-State: AOJu0Yz2JnJiMiavAFzvCIqtJOkR1uglTmcbFS3lp+nt+Ze7nANGgCDC p9I05xKNMhvrjqSMRMhhRgIzo/5/uNUmlG7OVV8rZ13J3mZlXmzkjk+JMXZYYsfSnk+ExaJyD+R Jrik8e1tgx78ZAOT4bKVdk6E1dqatG1Z/UmIAQNsheB0I X-Gm-Gg: ASbGncs6EdgOxOWmllpDZQ4YbNNUaJNT4K3qfBdQYC+XBAzfQaW3DwGxnRAj582GhOn XvpT8K5VW9mf/5Xtq4ZqcfXSMa6Qboyt+KF9ayyVpQnB/zEHiAr8hzn6cQtVBtizTMbAMS5TYdw qXisXkX3IH7BdAJ6SqE5hLsg1ls8cyQwo04dCOa0Gmin3sfsUlw+WfnwYhZanMc0dTGnWA2lRW7 zEZ3TTEhCDYPwFmyY7qgH482Cr7V+oCe/DRvw9WxRwMW6n7mpvARupewCgW5NwXMtG4hjor2zrh bOpZluOI8MIPZOEVUunK3f2hRQbnmTEFjcRAfMqpe/P1wRiFpEGaiqERD7Fn91jnohNFCFmRKUa 0QhtKgHtX7u4y7iwbrBQBfgYPToCJCBc= X-Google-Smtp-Source: AGHT+IEgyhRuUo5noc+jWlYkXlNmo+brPEcY74SQ022y6aeFW/HXp5liPJ7c146IDlyU6cz+gjWZJvh4UEg/ X-Received: by 2002:a05:690c:6009:b0:786:9774:a3d2 with SMTP id 00721157ae682-787c5439e69mr2211727b3.69.1762453915939; Thu, 06 Nov 2025 10:31:55 -0800 (PST) Received: from postal.iol.unh.edu (postal.iol.unh.edu. [132.177.123.84]) by smtp-relay.gmail.com with ESMTPS id 00721157ae682-787bcbb0339sm973677b3.0.2025.11.06.10.31.55 (version=TLS1_2 cipher=ECDHE-ECDSA-AES128-GCM-SHA256 bits=128/128); Thu, 06 Nov 2025 10:31:55 -0800 (PST) X-Relaying-Domain: iol.unh.edu Date: Thu, 06 Nov 2025 10:31:55 -0800 (PST) Message-ID: <690ce99b.050a0220.5382.525dSMTPIN_ADDED_MISSING@mx.google.com> Received: from [172.21.0.9] (unknown [172.18.0.240]) by postal.iol.unh.edu (Postfix) with ESMTP id 96585604D420; Thu, 6 Nov 2025 13:31:55 -0500 (EST) Subject: |SUCCESS| pw158497-158498 [PATCH] [2/2] net/mlx5: update flow devarg From: dpdklab@iol.unh.edu To: Test Report Cc: dpdk-test-reports@iol.unh.edu In-Reply-To: <20251106083817.166689-2-mkashani@nvidia.com> References: <20251106083817.166689-2-mkashani@nvidia.com> Content-Type: text/plain X-BeenThere: test-report@dpdk.org X-Mailman-Version: 2.1.29 Precedence: list List-Id: automatic DPDK test reports List-Unsubscribe: , List-Archive: List-Post: List-Help: List-Subscribe: , Errors-To: test-report-bounces@dpdk.org Test-Label: iol-unit-arm64-testing Test-Status: SUCCESS http://dpdk.org/patch/158498 _Testing PASS_ Submitter: Maayan Kashani Date: Thursday, November 06 2025 08:38:17 DPDK git baseline: Repo:dpdk-next-net-mlx Branch: master CommitID:4ce83cd2397cb1d9290e59a48ed8e9563cd215d3 158497-158498 --> testing pass Upstream job id: Generic-Unit-Test-DPDK#389273 Test environment and result as below: +------------------------------+------------------------------+--------------+---------------------------+----------------+ | Environment | cryptodev_sw_snow3g_autotest | lpm_autotest | cryptodev_sw_zuc_autotest | dpdk_unit_test | +==============================+==============================+==============+===========================+================+ | Debian 12 (arm) | PASS | SKIPPED | PASS | SKIPPED | +------------------------------+------------------------------+--------------+---------------------------+----------------+ | Ubuntu 20.04 | SKIPPED | PASS | SKIPPED | PASS | +------------------------------+------------------------------+--------------+---------------------------+----------------+ | Fedora Linux 41 | SKIPPED | SKIPPED | SKIPPED | PASS | +------------------------------+------------------------------+--------------+---------------------------+----------------+ | Fedora Linux 42 | SKIPPED | SKIPPED | SKIPPED | PASS | +------------------------------+------------------------------+--------------+---------------------------+----------------+ | Fedora Linux 40 | SKIPPED | SKIPPED | SKIPPED | PASS | +------------------------------+------------------------------+--------------+---------------------------+----------------+ | Ubuntu 24.04 | SKIPPED | SKIPPED | SKIPPED | PASS | +------------------------------+------------------------------+--------------+---------------------------+----------------+ | Red Hat Enterprise Linux 9.5 | SKIPPED | SKIPPED | SKIPPED | PASS | +------------------------------+------------------------------+--------------+---------------------------+----------------+ | Debian GNU/Linux 12 | SKIPPED | SKIPPED | SKIPPED | PASS | +------------------------------+------------------------------+--------------+---------------------------+----------------+ | Ubuntu 22.04 | SKIPPED | SKIPPED | SKIPPED | PASS | +------------------------------+------------------------------+--------------+---------------------------+----------------+ | CentOS Stream 9 | SKIPPED | SKIPPED | SKIPPED | PASS | +------------------------------+------------------------------+--------------+---------------------------+----------------+ | CentOS Stream 10 | SKIPPED | SKIPPED | SKIPPED | PASS | +------------------------------+------------------------------+--------------+---------------------------+----------------+ Debian 12 (arm) Kernel: Depends on container host Compiler: gcc (Debian 12.2.0-14) 12.2.0 Ubuntu 20.04 Kernel: 5.4 Compiler: gcc gcc (Ubuntu 9.4.0-1ubuntu1~20.04.2) 9.4.0 Fedora Linux 41 Kernel: 5.4 Compiler: clang gcc (GCC) 14.3.1 20250523 (Red Hat 14.3.1-1) Fedora Linux 42 Kernel: 5.4 Compiler: clang gcc (GCC) 15.2.1 20250808 (Red Hat 15.2.1-1) Fedora Linux 40 Kernel: 5.4 Compiler: clang gcc (GCC) 14.2.1 20240912 (Red Hat 14.2.1-3) Ubuntu 24.04 Kernel: 5.4 Compiler: gcc gcc (Ubuntu 13.3.0-6ubuntu2~24.04) 13.3.0 Red Hat Enterprise Linux 9.5 Kernel: 5.4 Compiler: gcc gcc (GCC) 11.5.0 20240719 (Red Hat 11.5.0-2) Debian GNU/Linux 12 Kernel: 5.4 Compiler: gcc gcc (Debian 12.2.0-14+deb12u1) 12.2.0 Ubuntu 22.04 Kernel: 5.4 Compiler: gcc gcc (Ubuntu 11.4.0-1ubuntu1~22.04) 11.4.0 CentOS Stream 9 Kernel: 5.4 Compiler: gcc gcc (GCC) 11.5.0 20240719 (Red Hat 11.5.0-11) CentOS Stream 10 Kernel: 5.4 Compiler: gcc gcc (GCC) 14.2.1 20250110 (Red Hat 14.2.1-8) To view detailed results, visit: https://lab.dpdk.org/results/dashboard/patchsets/34482/ UNH-IOL DPDK Community Lab To manage your email subscriptions, visit: https://lab.dpdk.org/results/dashboard/preferences/subscriptions/