From mboxrd@z Thu Jan 1 00:00:00 1970 Return-Path: Received: from mails.dpdk.org (mails.dpdk.org [217.70.189.124]) by inbox.dpdk.org (Postfix) with ESMTP id 8F1A948A5B for ; Thu, 6 Nov 2025 19:32:27 +0100 (CET) Received: from mails.dpdk.org (localhost [127.0.0.1]) by mails.dpdk.org (Postfix) with ESMTP id 89E624013F; Thu, 6 Nov 2025 19:32:27 +0100 (CET) Received: from mail-io1-f100.google.com (mail-io1-f100.google.com [209.85.166.100]) by mails.dpdk.org (Postfix) with ESMTP id D925C4013F for ; Thu, 6 Nov 2025 19:32:26 +0100 (CET) Received: by mail-io1-f100.google.com with SMTP id ca18e2360f4ac-948673fdc47so45155739f.3 for ; Thu, 06 Nov 2025 10:32:26 -0800 (PST) DKIM-Signature: v=1; a=rsa-sha256; c=relaxed/relaxed; d=iol.unh.edu; s=unh-iol; t=1762453946; x=1763058746; darn=dpdk.org; h=references:in-reply-to:cc:to:from:subject:message-id:date:from:to :cc:subject:date:message-id:reply-to; bh=ZMQFLgt1a7PI+xNcrLIAid4Ns9laVITMrefokdeqz2k=; b=LSkwWnxffycqQQUZHIF95jD/HaJVV00k496VfbJ5o59QhkInC8+1AMolBEoooof6zG nuDttmqJqSiQ0f0dllcO7ad1u9SQRFiL+mvQ5rPoJGFafXyFnQJvHj+KYIAYfeSPvaS/ WhequY2uZSLksujq3lxBVKaM+hrL/TpBWyaa4= X-Google-DKIM-Signature: v=1; a=rsa-sha256; c=relaxed/relaxed; d=1e100.net; s=20230601; t=1762453946; x=1763058746; h=references:in-reply-to:cc:to:from:subject:message-id:date:x-gm-gg :x-gm-message-state:from:to:cc:subject:date:message-id:reply-to; bh=ZMQFLgt1a7PI+xNcrLIAid4Ns9laVITMrefokdeqz2k=; b=P7BcRZ3SYzHMmeQl7rTOb3Dm2xLCQaIRxLkdh9+j4KWN84e7ZrcxS1jTef6YpUB+zm gsj4uoubv548jxcV/vn2ANPshpku81wMX0gqwQfzMrR/IGUbrFMgE519ZOFcMp1ih62z iWdlUE0MAGjjfCHTWrLZNOUW3yC8+Ki6Uf92UpwSw+sC9IRrnqS9200LPyfMy7iqBo9t 38/0xIUdKTKjpWGpon1O08PIDjLq02aRQpqSh7db8X4L/hqaW1O6AIubL/ujEa/SslJm 7gq+WhIJ0DpVOYvkWpFLnaEFofYu56dAHjxgIoyWWVSRvB6c38dI+4BPRwGnpNGoS1xJ 1zow== X-Gm-Message-State: AOJu0YzhJnAGElxOcy4cYRrDd3wZiBOQE9lsJIrIS8B/PWySi4pHppMl +d6auL2kRej17Z4hGmAtbMigH9DB1EvmBjPPQghUcK7siKfo6hYJLT3eTSw4qg6Jg50EWowniV+ AzqtpcASz1Qy0MgrkLNNGkO3kPrRsLz2rVFXxY8T/UjJ3+FiQKJyFQU/YR2Cz X-Gm-Gg: ASbGncvDcUKGtZx6blRAHFqlbi4JPQ9nQWkAMJ5VRttul794x6Cm0YzO1jrreH3KgyL nCYUmwPxGarIu4kb9l1z7VmYLtPV3joOTYMRL5rider4p/QxGYpMzJhUPGVz2ufsTRKP6BQYsCl PZsj56BLRo6toPiz82rvkDWK544QnGp/iV5Vn9Or9GWfEGPVhN2+HuNwcpZZ2K+KeCAAmK+/myP /+82aruCiym1hZVxOrYTH5aRxuXgoCVMdVMa+mF6yi+Yf+2RWstdKdSVQxoeFX09OHFeBqJofw5 L/y979jq/EMohUWpCJWKr6uzM36dz9LAX1kTw8nqpAQlHx8E6/M+EKT+Tbyr5N9rvx+whaMqN6s ACem/NmFt X-Google-Smtp-Source: AGHT+IG992dBWTT1+E9T4JX/6rQtlX6WDk5MfloC0jWnrs84A9XpNBrUdFeb2CahW0UEQczMow9UjyMLEaEh X-Received: by 2002:a05:6e02:2205:b0:433:1e9b:61de with SMTP id e9e14a558f8ab-4335f441de2mr4805005ab.24.1762453946058; Thu, 06 Nov 2025 10:32:26 -0800 (PST) Received: from postal.iol.unh.edu (postal.iol.unh.edu. [2606:4100:3880:1234::84]) by smtp-relay.gmail.com with ESMTPS id 8926c6da1cb9f-5b74676eff7sm323484173.12.2025.11.06.10.32.25 (version=TLS1_2 cipher=ECDHE-ECDSA-AES128-GCM-SHA256 bits=128/128); Thu, 06 Nov 2025 10:32:26 -0800 (PST) X-Relaying-Domain: iol.unh.edu Date: Thu, 06 Nov 2025 10:32:26 -0800 (PST) Message-ID: <690ce9ba.050a0220.224b6f.107eSMTPIN_ADDED_MISSING@mx.google.com> Received: from [172.21.0.5] (unknown [172.18.0.240]) by postal.iol.unh.edu (Postfix) with ESMTP id 9D3DA604D420; Thu, 6 Nov 2025 13:32:25 -0500 (EST) Subject: |SUCCESS| pw158532 [PATCH] net/ice: adjust RSS LUT settings From: dpdklab@iol.unh.edu To: Test Report Cc: dpdk-test-reports@iol.unh.edu, Bruce Richardson In-Reply-To: <20251106171736.163516-1-vladimir.medvedkin@intel.com> References: <20251106171736.163516-1-vladimir.medvedkin@intel.com> Content-Type: text/plain X-BeenThere: test-report@dpdk.org X-Mailman-Version: 2.1.29 Precedence: list List-Id: automatic DPDK test reports List-Unsubscribe: , List-Archive: List-Post: List-Help: List-Subscribe: , Errors-To: test-report-bounces@dpdk.org Test-Label: iol-unit-amd64-testing Test-Status: SUCCESS http://dpdk.org/patch/158532 _Testing PASS_ Submitter: Vladimir Medvedkin Date: Thursday, November 06 2025 17:17:36 DPDK git baseline: Repo:dpdk-next-net-intel Branch: master CommitID:2a7bebfa5b488f8c49c9c63f2b7b7ce5cc088560 158532 --> testing pass Upstream job id: Generic-Unit-Test-DPDK#389507 Test environment and result as below: +-------------------------------+----------------+ | Environment | dpdk_unit_test | +===============================+================+ | CentOS Stream 9 | PASS | +-------------------------------+----------------+ | CentOS Stream 10 | PASS | +-------------------------------+----------------+ | Debian GNU/Linux 12 | PASS | +-------------------------------+----------------+ | Fedora Linux 40 | PASS | +-------------------------------+----------------+ | Fedora Linux 41 | PASS | +-------------------------------+----------------+ | Red Hat Enterprise Linux 8.10 | PASS | +-------------------------------+----------------+ | Fedora Linux 42 | PASS | +-------------------------------+----------------+ | Ubuntu 20.04 | PASS | +-------------------------------+----------------+ | Red Hat Enterprise Linux 9.5 | PASS | +-------------------------------+----------------+ | Ubuntu 22.04 | PASS | +-------------------------------+----------------+ | Ubuntu 24.04 | PASS | +-------------------------------+----------------+ CentOS Stream 9 Kernel: 5.15 Compiler: gcc gcc (GCC) 11.5.0 20240719 (Red Hat 11.5.0-11) CentOS Stream 10 Kernel: 5.15 Compiler: gcc gcc (GCC) 14.2.1 20250110 (Red Hat 14.2.1-8) Debian GNU/Linux 12 Kernel: 5.15 Compiler: gcc gcc (Debian 12.2.0-14+deb12u1) 12.2.0 Fedora Linux 40 Kernel: 5.15 Compiler: gcc gcc (GCC) 14.2.1 20240912 (Red Hat 14.2.1-3) Fedora Linux 41 Kernel: 5.15 Compiler: gcc gcc (GCC) 14.3.1 20250523 (Red Hat 14.3.1-1) Red Hat Enterprise Linux 8.10 Kernel: 5.15 Compiler: gcc gcc (GCC) 8.5.0 20210514 (Red Hat 8.5.0-22) Fedora Linux 42 Kernel: 5.15 Compiler: gcc gcc (GCC) 15.2.1 20250808 (Red Hat 15.2.1-1) Ubuntu 20.04 Kernel: 5.15 Compiler: gcc gcc (Ubuntu 9.4.0-1ubuntu1~20.04.2) 9.4.0 Red Hat Enterprise Linux 9.5 Kernel: 5.15 Compiler: gcc gcc (GCC) 11.5.0 20240719 (Red Hat 11.5.0-2) Ubuntu 22.04 Kernel: 5.15 Compiler: gcc gcc (Ubuntu 11.4.0-1ubuntu1~22.04) 11.4.0 Ubuntu 24.04 Kernel: 5.15 Compiler: gcc gcc (Ubuntu 13.3.0-6ubuntu2~24.04) 13.3.0 To view detailed results, visit: https://lab.dpdk.org/results/dashboard/patchsets/34491/ UNH-IOL DPDK Community Lab To manage your email subscriptions, visit: https://lab.dpdk.org/results/dashboard/preferences/subscriptions/