From mboxrd@z Thu Jan 1 00:00:00 1970 Return-Path: Received: from mails.dpdk.org (mails.dpdk.org [217.70.189.124]) by inbox.dpdk.org (Postfix) with ESMTP id 0D43E48A5B for ; Thu, 6 Nov 2025 19:57:24 +0100 (CET) Received: from mails.dpdk.org (localhost [127.0.0.1]) by mails.dpdk.org (Postfix) with ESMTP id E84664013F; Thu, 6 Nov 2025 19:57:23 +0100 (CET) Received: from mail-pf1-f226.google.com (mail-pf1-f226.google.com [209.85.210.226]) by mails.dpdk.org (Postfix) with ESMTP id AEBB24013F for ; Thu, 6 Nov 2025 19:57:22 +0100 (CET) Received: by mail-pf1-f226.google.com with SMTP id d2e1a72fcca58-7aad4823079so1337853b3a.0 for ; Thu, 06 Nov 2025 10:57:22 -0800 (PST) DKIM-Signature: v=1; a=rsa-sha256; c=relaxed/relaxed; d=iol.unh.edu; s=unh-iol; t=1762455442; x=1763060242; darn=dpdk.org; h=references:in-reply-to:cc:to:from:subject:message-id:date:from:to :cc:subject:date:message-id:reply-to; bh=6ZlTBeOqxkTCDzuAbYe8SgpjcScu0WOK0s1g6LubCr0=; b=LMeRxgZVroWfVzTTB32Jp7cy2s9W48IxaL9qiCZ/SmoARSPQSzEdSjjaTTtwEIGoDg TTN4WgdBrMMKfklWdlNrmaTOnwN7J1cVKgt4X3p3TLS2WpFYlVFdbFCTAvNWVOJ+zpzO wuCuqu4kaZqXryKqnjWBRd97kV1xp7ljEHIHQ= X-Google-DKIM-Signature: v=1; a=rsa-sha256; c=relaxed/relaxed; d=1e100.net; s=20230601; t=1762455442; x=1763060242; h=references:in-reply-to:cc:to:from:subject:message-id:date:x-gm-gg :x-gm-message-state:from:to:cc:subject:date:message-id:reply-to; bh=6ZlTBeOqxkTCDzuAbYe8SgpjcScu0WOK0s1g6LubCr0=; b=vFi0RDFWqN8JEXCBxkUVvQ2t4GbzRzyTVboGvV6sfsR3A7v/b/O2Bd9qFivoGZV8Gl tISY1W/OpTcDbgvPvzT038XYwULbOuAo9JTVowM0l6EPGvukar+XHdFJFTv/uxYKrEdb mlEVkFC4v+DAnq8hDqvWZ97tWB7qiEFupaXMfmgDhrWFGYM1elhXtr2K/CoAIHYYctAt 4XplwdeBzZCBteTJNsJ24nA47by3lFdz11mmBphnKQXQDaJ7a0bkzVXPWisEOxHmebx8 uzC9Z1DCBVLrAAzqtkw0WzTdsvy2YOaVIyXwYKyr/QyWf4Dp0mAXfq3nW12lT8tz2CEN CCcQ== X-Gm-Message-State: AOJu0YyjsMNI3lL82MP9OKwlrKyu03UCVSDvIL5ZQ5iFeFBTuIepe3dq ZcussxfQXjJ43eISf2IkiuL+gjWUalg66XguxPyETdRqBLrQlEROzg5kt9t5MaOauqcpH9heZwu gG4glRS8A4fByl2R398qvbmMcaAUqnEEUUR2AnQV+XMxq X-Gm-Gg: ASbGncvqKoiisWhwgA5rXmTSLCrjqWZYiSWqoOLLdNBFUlPHtMkEm93d4T+f+Hif7YC +ws3bpFu/AzJjBM5qAV8IANIalJCTFdrAODtuZ0y8nlcIevIwrBqh5X0gfBl5MWON8iW+9uREDB nkF/j3gQikq63Nz/uaJRzrURzlTUpy7XkKI7XN6+595r5wRODU5NRbj3m4JdyGvFqIwXNfgTTYM QYvHXNmbtHjBVTaF6lqKf4h/A+Uuh8iQ3tTm/c/0NUM/HK1vOe+XFhUJXRdbMOxtPD6UXtEpucR K5HK7K1JHBrs+j8rxnr3wEXs54dcv9WVcM7uyx6KCx3gROAlXQVr71dWcpLCzGShl8YPgiu/xV5 dELboZKjDTM09Kqepe5Hr3xRCWKdWT5s= X-Google-Smtp-Source: AGHT+IG4Hd+cvc0rZ5xwoj+unv+JGfUyvZX69+2Jtn1d+XrPXfdiXmSnJa5cuoi3ZLqqgMG6cZfkoy86Aj4a X-Received: by 2002:a17:90b:3c8f:b0:340:a5b2:c30b with SMTP id 98e67ed59e1d1-3434c4ebc63mr185769a91.9.1762455441634; Thu, 06 Nov 2025 10:57:21 -0800 (PST) Received: from postal.iol.unh.edu (postal.iol.unh.edu. [132.177.123.84]) by smtp-relay.gmail.com with ESMTPS id 98e67ed59e1d1-3434bfc6207sm18083a91.0.2025.11.06.10.57.21 (version=TLS1_2 cipher=ECDHE-ECDSA-AES128-GCM-SHA256 bits=128/128); Thu, 06 Nov 2025 10:57:21 -0800 (PST) X-Relaying-Domain: iol.unh.edu Date: Thu, 06 Nov 2025 10:57:21 -0800 (PST) Message-ID: <690cef91.170a0220.242bbd.1015SMTPIN_ADDED_MISSING@mx.google.com> Received: from [172.21.0.2] (unknown [172.18.0.240]) by postal.iol.unh.edu (Postfix) with ESMTP id DCBC66050A61; Thu, 6 Nov 2025 13:57:20 -0500 (EST) Subject: |SUCCESS| pw158528 [PATCH] [v5] net/ice: add option to enable source From: dpdklab@iol.unh.edu To: Test Report Cc: dpdk-test-reports@iol.unh.edu, Bruce Richardson In-Reply-To: <20251106163334.95660-1-anurag.mandal@intel.com> References: <20251106163334.95660-1-anurag.mandal@intel.com> Content-Type: text/plain X-BeenThere: test-report@dpdk.org X-Mailman-Version: 2.1.29 Precedence: list List-Id: automatic DPDK test reports List-Unsubscribe: , List-Archive: List-Post: List-Help: List-Subscribe: , Errors-To: test-report-bounces@dpdk.org Test-Label: iol-unit-amd64-testing Test-Status: SUCCESS http://dpdk.org/patch/158528 _Testing PASS_ Submitter: Anurag Mandal Date: Thursday, November 06 2025 16:33:34 DPDK git baseline: Repo:dpdk-next-net-intel Branch: master CommitID:2a7bebfa5b488f8c49c9c63f2b7b7ce5cc088560 158528 --> testing pass Upstream job id: Generic-VM-Unit-Test-DPDK#32351 Test environment and result as below: +-------------------------------+----------------+ | Environment | dpdk_unit_test | +===============================+================+ | Fedora Linux 40 | PASS | +-------------------------------+----------------+ | Fedora Linux 41 | PASS | +-------------------------------+----------------+ | CentOS Stream 10 | PASS | +-------------------------------+----------------+ | Red Hat Enterprise Linux 9.5 | PASS | +-------------------------------+----------------+ | Ubuntu 24.04 | PASS | +-------------------------------+----------------+ | Red Hat Enterprise Linux 8.10 | PASS | +-------------------------------+----------------+ | Ubuntu 22.04 | PASS | +-------------------------------+----------------+ | Ubuntu 20.04 | PASS | +-------------------------------+----------------+ | Debian GNU/Linux 12 | PASS | +-------------------------------+----------------+ | Fedora Linux 42 | PASS | +-------------------------------+----------------+ | CentOS Stream 9 | PASS | +-------------------------------+----------------+ | Windows Server 2022 | PASS | +-------------------------------+----------------+ Fedora Linux 40 Kernel: 5.15 Compiler: clang gcc (GCC) 14.2.1 20240912 (Red Hat 14.2.1-3) Fedora Linux 41 Kernel: 5.15 Compiler: gcc gcc (GCC) 14.3.1 20250523 (Red Hat 14.3.1-1) CentOS Stream 10 Kernel: 5.15 Compiler: gcc gcc (GCC) 14.2.1 20250110 (Red Hat 14.2.1-8) Red Hat Enterprise Linux 9.5 Kernel: 5.15 Compiler: gcc gcc (GCC) 11.5.0 20240719 (Red Hat 11.5.0-2) Ubuntu 24.04 Kernel: 5.15 Compiler: gcc gcc (Ubuntu 13.3.0-6ubuntu2~24.04) 13.3.0 Red Hat Enterprise Linux 8.10 Kernel: 5.15 Compiler: gcc gcc (GCC) 8.5.0 20210514 (Red Hat 8.5.0-22) Ubuntu 22.04 Kernel: 5.15 Compiler: gcc gcc (Ubuntu 11.4.0-1ubuntu1~22.04) 11.4.0 Ubuntu 20.04 Kernel: 5.15 Compiler: gcc gcc (Ubuntu 9.4.0-1ubuntu1~20.04.2) 9.4.0 Debian GNU/Linux 12 Kernel: 5.15 Compiler: gcc gcc (Debian 12.2.0-14+deb12u1) 12.2.0 Fedora Linux 42 Kernel: 5.15 Compiler: clang gcc (GCC) 15.2.1 20250808 (Red Hat 15.2.1-1) CentOS Stream 9 Kernel: 5.15 Compiler: gcc gcc (GCC) 11.5.0 20240719 (Red Hat 11.5.0-11) Windows Server 2022 Kernel: 10.0.20348.2031 Compiler: clang 15.0.7, gcc 14.1.0 (MinGW), and MSVC VS 19.39.33521 To view detailed results, visit: https://lab.dpdk.org/results/dashboard/patchsets/34490/ UNH-IOL DPDK Community Lab To manage your email subscriptions, visit: https://lab.dpdk.org/results/dashboard/preferences/subscriptions/