From mboxrd@z Thu Jan 1 00:00:00 1970 Return-Path: Received: from mails.dpdk.org (mails.dpdk.org [217.70.189.124]) by inbox.dpdk.org (Postfix) with ESMTP id 4BE0D48A86 for ; Thu, 6 Nov 2025 20:09:12 +0100 (CET) Received: from mails.dpdk.org (localhost [127.0.0.1]) by mails.dpdk.org (Postfix) with ESMTP id 450704013F; Thu, 6 Nov 2025 20:09:12 +0100 (CET) Received: from mail-ot1-f98.google.com (mail-ot1-f98.google.com [209.85.210.98]) by mails.dpdk.org (Postfix) with ESMTP id C35C04013F for ; Thu, 6 Nov 2025 20:09:10 +0100 (CET) Received: by mail-ot1-f98.google.com with SMTP id 46e09a7af769-7c281c649ccso761216a34.2 for ; Thu, 06 Nov 2025 11:09:10 -0800 (PST) DKIM-Signature: v=1; a=rsa-sha256; c=relaxed/relaxed; d=iol.unh.edu; s=unh-iol; t=1762456150; x=1763060950; darn=dpdk.org; h=references:in-reply-to:cc:to:from:subject:message-id:date:from:to :cc:subject:date:message-id:reply-to; bh=vaQ5sSTqQcN076NM3iqXgZwA9cSZF8TObDcKQ8efoVc=; b=cunTIpFGOKHaciEUwZeDOjfYGTky6Z/evbDaL5NOEC6pQ7nxPzklGHGpwoBu8lRzGA +fykirBR6EY7qud1Fe5xHPhHnf1qH1uMLebwAOu3ep434cj+3vPxQpoVCh3kAsj9RO/N JtL8zOLnAuDcW90cUjiCeIDh2uk8nSH/VnZho= X-Google-DKIM-Signature: v=1; a=rsa-sha256; c=relaxed/relaxed; d=1e100.net; s=20230601; t=1762456150; x=1763060950; h=references:in-reply-to:cc:to:from:subject:message-id:date:x-gm-gg :x-gm-message-state:from:to:cc:subject:date:message-id:reply-to; bh=vaQ5sSTqQcN076NM3iqXgZwA9cSZF8TObDcKQ8efoVc=; b=A1cDNd6in/xRkTab3gWWF8QkopJfcj6O8+p2qO4NkynNWkVbHfuJJ5r5uIwM8yV53r 4bivK5kcoS9y8vqyVU4WFfpfWmX0KG5ggDg5z9imgw8MCIQ6ah5zdV39BZDmJq6awg1w kX/6NahEtDuPsU8lgCh7IX7f8nu9rvb5BiGh34dc1NK0hc1j3p31rC/IA2URevB27/bY 136lRgCleY/Xy9SbGiCNilsrj7tmhdmjh2SRMI8KL6akark6WWM5EFPxNHOkTPk4r7M9 Nz424ZErTz/hd4htPmO1h6Dcssw36hgZJ6adQ4I6qjd4kVlnritU9kWaeLfceMcGv14Y /Y3A== X-Gm-Message-State: AOJu0YyZPbM0+aUE6AwbyOS76lVXY4R/hVcWI5PyaW7nb/G+WQpZhf6l nth2aJiJhjRPYEVETqCZ3I8U1x+CM6MzZyKfbZxKycdfNTi7wq+1nvoxfEMjmAue3r4qSyF/3yT xcxvcTL8INt/F5pPCCHOBwC4vbh6J7521rosQBJJr6R5U X-Gm-Gg: ASbGncsXhMd9QpNNe9EzhP6cMaWXRsIhr7OocB/E+aVET7QTxoWmlhrXk/lYhUZzUJ1 p08F0VJbzLiZxzFr1BezpC9K+/0rbW3ggVy0tLr4Smpn06Fivyk0E1DNwSCVwkvQQ7oaGWQL9T3 LmXTJfCDjtR147e7KaFWUdjs+m8z0+N4YF93OrbIMSKhTV+S2k1Mu8ZQp0wFGe9lazIVx00rr9E 7YWV8C0nQbE45YKfatvrlRMcyLwW9VvJW8sPlMZSW1ssK+AswqsL+GMRSqbMzBb9fK2d2aLpUi0 QOIHMEXr4t8dQ1/jMiNoa/5wGq+i7BlATwnTXmSt4K1JU0yZJQ/aKV9aKFSIpkhjaOd696/yw8e VzplbpVR+ZwJ3kaSVR9c1cOEy9Osz1jc= X-Google-Smtp-Source: AGHT+IGHSo9qED24JA4T8njrRLDVwGOADCDQVFe6Z06U62fmFY5ozrCI00zlUkJJgIvpRaKLw7xFFRv+8u5/ X-Received: by 2002:a05:6830:438b:b0:7c6:8ede:caaa with SMTP id 46e09a7af769-7c6efd39f17mr717015a34.12.1762456150107; Thu, 06 Nov 2025 11:09:10 -0800 (PST) Received: from postal.iol.unh.edu (postal.iol.unh.edu. [132.177.123.84]) by smtp-relay.gmail.com with ESMTPS id 46e09a7af769-7c6f0b17ea9sm30231a34.0.2025.11.06.11.09.10 (version=TLS1_2 cipher=ECDHE-ECDSA-AES128-GCM-SHA256 bits=128/128); Thu, 06 Nov 2025 11:09:10 -0800 (PST) X-Relaying-Domain: iol.unh.edu Date: Thu, 06 Nov 2025 11:09:10 -0800 (PST) Message-ID: <690cf256.050a0220.1ae75d.1a0cSMTPIN_ADDED_MISSING@mx.google.com> Received: from [172.21.0.3] (unknown [172.18.0.240]) by postal.iol.unh.edu (Postfix) with ESMTP id 8A76A6050A61; Thu, 6 Nov 2025 14:09:09 -0500 (EST) Subject: |SUCCESS| pw158528 [PATCH] [v5] net/ice: add option to enable source From: dpdklab@iol.unh.edu To: Test Report Cc: dpdk-test-reports@iol.unh.edu, Bruce Richardson In-Reply-To: <20251106163334.95660-1-anurag.mandal@intel.com> References: <20251106163334.95660-1-anurag.mandal@intel.com> Content-Type: text/plain X-BeenThere: test-report@dpdk.org X-Mailman-Version: 2.1.29 Precedence: list List-Id: automatic DPDK test reports List-Unsubscribe: , List-Archive: List-Post: List-Help: List-Subscribe: , Errors-To: test-report-bounces@dpdk.org Test-Label: iol-unit-amd64-testing Test-Status: SUCCESS http://dpdk.org/patch/158528 _Testing PASS_ Submitter: Anurag Mandal Date: Thursday, November 06 2025 16:33:34 DPDK git baseline: Repo:dpdk-next-net-intel Branch: master CommitID:2a7bebfa5b488f8c49c9c63f2b7b7ce5cc088560 158528 --> testing pass Upstream job id: Generic-VM-Unit-Test-DPDK#32352 Test environment and result as below: +-------------------------------+----------------+ | Environment | dpdk_unit_test | +===============================+================+ | Fedora Linux 40 | PASS | +-------------------------------+----------------+ | Fedora Linux 41 | PASS | +-------------------------------+----------------+ | CentOS Stream 10 | PASS | +-------------------------------+----------------+ | Red Hat Enterprise Linux 9.5 | PASS | +-------------------------------+----------------+ | Ubuntu 24.04 | PASS | +-------------------------------+----------------+ | Red Hat Enterprise Linux 8.10 | PASS | +-------------------------------+----------------+ | Ubuntu 22.04 | PASS | +-------------------------------+----------------+ | Ubuntu 20.04 | PASS | +-------------------------------+----------------+ | Debian GNU/Linux 12 | PASS | +-------------------------------+----------------+ | Fedora Linux 42 | PASS | +-------------------------------+----------------+ | CentOS Stream 9 | PASS | +-------------------------------+----------------+ | Windows Server 2022 | PASS | +-------------------------------+----------------+ Fedora Linux 40 Kernel: 5.15 Compiler: clang gcc (GCC) 14.2.1 20240912 (Red Hat 14.2.1-3) Fedora Linux 41 Kernel: 5.15 Compiler: gcc gcc (GCC) 14.3.1 20250523 (Red Hat 14.3.1-1) CentOS Stream 10 Kernel: 5.15 Compiler: gcc gcc (GCC) 14.2.1 20250110 (Red Hat 14.2.1-8) Red Hat Enterprise Linux 9.5 Kernel: 5.15 Compiler: gcc gcc (GCC) 11.5.0 20240719 (Red Hat 11.5.0-2) Ubuntu 24.04 Kernel: 5.15 Compiler: gcc gcc (Ubuntu 13.3.0-6ubuntu2~24.04) 13.3.0 Red Hat Enterprise Linux 8.10 Kernel: 5.15 Compiler: gcc gcc (GCC) 8.5.0 20210514 (Red Hat 8.5.0-22) Ubuntu 22.04 Kernel: 5.15 Compiler: gcc gcc (Ubuntu 11.4.0-1ubuntu1~22.04) 11.4.0 Ubuntu 20.04 Kernel: 5.15 Compiler: gcc gcc (Ubuntu 9.4.0-1ubuntu1~20.04.2) 9.4.0 Debian GNU/Linux 12 Kernel: 5.15 Compiler: gcc gcc (Debian 12.2.0-14+deb12u1) 12.2.0 Fedora Linux 42 Kernel: 5.15 Compiler: clang gcc (GCC) 15.2.1 20250808 (Red Hat 15.2.1-1) CentOS Stream 9 Kernel: 5.15 Compiler: gcc gcc (GCC) 11.5.0 20240719 (Red Hat 11.5.0-11) Windows Server 2022 Kernel: 10.0.20348.2031 Compiler: clang 15.0.7, gcc 14.1.0 (MinGW), and MSVC VS 19.39.33521 To view detailed results, visit: https://lab.dpdk.org/results/dashboard/patchsets/34490/ UNH-IOL DPDK Community Lab To manage your email subscriptions, visit: https://lab.dpdk.org/results/dashboard/preferences/subscriptions/