From mboxrd@z Thu Jan 1 00:00:00 1970 Return-Path: Received: from mails.dpdk.org (mails.dpdk.org [217.70.189.124]) by inbox.dpdk.org (Postfix) with ESMTP id 9AFFE48A86 for ; Thu, 6 Nov 2025 20:31:49 +0100 (CET) Received: from mails.dpdk.org (localhost [127.0.0.1]) by mails.dpdk.org (Postfix) with ESMTP id 892294013F; Thu, 6 Nov 2025 20:31:49 +0100 (CET) Received: from mail-qv1-f99.google.com (mail-qv1-f99.google.com [209.85.219.99]) by mails.dpdk.org (Postfix) with ESMTP id 40E5F4013F for ; Thu, 6 Nov 2025 20:31:48 +0100 (CET) Received: by mail-qv1-f99.google.com with SMTP id 6a1803df08f44-8804650ca32so227776d6.0 for ; Thu, 06 Nov 2025 11:31:48 -0800 (PST) DKIM-Signature: v=1; a=rsa-sha256; c=relaxed/relaxed; d=iol.unh.edu; s=unh-iol; t=1762457507; x=1763062307; darn=dpdk.org; h=references:in-reply-to:cc:to:from:subject:message-id:date:from:to :cc:subject:date:message-id:reply-to; bh=HlYaahynBS/g/Qi1kPB9QfjJ88x/KJI4D2bCZ2ok9AA=; b=I5lfRRKVA99oZToYryAZdDYWEfOzx8uwTO2QDycb5f+7F5Q/ztbkZfoRhUJLtV9eSD 1j7k0WDQPgOhxC+ln7aZ6+7ePgdgR7XidvsDScsWhcadwBry88rUuTRnkep2urXGVj1M +cpfLLeTKfyKyoWaLABnDM94n7ErWDSeC5I5Q= X-Google-DKIM-Signature: v=1; a=rsa-sha256; c=relaxed/relaxed; d=1e100.net; s=20230601; t=1762457507; x=1763062307; h=references:in-reply-to:cc:to:from:subject:message-id:date:x-gm-gg :x-gm-message-state:from:to:cc:subject:date:message-id:reply-to; bh=HlYaahynBS/g/Qi1kPB9QfjJ88x/KJI4D2bCZ2ok9AA=; b=Fsk25LPeqRJT0iOTBLency1QxIFjH7cO006LHvk/A2vp7qSc58QNz0Oye6auo+JS+K sXXeWvyF3rr3398f2JPmlKy4a+bH3tTPZdSV9wLBBvRK09oqe6L5WehMCvr8iDMd3djD RC8Y9o1OVrFThRfsirsq67so/0+tEjE8W7elgVSXiaoOUEoWhpyjii1sk4Ze3DAuRGm5 tQnuHd7emYayUki6I9mvPhUCK9I7EUwgTYQ5l5ORG5baCNz77NbzUiRrJMGO7Wcw2DPb KaPrC7SXPQPFmZnnElb+vymJxNOrc9JT+4J61KBeGZCyNX2p7QsylHjB6BAPgLALRGWL /Klw== X-Gm-Message-State: AOJu0Yz1UFK7XvfGPuou2Az9s5Zvy3hA/t0L8vtv5WpBdj+ydAxXBQWY M/wpRXmYjK2b+SXu/IOxfmeQdDZBc2k0twrM+qApbjaG++BjGx57lrDRsw7RTsTHzppz5tqp0Ot bsk3/CAmqBKh/0+GTsRBL4bXT9M/7N2a2InEME+edp24W X-Gm-Gg: ASbGncsvsvt03tP3hmgs+0/S9xlq8UcEj1pReDnVQ3fCoGTCoTaEaLN9GdVY8g6T5Ao srkmXBSYpoA56MKKHetI4/x3W2FstZdrRCA0Z4xdvIdmpK3kRIhkGToNBB/iEhFuSVLfDI7f7vD S7i7x+PpqbIMbQKmpukD72V5kUFX8IFyA4MXqqLeHNRv42HP4pXzjSB5sDX2qAvL75Z+XZ7jWV5 tLI3n4R70XNKdrp+rJCgV6CaLMdBu33vpg5nAb3kH2CU3at8b/ESZx8ZvxRT51mklsK26LCjVkA vs7rpbcWRrNByLX65NC7OGGzvYJa2poKoT03Wf+OEApGbucpSOUPq+wXxUmUWn5TiZq8OAiCKzi JHBTcR2JWmSINm3YOUO5v8Z9NBVR/T28= X-Google-Smtp-Source: AGHT+IEgSvnB0khW/8LrYgumH8v1wuDQqHtXcuLZH7NU3YAev78DhhqpbJI1pH2bHbIddxAcaIh8t/Bne4E6 X-Received: by 2002:ad4:5dc6:0:b0:880:4961:3aef with SMTP id 6a1803df08f44-881766e7c30mr8783016d6.5.1762457507503; Thu, 06 Nov 2025 11:31:47 -0800 (PST) Received: from postal.iol.unh.edu (postal.iol.unh.edu. [132.177.123.84]) by smtp-relay.gmail.com with ESMTPS id 6a1803df08f44-88082a3a7b4sm2917676d6.31.2025.11.06.11.31.47 (version=TLS1_2 cipher=ECDHE-ECDSA-AES128-GCM-SHA256 bits=128/128); Thu, 06 Nov 2025 11:31:47 -0800 (PST) X-Relaying-Domain: iol.unh.edu Date: Thu, 06 Nov 2025 11:31:47 -0800 (PST) Message-ID: <690cf7a3.050a0220.3035fb.01f5SMTPIN_ADDED_MISSING@mx.google.com> Received: from [172.21.0.2] (unknown [172.18.0.240]) by postal.iol.unh.edu (Postfix) with ESMTP id 39E4A6050A61; Thu, 6 Nov 2025 14:31:47 -0500 (EST) Subject: |SUCCESS| pw158532 [PATCH] net/ice: adjust RSS LUT settings From: dpdklab@iol.unh.edu To: Test Report Cc: dpdk-test-reports@iol.unh.edu, Bruce Richardson In-Reply-To: <20251106171736.163516-1-vladimir.medvedkin@intel.com> References: <20251106171736.163516-1-vladimir.medvedkin@intel.com> Content-Type: text/plain X-BeenThere: test-report@dpdk.org X-Mailman-Version: 2.1.29 Precedence: list List-Id: automatic DPDK test reports List-Unsubscribe: , List-Archive: List-Post: List-Help: List-Subscribe: , Errors-To: test-report-bounces@dpdk.org Test-Label: iol-compile-amd64-testing Test-Status: SUCCESS http://dpdk.org/patch/158532 _Testing PASS_ Submitter: Vladimir Medvedkin Date: Thursday, November 06 2025 17:17:36 DPDK git baseline: Repo:dpdk-next-net-intel Branch: master CommitID:2a7bebfa5b488f8c49c9c63f2b7b7ce5cc088560 158532 --> testing pass Upstream job id: Windows-Compile-DPDK-VS#7451 Test environment and result as below: +-------------------------------+--------------------+------------------+-------------------+ | Environment | dpdk_meson_compile | dpdk_compile_ovs | dpdk_msvc_compile | +===============================+====================+==================+===================+ | Ubuntu 20.04 | PASS | SKIPPED | SKIPPED | +-------------------------------+--------------------+------------------+-------------------+ | FreeBSD 14.2 | PASS | SKIPPED | SKIPPED | +-------------------------------+--------------------+------------------+-------------------+ | CentOS Stream 9 | PASS | SKIPPED | SKIPPED | +-------------------------------+--------------------+------------------+-------------------+ | CentOS Stream 10 | PASS | SKIPPED | SKIPPED | +-------------------------------+--------------------+------------------+-------------------+ | Debian GNU/Linux 12 | PASS | SKIPPED | SKIPPED | +-------------------------------+--------------------+------------------+-------------------+ | Fedora Linux 42 | PASS | PASS | SKIPPED | +-------------------------------+--------------------+------------------+-------------------+ | openSUSE Leap 15.6 | PASS | SKIPPED | SKIPPED | +-------------------------------+--------------------+------------------+-------------------+ | Red Hat Enterprise Linux 8.10 | PASS | SKIPPED | SKIPPED | +-------------------------------+--------------------+------------------+-------------------+ | Windows Server 2022 | SKIPPED | SKIPPED | PASS | +-------------------------------+--------------------+------------------+-------------------+ Ubuntu 20.04 Kernel: 4.19 Compiler: gcc gcc (Ubuntu 9.4.0-1ubuntu1~20.04.2) 9.4.0 FreeBSD 14.2 Kernel: 14.2-RELEASE Compiler: clang 18.1.6 CentOS Stream 9 Kernel: 5.15 Compiler: gcc gcc (GCC) 11.5.0 20240719 (Red Hat 11.5.0-11) CentOS Stream 10 Kernel: 5.15 Compiler: gcc gcc (GCC) 14.2.1 20250110 (Red Hat 14.2.1-8) Debian GNU/Linux 12 Kernel: 5.15 Compiler: gcc gcc (Debian 12.2.0-14+deb12u1) 12.2.0 Fedora Linux 42 Kernel: 5.15 Compiler: clang gcc (GCC) 15.2.1 20250808 (Red Hat 15.2.1-1) openSUSE Leap 15.6 Kernel: 5.15 Compiler: gcc gcc (SUSE Linux) 7.5.0 Red Hat Enterprise Linux 8.10 Kernel: 5.15 Compiler: gcc gcc (GCC) 8.5.0 20210514 (Red Hat 8.5.0-22) Windows Server 2022 Kernel: 10.0.20348.2031 Compiler: clang 15.0.7, gcc 14.1.0 (MinGW), and MSVC VS 19.39.33521 To view detailed results, visit: https://lab.dpdk.org/results/dashboard/patchsets/34491/ UNH-IOL DPDK Community Lab To manage your email subscriptions, visit: https://lab.dpdk.org/results/dashboard/preferences/subscriptions/