From mboxrd@z Thu Jan 1 00:00:00 1970 Return-Path: Received: from mails.dpdk.org (mails.dpdk.org [217.70.189.124]) by inbox.dpdk.org (Postfix) with ESMTP id 0A22948A86 for ; Thu, 6 Nov 2025 20:36:29 +0100 (CET) Received: from mails.dpdk.org (localhost [127.0.0.1]) by mails.dpdk.org (Postfix) with ESMTP id 052504013F; Thu, 6 Nov 2025 20:36:29 +0100 (CET) Received: from mail-qt1-f226.google.com (mail-qt1-f226.google.com [209.85.160.226]) by mails.dpdk.org (Postfix) with ESMTP id 985664013F for ; Thu, 6 Nov 2025 20:36:27 +0100 (CET) Received: by mail-qt1-f226.google.com with SMTP id d75a77b69052e-4ed75832448so13446801cf.2 for ; Thu, 06 Nov 2025 11:36:27 -0800 (PST) DKIM-Signature: v=1; a=rsa-sha256; c=relaxed/relaxed; d=iol.unh.edu; s=unh-iol; t=1762457787; x=1763062587; darn=dpdk.org; h=references:in-reply-to:cc:to:from:subject:message-id:date:from:to :cc:subject:date:message-id:reply-to; bh=7WXNW/UWHnr9FR6UPPRRaTELmEJlJpjcEA0H70GTZdc=; b=eSuuWaoVHnt37HK6YgifLb4SNEhP0qWxbz4/VGPngCRZ2BcQvhUopg6zvtVa5B60q5 UQTa5dqGTQ5kfuGTfb6X5uHe8lNKN6y/sQc3Ks4cnONr5V/Nr2+x+uUAKh6UtOovYUgH juebn8m0nc69brXqf22FpGTwAMdls+f3iPHjY= X-Google-DKIM-Signature: v=1; a=rsa-sha256; c=relaxed/relaxed; d=1e100.net; s=20230601; t=1762457787; x=1763062587; h=references:in-reply-to:cc:to:from:subject:message-id:date:x-gm-gg :x-gm-message-state:from:to:cc:subject:date:message-id:reply-to; bh=7WXNW/UWHnr9FR6UPPRRaTELmEJlJpjcEA0H70GTZdc=; b=cCV4pjx7Ax2K+Vh05YbXiR2tTxgtYfwcN4sFIHm07pCscWaQnRCid+4hQSyH9dIWeR ryXaqS27gSg86PZ8TGdhg4Gr/DweUFHwYlk/PxaP178XxnjOYFYUAHpIKQQyd8SJnZpW qtal+vbc5FSNLlyH8q3o07AcM7C7HAIhCqklHEdpjlMJXl6BYDHjxM+xYBbEnWaUvu5n j5fe3PJNx3oZyHPfVuezc3J9ZmH/NyIi0/TVDz13kEzxoF358P59jyGPTUpDiOWJyJHE MfC431k4O6IcI3hx/UR0n6cfjc06Fl8wi68SbYvoyfAUDxQOUdH8Snv+WESD02QMfH9B Rj/g== X-Gm-Message-State: AOJu0Yz/G6OkJ66q4BtgbUQpuWEA83RQ8xSLgibQTfQFtww4kL9/Rw6/ A5OCbofHwtNTsljCVhDVbwBAnTensRHwcyH1xtE7l2oOyhGcZmF7vZNYGJNcFw/TSkP3cEymQ0i jqoCdrHl57IUcVB4dI1ti4dIfZ/PBdCYecuWAOpd4aBif1cs9mXG3UZokZaj/ X-Gm-Gg: ASbGnctafLMNTEE4bsvQZRDGJp2cL1W5wtc8lMeIwxIfMEfQeYTBEu5LglGGoke6vze 4DyO9/u+AiB4YJy6nluU/qHpqShYNmo0BxKBWPT4p+hHIH4sfKEa5Ja3OidBPg/FQohgAUiN5il rrBJ6syQlYJ9Y2fC3wM2n+3D/J4Vz+W7Gsex5tFGyyBJsCN3A6wFhCPHfEY629VJFDGWX/UjNAp Ext3DUG1THMgRBtsjKhgS8+1VZUULtf0IwfRUVyo6QqBrbgarVWShGRuJB2qylVnNnJIa1rYHiv WlnYGlIChNOwOkPyWCHrUxbke2ENqZub4VCauDTFzarwoTzM0ic0uforU/pmMy1Jn93c14xU7qo TKEymK0lx X-Google-Smtp-Source: AGHT+IGOJQhkGItwUumL19QTDeW0e6TGRMKuVq7Y263HOLvbgNmr+ng0QkQZu+tspCT7aFAEWYoGzD3fKXiw X-Received: by 2002:a05:622a:181c:b0:4e7:224d:30a1 with SMTP id d75a77b69052e-4ed94a78cc3mr4691751cf.66.1762457786825; Thu, 06 Nov 2025 11:36:26 -0800 (PST) Received: from postal.iol.unh.edu (postal.iol.unh.edu. [2606:4100:3880:1234::84]) by smtp-relay.gmail.com with ESMTPS id d75a77b69052e-4ed812fbdbesm1394371cf.5.2025.11.06.11.36.26 (version=TLS1_2 cipher=ECDHE-ECDSA-AES128-GCM-SHA256 bits=128/128); Thu, 06 Nov 2025 11:36:26 -0800 (PST) X-Relaying-Domain: iol.unh.edu Date: Thu, 06 Nov 2025 11:36:26 -0800 (PST) Message-ID: <690cf8ba.050a0220.1ca050.739fSMTPIN_ADDED_MISSING@mx.google.com> Received: from [172.21.0.2] (unknown [172.18.0.240]) by postal.iol.unh.edu (Postfix) with ESMTP id 867D16050A61; Thu, 6 Nov 2025 14:36:26 -0500 (EST) Subject: |SUCCESS| pw158528 [PATCH] [v5] net/ice: add option to enable source From: dpdklab@iol.unh.edu To: Test Report Cc: dpdk-test-reports@iol.unh.edu, Bruce Richardson In-Reply-To: <20251106163334.95660-1-anurag.mandal@intel.com> References: <20251106163334.95660-1-anurag.mandal@intel.com> Content-Type: text/plain X-BeenThere: test-report@dpdk.org X-Mailman-Version: 2.1.29 Precedence: list List-Id: automatic DPDK test reports List-Unsubscribe: , List-Archive: List-Post: List-Help: List-Subscribe: , Errors-To: test-report-bounces@dpdk.org Test-Label: iol-compile-amd64-testing Test-Status: SUCCESS http://dpdk.org/patch/158528 _Testing PASS_ Submitter: Anurag Mandal Date: Thursday, November 06 2025 16:33:34 DPDK git baseline: Repo:dpdk-next-net-intel Branch: master CommitID:2a7bebfa5b488f8c49c9c63f2b7b7ce5cc088560 158528 --> testing pass Upstream job id: Generic-DPDK-Compile-Meson#441570 Test environment and result as below: +-------------------------------+--------------------+------------------+-------------------+-------------------------+----------------------+ | Environment | dpdk_meson_compile | dpdk_compile_ovs | dpdk_msvc_compile | dpdk_llvm_clang_compile | dpdk_mingw64_compile | +===============================+====================+==================+===================+=========================+======================+ | CentOS Stream 9 | PASS | SKIPPED | SKIPPED | SKIPPED | SKIPPED | +-------------------------------+--------------------+------------------+-------------------+-------------------------+----------------------+ | Debian GNU/Linux 12 | PASS | SKIPPED | SKIPPED | SKIPPED | SKIPPED | +-------------------------------+--------------------+------------------+-------------------+-------------------------+----------------------+ | Ubuntu 20.04 | PASS | SKIPPED | SKIPPED | SKIPPED | SKIPPED | +-------------------------------+--------------------+------------------+-------------------+-------------------------+----------------------+ | openSUSE Leap 15.6 | PASS | SKIPPED | SKIPPED | SKIPPED | SKIPPED | +-------------------------------+--------------------+------------------+-------------------+-------------------------+----------------------+ | CentOS Stream 10 | PASS | SKIPPED | SKIPPED | SKIPPED | SKIPPED | +-------------------------------+--------------------+------------------+-------------------+-------------------------+----------------------+ | FreeBSD 14.2 | PASS | SKIPPED | SKIPPED | SKIPPED | SKIPPED | +-------------------------------+--------------------+------------------+-------------------+-------------------------+----------------------+ | Fedora Linux 42 | PASS | PASS | SKIPPED | SKIPPED | SKIPPED | +-------------------------------+--------------------+------------------+-------------------+-------------------------+----------------------+ | Red Hat Enterprise Linux 9.5 | PASS | SKIPPED | SKIPPED | SKIPPED | SKIPPED | +-------------------------------+--------------------+------------------+-------------------+-------------------------+----------------------+ | Ubuntu 22.04 | PASS | SKIPPED | SKIPPED | SKIPPED | SKIPPED | +-------------------------------+--------------------+------------------+-------------------+-------------------------+----------------------+ | Ubuntu 24.04 | PASS | PASS | SKIPPED | SKIPPED | SKIPPED | +-------------------------------+--------------------+------------------+-------------------+-------------------------+----------------------+ | Red Hat Enterprise Linux 8.10 | PASS | SKIPPED | SKIPPED | SKIPPED | SKIPPED | +-------------------------------+--------------------+------------------+-------------------+-------------------------+----------------------+ | Alpine Linux 3.22.0 | PASS | SKIPPED | SKIPPED | SKIPPED | SKIPPED | +-------------------------------+--------------------+------------------+-------------------+-------------------------+----------------------+ | Windows Server 2022 | SKIPPED | SKIPPED | PASS | PASS | PASS | +-------------------------------+--------------------+------------------+-------------------+-------------------------+----------------------+ CentOS Stream 9 Kernel: 5.15 Compiler: gcc gcc (GCC) 11.5.0 20240719 (Red Hat 11.5.0-11) Debian GNU/Linux 12 Kernel: 5.15 Compiler: gcc gcc (Debian 12.2.0-14+deb12u1) 12.2.0 Ubuntu 20.04 Kernel: 4.19 Compiler: gcc gcc (Ubuntu 9.4.0-1ubuntu1~20.04.2) 9.4.0 openSUSE Leap 15.6 Kernel: 5.15 Compiler: gcc gcc (SUSE Linux) 7.5.0 CentOS Stream 10 Kernel: 5.15 Compiler: gcc gcc (GCC) 14.2.1 20250110 (Red Hat 14.2.1-8) FreeBSD 14.2 Kernel: 14.2-RELEASE Compiler: clang 18.1.6 Fedora Linux 42 Kernel: 5.15 Compiler: clang gcc (GCC) 15.2.1 20250808 (Red Hat 15.2.1-1) Red Hat Enterprise Linux 9.5 Kernel: 5.15 Compiler: gcc gcc (GCC) 11.5.0 20240719 (Red Hat 11.5.0-2) Ubuntu 22.04 Kernel: 5.15 Compiler: gcc gcc (Ubuntu 11.4.0-1ubuntu1~22.04) 11.4.0 Ubuntu 24.04 Kernel: 5.15 Compiler: gcc gcc (Ubuntu 13.3.0-6ubuntu2~24.04) 13.3.0 Red Hat Enterprise Linux 8.10 Kernel: 5.15 Compiler: gcc gcc (GCC) 8.5.0 20210514 (Red Hat 8.5.0-22) Alpine Linux 3.22.0 Kernel: 5.15 Compiler: gcc gcc (Alpine 14.2.0) 14.2.0 Windows Server 2022 Kernel: 10.0.20348.2031 Compiler: clang 15.0.7, gcc 14.1.0 (MinGW), and MSVC VS 19.39.33521 To view detailed results, visit: https://lab.dpdk.org/results/dashboard/patchsets/34490/ UNH-IOL DPDK Community Lab To manage your email subscriptions, visit: https://lab.dpdk.org/results/dashboard/preferences/subscriptions/