From mboxrd@z Thu Jan 1 00:00:00 1970 Return-Path: Received: from mails.dpdk.org (mails.dpdk.org [217.70.189.124]) by inbox.dpdk.org (Postfix) with ESMTP id 6199D48A86 for ; Thu, 6 Nov 2025 20:38:58 +0100 (CET) Received: from mails.dpdk.org (localhost [127.0.0.1]) by mails.dpdk.org (Postfix) with ESMTP id 5C5EB4013F; Thu, 6 Nov 2025 20:38:58 +0100 (CET) Received: from mail-oi1-f228.google.com (mail-oi1-f228.google.com [209.85.167.228]) by mails.dpdk.org (Postfix) with ESMTP id 37D674013F for ; Thu, 6 Nov 2025 20:38:57 +0100 (CET) Received: by mail-oi1-f228.google.com with SMTP id 5614622812f47-44ff2e4cfebso2582b6e.2 for ; Thu, 06 Nov 2025 11:38:57 -0800 (PST) DKIM-Signature: v=1; a=rsa-sha256; c=relaxed/relaxed; d=iol.unh.edu; s=unh-iol; t=1762457936; x=1763062736; darn=dpdk.org; h=references:in-reply-to:cc:to:from:subject:message-id:date:from:to :cc:subject:date:message-id:reply-to; bh=C64fJmPJxOeihwTFnvXgSgMS1UVoYBxcOwARrC21kLE=; b=OdIDjTpyD+4oclyMOAQXhuBTO5d+Np1DETdRAzQGBrcp68g19VAVRBXnXVNS/Bv1AI VBaEBvUN6bVZ/+o+HYgzgrueL65mXIFDaXoH+YUB/I9XoBDrBHRJSMQVTfJ/ZVVQD5jJ RRuZg7GMyKsuKrIf8DgsGSionohTx912SQRfE= X-Google-DKIM-Signature: v=1; a=rsa-sha256; c=relaxed/relaxed; d=1e100.net; s=20230601; t=1762457936; x=1763062736; h=references:in-reply-to:cc:to:from:subject:message-id:date:x-gm-gg :x-gm-message-state:from:to:cc:subject:date:message-id:reply-to; bh=C64fJmPJxOeihwTFnvXgSgMS1UVoYBxcOwARrC21kLE=; b=FlRvfH2AP1iKDPRVlx662og+KTHbXML3I48LxIptEW6UOYqBN87RPkw58bjxHD1SB/ 0CL5FI+8Qlr4CHQarITQlTUu+T1UHaOfMFJ7GvO/uvtidbFoD7O+Pwx1OAoipPDCXVuT mb2SMZPZ7rpItR47zWYtvbcrr4ireCZwIOOpSExIeM7KYMcedp+oWfZADZfg2WxLvas+ jb8GtNBW/NYK3ECgzcIW25DcbPeh4mxU7Q6sJer5M5TjXzkq9wUYo7xOGTeKDADEpLjR Fk/EGktR8UJzitfKkWCNoSi4KSygiY3iZF/WS6QaEBncfx/XNjgE3slwa6qGlOUpH9lM 5ghw== X-Gm-Message-State: AOJu0Yxv9ZdQqGUL9Xammq1HHsfc8Ao17wtY17hpp1OH4y6RFuLYViTO HEY6ThpXXw5ZPqEFTDU8TR8R7lYo69fLDHWT/RflDyMADiraRHtZRPOD0oz6wl4gTdQD49iCuxK vNS7hfOcJDXQ4CkfuKLvyZDI4ormZ+Yabd7l4zVIqNgI9 X-Gm-Gg: ASbGnctGdo8aOlNox6JnGx0xUAnzzO5lEdkcurAZX1LtoyNn3W25t6AvLRqR7mTPytc BucxkT/0QFGY/gnlHbDpbriaW1UrCij4jpM5JbkhYySSowQnWV//ttBXKG9CNVqR0TkM6Gm7eKM 4cqeugwp2kVcYvgj7FKbKM9FK7t0n3/c0xqUlcdL7D4lpuceMi7Mi3q3Gylml79+9UzUjr1sVxq U73MV6DDlR/pa/TxShlJj1DDv9Hg1HOOHkUUD4JPen4WF/izQQ43rC7CWuq7AvCMNny339/bOQf vrauxtDlhqIjR/e9LHvNYcBuzzO8t4dZCNud+EUxKHDdh6Y4cYtBZ51R0EN+o7Wdyg9uJsALH52 lsei6Yn9k+sF/XpbGjBKs+evTDhoVf7g= X-Google-Smtp-Source: AGHT+IG7TH1bum1c68sGShV3r2B6MX1YpwRfRdA+BsQCl+3u7lzC66RLKGQNgvOPnneJfTEvi4i360S7bM6T X-Received: by 2002:a05:6808:1a21:b0:44d:aaa7:62bd with SMTP id 5614622812f47-45015d5f45amr404379b6e.27.1762457936450; Thu, 06 Nov 2025 11:38:56 -0800 (PST) Received: from postal.iol.unh.edu (postal.iol.unh.edu. [132.177.123.84]) by smtp-relay.gmail.com with ESMTPS id 006d021491bc7-656c565bc37sm169958eaf.1.2025.11.06.11.38.56 (version=TLS1_2 cipher=ECDHE-ECDSA-AES128-GCM-SHA256 bits=128/128); Thu, 06 Nov 2025 11:38:56 -0800 (PST) X-Relaying-Domain: iol.unh.edu Date: Thu, 06 Nov 2025 11:38:56 -0800 (PST) Message-ID: <690cf950.050a0220.3b215e.8e00SMTPIN_ADDED_MISSING@mx.google.com> Received: from [172.21.0.3] (unknown [172.18.0.240]) by postal.iol.unh.edu (Postfix) with ESMTP id 09D7E604D420; Thu, 6 Nov 2025 14:38:56 -0500 (EST) Subject: |SUCCESS| pw158500-158505 [PATCH] [v3,6/6] net/iavf: fix QinQ insert From: dpdklab@iol.unh.edu To: Test Report Cc: dpdk-test-reports@iol.unh.edu, Bruce Richardson In-Reply-To: <20251106115016.3035639-7-ciara.loftus@intel.com> References: <20251106115016.3035639-7-ciara.loftus@intel.com> Content-Type: text/plain X-BeenThere: test-report@dpdk.org X-Mailman-Version: 2.1.29 Precedence: list List-Id: automatic DPDK test reports List-Unsubscribe: , List-Archive: List-Post: List-Help: List-Subscribe: , Errors-To: test-report-bounces@dpdk.org Test-Label: iol-unit-arm64-testing Test-Status: SUCCESS http://dpdk.org/patch/158505 _Testing PASS_ Submitter: Ciara Loftus Date: Thursday, November 06 2025 11:50:16 DPDK git baseline: Repo:dpdk-next-net-intel Branch: master CommitID:03e1f9ac281264a54af53f547a2eb80f25bc19e6 158500-158505 --> testing pass Upstream job id: Generic-Unit-Test-DPDK#389291 Test environment and result as below: +------------------------------+----------------+--------------+---------------------------+------------------------------+ | Environment | dpdk_unit_test | lpm_autotest | cryptodev_sw_zuc_autotest | cryptodev_sw_snow3g_autotest | +==============================+================+==============+===========================+==============================+ | Debian GNU/Linux 12 | PASS | SKIPPED | SKIPPED | SKIPPED | +------------------------------+----------------+--------------+---------------------------+------------------------------+ | CentOS Stream 10 | PASS | SKIPPED | SKIPPED | SKIPPED | +------------------------------+----------------+--------------+---------------------------+------------------------------+ | CentOS Stream 9 | PASS | SKIPPED | SKIPPED | SKIPPED | +------------------------------+----------------+--------------+---------------------------+------------------------------+ | Fedora Linux 40 | PASS | SKIPPED | SKIPPED | SKIPPED | +------------------------------+----------------+--------------+---------------------------+------------------------------+ | Fedora Linux 42 | PASS | SKIPPED | SKIPPED | SKIPPED | +------------------------------+----------------+--------------+---------------------------+------------------------------+ | Fedora Linux 41 | PASS | SKIPPED | SKIPPED | SKIPPED | +------------------------------+----------------+--------------+---------------------------+------------------------------+ | Red Hat Enterprise Linux 9.5 | PASS | SKIPPED | SKIPPED | SKIPPED | +------------------------------+----------------+--------------+---------------------------+------------------------------+ | Ubuntu 22.04 | PASS | SKIPPED | SKIPPED | SKIPPED | +------------------------------+----------------+--------------+---------------------------+------------------------------+ | Ubuntu 24.04 | PASS | SKIPPED | SKIPPED | SKIPPED | +------------------------------+----------------+--------------+---------------------------+------------------------------+ | Ubuntu 20.04 | PASS | PASS | SKIPPED | SKIPPED | +------------------------------+----------------+--------------+---------------------------+------------------------------+ | Debian 12 (arm) | SKIPPED | SKIPPED | PASS | PASS | +------------------------------+----------------+--------------+---------------------------+------------------------------+ Debian GNU/Linux 12 Kernel: 5.4 Compiler: gcc gcc (Debian 12.2.0-14+deb12u1) 12.2.0 CentOS Stream 10 Kernel: 5.4 Compiler: gcc gcc (GCC) 14.2.1 20250110 (Red Hat 14.2.1-8) CentOS Stream 9 Kernel: 5.4 Compiler: gcc gcc (GCC) 11.5.0 20240719 (Red Hat 11.5.0-11) Fedora Linux 40 Kernel: 5.4 Compiler: clang gcc (GCC) 14.2.1 20240912 (Red Hat 14.2.1-3) Fedora Linux 42 Kernel: 5.4 Compiler: gcc gcc (GCC) 15.2.1 20250808 (Red Hat 15.2.1-1) Fedora Linux 41 Kernel: 5.4 Compiler: gcc gcc (GCC) 14.3.1 20250523 (Red Hat 14.3.1-1) Red Hat Enterprise Linux 9.5 Kernel: 5.4 Compiler: gcc gcc (GCC) 11.5.0 20240719 (Red Hat 11.5.0-2) Ubuntu 22.04 Kernel: 5.4 Compiler: gcc gcc (Ubuntu 11.4.0-1ubuntu1~22.04) 11.4.0 Ubuntu 24.04 Kernel: 5.4 Compiler: gcc gcc (Ubuntu 13.3.0-6ubuntu2~24.04) 13.3.0 Ubuntu 20.04 Kernel: 5.4 Compiler: gcc gcc (Ubuntu 9.4.0-1ubuntu1~20.04.2) 9.4.0 Debian 12 (arm) Kernel: Depends on container host Compiler: gcc (Debian 12.2.0-14) 12.2.0 To view detailed results, visit: https://lab.dpdk.org/results/dashboard/patchsets/34484/ UNH-IOL DPDK Community Lab To manage your email subscriptions, visit: https://lab.dpdk.org/results/dashboard/preferences/subscriptions/