From mboxrd@z Thu Jan 1 00:00:00 1970 Return-Path: Received: from mails.dpdk.org (mails.dpdk.org [217.70.189.124]) by inbox.dpdk.org (Postfix) with ESMTP id 9F8CE48A86 for ; Thu, 6 Nov 2025 20:40:38 +0100 (CET) Received: from mails.dpdk.org (localhost [127.0.0.1]) by mails.dpdk.org (Postfix) with ESMTP id 881514013F; Thu, 6 Nov 2025 20:40:38 +0100 (CET) Received: from mail-io1-f97.google.com (mail-io1-f97.google.com [209.85.166.97]) by mails.dpdk.org (Postfix) with ESMTP id 9E2974013F for ; Thu, 6 Nov 2025 20:40:37 +0100 (CET) Received: by mail-io1-f97.google.com with SMTP id ca18e2360f4ac-94863b3620cso114278339f.3 for ; Thu, 06 Nov 2025 11:40:37 -0800 (PST) DKIM-Signature: v=1; a=rsa-sha256; c=relaxed/relaxed; d=iol.unh.edu; s=unh-iol; t=1762458037; x=1763062837; darn=dpdk.org; h=references:in-reply-to:cc:to:from:subject:message-id:date:from:to :cc:subject:date:message-id:reply-to; bh=lDnpQcYUfbp+5JT7gp/UfFKwWmlmZvJqyvh7a0oG214=; b=fWqRB3lshxRW+YL/9EFJgckatQDiSve3bf/E4s1jPEiACeTMmdmla1EYSoaqKgf8Sg fmGlaUhlUwDAkujGtFf3p+/2Vbng6mE3oHQ9WSVV7n6keieRa9cSPvs8nnIEsXv3ZCtb NlGV/qiP1/F0mXcmnHwZqx8vsDuGehOBmT5Js= X-Google-DKIM-Signature: v=1; a=rsa-sha256; c=relaxed/relaxed; d=1e100.net; s=20230601; t=1762458037; x=1763062837; h=references:in-reply-to:cc:to:from:subject:message-id:date:x-gm-gg :x-gm-message-state:from:to:cc:subject:date:message-id:reply-to; bh=lDnpQcYUfbp+5JT7gp/UfFKwWmlmZvJqyvh7a0oG214=; b=XioFRmWny6agMhK+8RoSrMtEWZZ4aloFgjjm2fdD3J98yaVSz86gk0ESd6gy1nQ1ni j76TVa1ZkJu5grXu+cKe5vJCQirZ2TVi8IROdrdJRRTCKXRLFkPTUvzrGhc6QEHEpFD7 huOWdCKhS5LFZsl5OYXK8WbVXvWYe9FSDZUWSP6QwC6F9Vg2hX888+jAnxH3ST0J1p1/ yaGfkoD97r2+8weJ7mj022l4l1R3Aqvo0uMkYKBMm7fX6T/ldOuY6FkLj3hnbzaANaa3 5FvCN0dz4GlrECwSPC1F4xBnkYzqrWKtEknqnCONgnrS5Ge05AS5h2UiYygpp+A8zKri E6fQ== X-Gm-Message-State: AOJu0YzZlHNo1VuDm4+gRaT5FBVtMIhzrWo9RODWPksnpjqWkBvKy/y8 49QlJnK7asUD3wG1HmyCMG2gBEdHEvEoAqzSuv6DivG0FrT4b52HT0WdFwibb9sVMxLR30fug5f BxlRjxjp8eU03Y7BE7GZPvYxw689YsSPD/Q9mMrHiw0wd X-Gm-Gg: ASbGncsJv6MkpXxFgG6PEMUVX11Yux+XMH5pIc9HWcZRsagiX06nNXisuRd8YBoR545 s4BgLMGq8Zq0M9AMk/IZ/WwoUu4kLsrwBHXUn1NRlf8o7/+OfwroTpBlfYF0cb3lohGmaXAm8oT HBbr2/6d2lrR7u4UVU/CbXpne/kL+3VKwc2PvyeJcN0R44+i4Eb0bWTptdAWf8juZFvzvQnty5Q IkaMpHYp5nTGo9wZgYHSseJxzFDLYLkVoP9yFrBpEAtEryy4bXiyTZLtV+eSTJi/XVzraPv4Kfj QUJVPMFVbnQNRB6CeOvTPHLYEgJVZRK6g77Bfm7FqG4/YUEfFdaqjnPYVIpHloEhA+9/xnL+B7Y gFb5M7S7BvH30anoKD3DNl/lgPCAHlko= X-Google-Smtp-Source: AGHT+IFhkHOsbpzjcGTfzhLwD1a/SCpL2L9/xT9/RO+ZmiIAQjRhplzzU/BF1JnFG1ibjacgq/A5RUuiMyFE X-Received: by 2002:a92:ca08:0:b0:430:c323:2bca with SMTP id e9e14a558f8ab-4335f3cce59mr11749665ab.10.1762458036973; Thu, 06 Nov 2025 11:40:36 -0800 (PST) Received: from postal.iol.unh.edu (postal.iol.unh.edu. [132.177.123.84]) by smtp-relay.gmail.com with ESMTPS id 8926c6da1cb9f-5b74676c355sm328521173.10.2025.11.06.11.40.36 (version=TLS1_2 cipher=ECDHE-ECDSA-AES128-GCM-SHA256 bits=128/128); Thu, 06 Nov 2025 11:40:36 -0800 (PST) X-Relaying-Domain: iol.unh.edu Date: Thu, 06 Nov 2025 11:40:36 -0800 (PST) Message-ID: <690cf9b4.050a0220.2f36d7.1233SMTPIN_ADDED_MISSING@mx.google.com> Received: from [172.21.0.2] (unknown [172.18.0.240]) by postal.iol.unh.edu (Postfix) with ESMTP id 73BD5604D420; Thu, 6 Nov 2025 14:40:36 -0500 (EST) Subject: |SUCCESS| pw158532 [PATCH] net/ice: adjust RSS LUT settings From: dpdklab@iol.unh.edu To: Test Report Cc: dpdk-test-reports@iol.unh.edu, Bruce Richardson In-Reply-To: <20251106171736.163516-1-vladimir.medvedkin@intel.com> References: <20251106171736.163516-1-vladimir.medvedkin@intel.com> Content-Type: text/plain X-BeenThere: test-report@dpdk.org X-Mailman-Version: 2.1.29 Precedence: list List-Id: automatic DPDK test reports List-Unsubscribe: , List-Archive: List-Post: List-Help: List-Subscribe: , Errors-To: test-report-bounces@dpdk.org Test-Label: iol-unit-amd64-testing Test-Status: SUCCESS http://dpdk.org/patch/158532 _Testing PASS_ Submitter: Vladimir Medvedkin Date: Thursday, November 06 2025 17:17:36 DPDK git baseline: Repo:dpdk-next-net-intel Branch: master CommitID:2a7bebfa5b488f8c49c9c63f2b7b7ce5cc088560 158532 --> testing pass Upstream job id: Generic-VM-Unit-Test-DPDK#32353 Test environment and result as below: +-------------------------------+----------------+ | Environment | dpdk_unit_test | +===============================+================+ | CentOS Stream 9 | PASS | +-------------------------------+----------------+ | CentOS Stream 10 | PASS | +-------------------------------+----------------+ | Debian GNU/Linux 12 | PASS | +-------------------------------+----------------+ | Fedora Linux 40 | PASS | +-------------------------------+----------------+ | Fedora Linux 41 | PASS | +-------------------------------+----------------+ | Red Hat Enterprise Linux 8.10 | PASS | +-------------------------------+----------------+ | Fedora Linux 42 | PASS | +-------------------------------+----------------+ | Ubuntu 20.04 | PASS | +-------------------------------+----------------+ | Red Hat Enterprise Linux 9.5 | PASS | +-------------------------------+----------------+ | Ubuntu 22.04 | PASS | +-------------------------------+----------------+ | Ubuntu 24.04 | PASS | +-------------------------------+----------------+ | Windows Server 2022 | PASS | +-------------------------------+----------------+ CentOS Stream 9 Kernel: 5.15 Compiler: gcc gcc (GCC) 11.5.0 20240719 (Red Hat 11.5.0-11) CentOS Stream 10 Kernel: 5.15 Compiler: gcc gcc (GCC) 14.2.1 20250110 (Red Hat 14.2.1-8) Debian GNU/Linux 12 Kernel: 5.15 Compiler: gcc gcc (Debian 12.2.0-14+deb12u1) 12.2.0 Fedora Linux 40 Kernel: 5.15 Compiler: gcc gcc (GCC) 14.2.1 20240912 (Red Hat 14.2.1-3) Fedora Linux 41 Kernel: 5.15 Compiler: gcc gcc (GCC) 14.3.1 20250523 (Red Hat 14.3.1-1) Red Hat Enterprise Linux 8.10 Kernel: 5.15 Compiler: gcc gcc (GCC) 8.5.0 20210514 (Red Hat 8.5.0-22) Fedora Linux 42 Kernel: 5.15 Compiler: gcc gcc (GCC) 15.2.1 20250808 (Red Hat 15.2.1-1) Ubuntu 20.04 Kernel: 5.15 Compiler: gcc gcc (Ubuntu 9.4.0-1ubuntu1~20.04.2) 9.4.0 Red Hat Enterprise Linux 9.5 Kernel: 5.15 Compiler: gcc gcc (GCC) 11.5.0 20240719 (Red Hat 11.5.0-2) Ubuntu 22.04 Kernel: 5.15 Compiler: gcc gcc (Ubuntu 11.4.0-1ubuntu1~22.04) 11.4.0 Ubuntu 24.04 Kernel: 5.15 Compiler: gcc gcc (Ubuntu 13.3.0-6ubuntu2~24.04) 13.3.0 Windows Server 2022 Kernel: 10.0.20348.2031 Compiler: clang 15.0.7, gcc 14.1.0 (MinGW), and MSVC VS 19.39.33521 To view detailed results, visit: https://lab.dpdk.org/results/dashboard/patchsets/34491/ UNH-IOL DPDK Community Lab To manage your email subscriptions, visit: https://lab.dpdk.org/results/dashboard/preferences/subscriptions/