From mboxrd@z Thu Jan 1 00:00:00 1970 Return-Path: Received: from mails.dpdk.org (mails.dpdk.org [217.70.189.124]) by inbox.dpdk.org (Postfix) with ESMTP id 3F84F48A86 for ; Thu, 6 Nov 2025 20:46:51 +0100 (CET) Received: from mails.dpdk.org (localhost [127.0.0.1]) by mails.dpdk.org (Postfix) with ESMTP id 23DE64013F; Thu, 6 Nov 2025 20:46:51 +0100 (CET) Received: from mail-pf1-f228.google.com (mail-pf1-f228.google.com [209.85.210.228]) by mails.dpdk.org (Postfix) with ESMTP id 1282D4013F for ; Thu, 6 Nov 2025 20:46:50 +0100 (CET) Received: by mail-pf1-f228.google.com with SMTP id d2e1a72fcca58-7ad1cd0db3bso18914b3a.1 for ; Thu, 06 Nov 2025 11:46:49 -0800 (PST) DKIM-Signature: v=1; a=rsa-sha256; c=relaxed/relaxed; d=iol.unh.edu; s=unh-iol; t=1762458409; x=1763063209; darn=dpdk.org; h=references:in-reply-to:cc:to:from:subject:message-id:date:from:to :cc:subject:date:message-id:reply-to; bh=g/tAHAv+nUl2T0f/z42HkAIabEE7EiWYQFC7l/QVpwg=; b=CNk6T8uNUiRE+A9O1YdF9CajfGIZz8iU2KAL7onr3n9kbRN/NLQol1xddNm0WCokKr KwtnMlErzgeAqz5JB1BV73armFFPqzxN2x0n5W7/gWrhzqW5JLj8D+oOQ+lu5Cgq+ysE 7eN8oS0a5zWoLQtTJ3WZusLd91O53BLKXy3Vk= X-Google-DKIM-Signature: v=1; a=rsa-sha256; c=relaxed/relaxed; d=1e100.net; s=20230601; t=1762458409; x=1763063209; h=references:in-reply-to:cc:to:from:subject:message-id:date:x-gm-gg :x-gm-message-state:from:to:cc:subject:date:message-id:reply-to; bh=g/tAHAv+nUl2T0f/z42HkAIabEE7EiWYQFC7l/QVpwg=; b=L7ZQETwFbDFFd1ddvZ8G61L06cEXr12M8JgnZaQNDJ/Eebk6VmMKEUhIoae8KWH4lM BQpR24y3pS2byr0NrVrPfAq2+rPFwJruaK3rr8M+gh6B2/N22dwyj9aRcwFAAv3OJ1Y2 zL5rRb2dI0lnfAV49aEPLJSI90BnmZOR2L3T3K6tZ7lGVOZp0VsPdfUEbkoDVDrfKmi2 4sowxH+vPksDp1a0Uka1K92gYhMlUH9j4BstqJTBVJttIcH+WZSLX557RFfJqDsDHJZL mNnaSQUcblq0KzWik3UDTRsTGGLeIOQLuTu29o0iTc6ckEetW2Tw82B4Zkmiz9DvyjhP sbuw== X-Gm-Message-State: AOJu0YzcRn4J6hA0Td2Gog/82694QS5sPhYFlL9ORKdo9m4RYLOXzX0t nT6b1mz07wVFkQcrwUa5Ir/J5LXz2t4I7dlB95oSPdgNuxZ0BAYiBtSAOyVfdkdBk0W9O6UQ9Pj d9hrqSBnvQdw7t9zAHjmRP1FRpyBL9rzwZO+SQIt2eF1m X-Gm-Gg: ASbGncvM3Si0MH/xKYnKaotm2wgkB6kAfYYtT5FqUd7ONnSCpRd7WASv5iExKFcuImU B5sVHB+AjdQWHXIHMF1W8MRnLB3IK5dsowgK24CR/sHMRfitBp588V9iA0GVOFcMI8rZelVhugd szoqbu4ujbNnDyL+biOLWBZkQx/9JyvgALuzKVqCkQnlYHhV0HhmdzYUL23m6XjRR4e3r4P3yT2 YbGuAYax1FRnO5lULhf5R6C130O0dV9elZTcpNeQB3dAgr0WrVohqIDsrLdyuJaVo9/qm0Y9fHB A0jomZwfmuA8+TxGce1lbfwWg2ikRbK1mv4G7FSEdJBildhJ1xnroVMgwr87EXH70Fh93YxTqii uUvavSuGUR4RIA5an6imTPv5B+J2yspo= X-Google-Smtp-Source: AGHT+IGUxyOz+32Qj2Mh7E5LjVGKbZEkBxWqPIxFKVLYFvSnnnobTmxFDbSHXCJ8hpw6rG4nHfWmGCGh1PJw X-Received: by 2002:a17:90b:3c06:b0:341:124f:4746 with SMTP id 98e67ed59e1d1-3434c584f46mr337650a91.31.1762458409148; Thu, 06 Nov 2025 11:46:49 -0800 (PST) Received: from postal.iol.unh.edu (postal.iol.unh.edu. [132.177.123.84]) by smtp-relay.gmail.com with ESMTPS id 98e67ed59e1d1-3434e4048e1sm2770a91.1.2025.11.06.11.46.49 (version=TLS1_2 cipher=ECDHE-ECDSA-AES128-GCM-SHA256 bits=128/128); Thu, 06 Nov 2025 11:46:49 -0800 (PST) X-Relaying-Domain: iol.unh.edu Date: Thu, 06 Nov 2025 11:46:49 -0800 (PST) Message-ID: <690cfb29.170a0220.39360.0259SMTPIN_ADDED_MISSING@mx.google.com> Received: from [172.21.0.2] (unknown [172.18.0.240]) by postal.iol.unh.edu (Postfix) with ESMTP id 6B9E5604D420; Thu, 6 Nov 2025 14:46:48 -0500 (EST) Subject: |SUCCESS| pw158532 [PATCH] net/ice: adjust RSS LUT settings From: dpdklab@iol.unh.edu To: Test Report Cc: dpdk-test-reports@iol.unh.edu, Bruce Richardson In-Reply-To: <20251106171736.163516-1-vladimir.medvedkin@intel.com> References: <20251106171736.163516-1-vladimir.medvedkin@intel.com> Content-Type: text/plain X-BeenThere: test-report@dpdk.org X-Mailman-Version: 2.1.29 Precedence: list List-Id: automatic DPDK test reports List-Unsubscribe: , List-Archive: List-Post: List-Help: List-Subscribe: , Errors-To: test-report-bounces@dpdk.org Test-Label: iol-unit-amd64-testing Test-Status: SUCCESS http://dpdk.org/patch/158532 _Testing PASS_ Submitter: Vladimir Medvedkin Date: Thursday, November 06 2025 17:17:36 DPDK git baseline: Repo:dpdk-next-net-intel Branch: master CommitID:2a7bebfa5b488f8c49c9c63f2b7b7ce5cc088560 158532 --> testing pass Upstream job id: Generic-VM-Unit-Test-DPDK#32354 Test environment and result as below: +-------------------------------+----------------+ | Environment | dpdk_unit_test | +===============================+================+ | CentOS Stream 9 | PASS | +-------------------------------+----------------+ | CentOS Stream 10 | PASS | +-------------------------------+----------------+ | Debian GNU/Linux 12 | PASS | +-------------------------------+----------------+ | Fedora Linux 40 | PASS | +-------------------------------+----------------+ | Fedora Linux 41 | PASS | +-------------------------------+----------------+ | Red Hat Enterprise Linux 8.10 | PASS | +-------------------------------+----------------+ | Fedora Linux 42 | PASS | +-------------------------------+----------------+ | Ubuntu 20.04 | PASS | +-------------------------------+----------------+ | Red Hat Enterprise Linux 9.5 | PASS | +-------------------------------+----------------+ | Ubuntu 22.04 | PASS | +-------------------------------+----------------+ | Ubuntu 24.04 | PASS | +-------------------------------+----------------+ | Windows Server 2022 | PASS | +-------------------------------+----------------+ CentOS Stream 9 Kernel: 5.15 Compiler: gcc gcc (GCC) 11.5.0 20240719 (Red Hat 11.5.0-11) CentOS Stream 10 Kernel: 5.15 Compiler: gcc gcc (GCC) 14.2.1 20250110 (Red Hat 14.2.1-8) Debian GNU/Linux 12 Kernel: 5.15 Compiler: gcc gcc (Debian 12.2.0-14+deb12u1) 12.2.0 Fedora Linux 40 Kernel: 5.15 Compiler: gcc gcc (GCC) 14.2.1 20240912 (Red Hat 14.2.1-3) Fedora Linux 41 Kernel: 5.15 Compiler: gcc gcc (GCC) 14.3.1 20250523 (Red Hat 14.3.1-1) Red Hat Enterprise Linux 8.10 Kernel: 5.15 Compiler: gcc gcc (GCC) 8.5.0 20210514 (Red Hat 8.5.0-22) Fedora Linux 42 Kernel: 5.15 Compiler: gcc gcc (GCC) 15.2.1 20250808 (Red Hat 15.2.1-1) Ubuntu 20.04 Kernel: 5.15 Compiler: gcc gcc (Ubuntu 9.4.0-1ubuntu1~20.04.2) 9.4.0 Red Hat Enterprise Linux 9.5 Kernel: 5.15 Compiler: gcc gcc (GCC) 11.5.0 20240719 (Red Hat 11.5.0-2) Ubuntu 22.04 Kernel: 5.15 Compiler: gcc gcc (Ubuntu 11.4.0-1ubuntu1~22.04) 11.4.0 Ubuntu 24.04 Kernel: 5.15 Compiler: gcc gcc (Ubuntu 13.3.0-6ubuntu2~24.04) 13.3.0 Windows Server 2022 Kernel: 10.0.20348.2031 Compiler: clang 15.0.7, gcc 14.1.0 (MinGW), and MSVC VS 19.39.33521 To view detailed results, visit: https://lab.dpdk.org/results/dashboard/patchsets/34491/ UNH-IOL DPDK Community Lab To manage your email subscriptions, visit: https://lab.dpdk.org/results/dashboard/preferences/subscriptions/