From mboxrd@z Thu Jan 1 00:00:00 1970 Return-Path: Received: from mails.dpdk.org (mails.dpdk.org [217.70.189.124]) by inbox.dpdk.org (Postfix) with ESMTP id B861546E24 for ; Thu, 6 Nov 2025 21:06:58 +0100 (CET) Received: from mails.dpdk.org (localhost [127.0.0.1]) by mails.dpdk.org (Postfix) with ESMTP id B18DC4013F; Thu, 6 Nov 2025 21:06:58 +0100 (CET) Received: from mail-oo1-f97.google.com (mail-oo1-f97.google.com [209.85.161.97]) by mails.dpdk.org (Postfix) with ESMTP id 822A84013F for ; Thu, 6 Nov 2025 21:06:57 +0100 (CET) Received: by mail-oo1-f97.google.com with SMTP id 006d021491bc7-656b7a2e7dcso16782eaf.1 for ; Thu, 06 Nov 2025 12:06:57 -0800 (PST) DKIM-Signature: v=1; a=rsa-sha256; c=relaxed/relaxed; d=iol.unh.edu; s=unh-iol; t=1762459616; x=1763064416; darn=dpdk.org; h=references:in-reply-to:cc:to:from:subject:message-id:date:from:to :cc:subject:date:message-id:reply-to; bh=X5b4of5s7xxqpXDDyYtahFPOl3mDWPKwuARMYviqGx4=; b=BGxhjL5NfRJm3pQCMyZl6ya5eYLP72qq3dMUorPAIGv19rux8Iaw3HPsGjOw+MciCY X+DPSiwZulATlZjnWX8tULedkW8qvs+dnbYOye4UVigozNUssb+9Mv4jYm9kk3o6Wr++ 6D3UWqnrUIG7/zkFvPLVx50ILfg5V49kKv5xk= X-Google-DKIM-Signature: v=1; a=rsa-sha256; c=relaxed/relaxed; d=1e100.net; s=20230601; t=1762459616; x=1763064416; h=references:in-reply-to:cc:to:from:subject:message-id:date:x-gm-gg :x-gm-message-state:from:to:cc:subject:date:message-id:reply-to; bh=X5b4of5s7xxqpXDDyYtahFPOl3mDWPKwuARMYviqGx4=; b=uqncbU9urs+1G4Xw/i1rhA3BrcwlAzD+ELUxtkHDD2laiap76ahhy9WXAxm/fplx4d w5uPJdOxADGJQ3OYdj13+OHdd/Mm2QqU6LYoaHdbZpnirhPsf1EkR41l2BNlUwNqTy+g WD3e3zMHjmwVqqJ6XZhH7LRKfFiCSrsQYXEGTN0hfsk8IRw0ar48uBfj+YxD0Qyod7X0 h2EZFzf+HUHnHsyaVNFxKldlAqwYED2SyrA6zoklPcOdjN9E30GpDFwf9howiU2YtnT+ 57L+zYutKPTBTkvfoe1KZfR8rx5WjEao4uw1uD88OFwuRJp/HuZKhb3RqznkZkddJQzd kM2g== X-Gm-Message-State: AOJu0YxoGh9yxjKlBHxc72wSJH3hR/D8xtK3h0GMWkTvYaCEdwN31Yx/ uF18XB6nNK0uWEkuSC8rcOC5OaUvkPzhyRwbyWc84iqPBCUdl1/L6ydoh2EyMZct0LcFWP3tHYY Zmiy8ePtu5e7LZHbHC4vwigwDgutZW+6yNep43gRGifg2 X-Gm-Gg: ASbGncs99wMkTmCxFZfl0Few1fz1EvIuOC0L4XlkJNjuclOjtoZNZ3cB3SFvTabw16I VhuIwL8tXr/jplDCymhs7CQtBmU/w3YyyTfY4VfUxeHuwojspDPN1N41aArzHOQTNVt4HBF4lNX pDC3VBSFTM3NEdFDfQf8bI95qxq+lTZHfB+CACqk23cgyi6h1hiPdOui2i4O+784G5iFAVuT6TJ qmdVXkGiYIUGVSDPGE0/uq/wVw+83jMzuc9h8E4nzPWVx5BIvgnOFDwnGAXCmEn83TtC5knVjJe qksozfyxklH++oUlikOvAQcDXeCzFvPPAvbjo5t9yJvNsLeZesSkQ0z7vRqZ4jA0uGkFL+STq2+ c3S3ZKGFP/82ZwAklwEFBMC1vfcvSCl0= X-Google-Smtp-Source: AGHT+IHgMNg2FNce+YlEupdDDhR5xfjpR8tdY77u6F6RJg4awUMKfs5t/DDip/40NkIkqHKOvr4o7wfnU+Jv X-Received: by 2002:a05:6808:4f2c:b0:43f:75c5:57e1 with SMTP id 5614622812f47-45015db4d3dmr401097b6e.18.1762459616527; Thu, 06 Nov 2025 12:06:56 -0800 (PST) Received: from postal.iol.unh.edu (postal.iol.unh.edu. [132.177.123.84]) by smtp-relay.gmail.com with ESMTPS id 586e51a60fabf-3e41ed52aa7sm41178fac.6.2025.11.06.12.06.56 (version=TLS1_2 cipher=ECDHE-ECDSA-AES128-GCM-SHA256 bits=128/128); Thu, 06 Nov 2025 12:06:56 -0800 (PST) X-Relaying-Domain: iol.unh.edu Date: Thu, 06 Nov 2025 12:06:56 -0800 (PST) Message-ID: <690cffe0.050a0220.1d44b9.2456SMTPIN_ADDED_MISSING@mx.google.com> Received: from [172.21.0.2] (unknown [172.18.0.240]) by postal.iol.unh.edu (Postfix) with ESMTP id 073A06050A61; Thu, 6 Nov 2025 15:06:56 -0500 (EST) Subject: |SUCCESS| pw158533 [PATCH] [v3] dts: add test case docstring checks From: dpdklab@iol.unh.edu To: Test Report Cc: dpdk-test-reports@iol.unh.edu In-Reply-To: <20251106181355.209706-1-dmarx@iol.unh.edu> References: <20251106181355.209706-1-dmarx@iol.unh.edu> Content-Type: text/plain X-BeenThere: test-report@dpdk.org X-Mailman-Version: 2.1.29 Precedence: list List-Id: automatic DPDK test reports List-Unsubscribe: , List-Archive: List-Post: List-Help: List-Subscribe: , Errors-To: test-report-bounces@dpdk.org Test-Label: iol-compile-amd64-testing Test-Status: SUCCESS http://dpdk.org/patch/158533 _Testing PASS_ Submitter: Dean Marx Date: Thursday, November 06 2025 18:13:55 DPDK git baseline: Repo:dpdk-next-dts Branch: master CommitID:4f35a61a6a5a31f822c3d7519e8a1de1b7cbd9c4 158533 --> testing pass Upstream job id: Windows-Compile-DPDK-VS#7452 Test environment and result as below: +---------------------+--------------------+-------------------+ | Environment | dpdk_meson_compile | dpdk_msvc_compile | +=====================+====================+===================+ | Ubuntu 20.04 | PASS | SKIPPED | +---------------------+--------------------+-------------------+ | FreeBSD 14.2 | PASS | SKIPPED | +---------------------+--------------------+-------------------+ | Windows Server 2022 | SKIPPED | PASS | +---------------------+--------------------+-------------------+ Ubuntu 20.04 Kernel: 4.19 Compiler: gcc gcc (Ubuntu 9.4.0-1ubuntu1~20.04.2) 9.4.0 FreeBSD 14.2 Kernel: 14.2-RELEASE Compiler: clang 18.1.6 Windows Server 2022 Kernel: 10.0.20348.2031 Compiler: clang 15.0.7, gcc 14.1.0 (MinGW), and MSVC VS 19.39.33521 To view detailed results, visit: https://lab.dpdk.org/results/dashboard/patchsets/34492/ UNH-IOL DPDK Community Lab To manage your email subscriptions, visit: https://lab.dpdk.org/results/dashboard/preferences/subscriptions/