From mboxrd@z Thu Jan 1 00:00:00 1970 Return-Path: Received: from mails.dpdk.org (mails.dpdk.org [217.70.189.124]) by inbox.dpdk.org (Postfix) with ESMTP id 2002048A86 for ; Thu, 6 Nov 2025 21:10:48 +0100 (CET) Received: from mails.dpdk.org (localhost [127.0.0.1]) by mails.dpdk.org (Postfix) with ESMTP id 1B5C84013F; Thu, 6 Nov 2025 21:10:48 +0100 (CET) Received: from mail-pf1-f225.google.com (mail-pf1-f225.google.com [209.85.210.225]) by mails.dpdk.org (Postfix) with ESMTP id 6128D4013F for ; Thu, 6 Nov 2025 21:10:47 +0100 (CET) Received: by mail-pf1-f225.google.com with SMTP id d2e1a72fcca58-7a9c64dfa8aso28316b3a.3 for ; Thu, 06 Nov 2025 12:10:47 -0800 (PST) DKIM-Signature: v=1; a=rsa-sha256; c=relaxed/relaxed; d=iol.unh.edu; s=unh-iol; t=1762459846; x=1763064646; darn=dpdk.org; h=references:in-reply-to:cc:to:from:subject:message-id:date:from:to :cc:subject:date:message-id:reply-to; bh=/TwxLJ/zM6swa8Zftjv9UThXoGuPi9RoYwIYmadGKoY=; b=LQYIZu0ueGiV/dkZcz12jf8fqjE1v6/fWvYj0qQWKv4+j6hnLpnx6Le2b1lTnERbBG DyfYUHP1FiCC+lwN0mJIBW1Ml2AjBoQMcC3q5yI4O4/yFSQXVIdzD1uMzdqJnaP/1IOF Ib6aEIlBzLRCsqyJwMdJNwxHXlXI51nlSll9I= X-Google-DKIM-Signature: v=1; a=rsa-sha256; c=relaxed/relaxed; d=1e100.net; s=20230601; t=1762459846; x=1763064646; h=references:in-reply-to:cc:to:from:subject:message-id:date:x-gm-gg :x-gm-message-state:from:to:cc:subject:date:message-id:reply-to; bh=/TwxLJ/zM6swa8Zftjv9UThXoGuPi9RoYwIYmadGKoY=; b=HJIjtIyRMkAvI9MA8AA1nqcwE/SuUGV7Ihig7CchGyCpPwe7tGIqnKZgUAxbBgmjE2 hL7eVqmTin0UMCcCf7Ej/eY9RRefa6xFgbXt5LFTYbI8A1nmUTyPgEbW7c3VNxkRpliW 0lp1Fg7Eg45LO6JywhyNm1L+1G8lKaS6+PHMIP7NOT/xqjS40ObEvgdj/Z+5wF49OE/J QMeynGvdOJ1Dr6ThOaeqXu6ZXLyEd0uNFLiGxyubewZyzSU5vQ3x3ObnealPRt9EuOEN x6pcfYWQENZTTe9fEitgZOUwRU2ZzLkXkL3TQoj6WNWzeA62esxKyY1ukbPXQShkONws GUyA== X-Gm-Message-State: AOJu0Yw+5sHOCb3/mMEXvAdz2yEzCTcQRAqSoC9mPXJuY88HQzlen6OB eQY5F1WjgS573q8f1489/MfhMWwZqF2mcMSa7XRaaE0OjAmVNQCPUbr2vJHy+QmGBpPK+YM0SMO 2RXAfv3QAcLJUgEZhM1UuPAJDu3968fZ0R5sJ/XZSPe8y X-Gm-Gg: ASbGnctZNrpz3XJqGSQu9sD0HYsjgaNtRviwSHRM2P2XEdC43PmlpcVI2CccuUg8oyl jnfsaKgZHg+8LwT3u6FChODn2tHoy3j2BO4RGEEpKWlJNMr9TKpRNsTZjNIDgdNW/qChbGejtBd ZoS3yuMP/x5SGXL3BVoQi4n1/HGj+2+i0fyJmmpe4YCoXBesb8r+ALZpX1vMW1oyzK48yf7JFpH 0jfJbO8rH/fKDsxMzZh7McCtKALjjNsLcljlryuwyEXHgG3sgx+20q0Ftl0i9JxaEiLSFTliTUh ZKgQyQRJ74tZ+9WInkTFTLgYDl04cNuWQ3kYfDbIVprYkGuCB9M1CfrMsVDcv9yHBjoVPviFAbp tp0Hs1ZGrlLXcpSiDJnLrLFmdZVcM06I= X-Google-Smtp-Source: AGHT+IGW8o/wqHM51icTOpNO8xUa1prrOaZgeMMt+GtVQLQ47GuThKwvcuu5QFiCDJP+3U54V5Z+zHEigsAQ X-Received: by 2002:a05:6a00:1793:b0:7a2:74e5:a4a4 with SMTP id d2e1a72fcca58-7b0bd5abeb4mr1037729b3a.19.1762459846536; Thu, 06 Nov 2025 12:10:46 -0800 (PST) Received: from postal.iol.unh.edu (postal.iol.unh.edu. [132.177.123.84]) by smtp-relay.gmail.com with ESMTPS id d2e1a72fcca58-7b0cbd647d0sm41947b3a.6.2025.11.06.12.10.46 (version=TLS1_2 cipher=ECDHE-ECDSA-AES128-GCM-SHA256 bits=128/128); Thu, 06 Nov 2025 12:10:46 -0800 (PST) X-Relaying-Domain: iol.unh.edu Date: Thu, 06 Nov 2025 12:10:46 -0800 (PST) Message-ID: <690d00c6.050a0220.a2ad7.24e2SMTPIN_ADDED_MISSING@mx.google.com> Received: from [172.21.0.2] (unknown [172.18.0.240]) by postal.iol.unh.edu (Postfix) with ESMTP id C52726050A61; Thu, 6 Nov 2025 15:10:45 -0500 (EST) Subject: |SUCCESS| pw158532 [PATCH] net/ice: adjust RSS LUT settings From: dpdklab@iol.unh.edu To: Test Report Cc: dpdk-test-reports@iol.unh.edu, Bruce Richardson In-Reply-To: <20251106171736.163516-1-vladimir.medvedkin@intel.com> References: <20251106171736.163516-1-vladimir.medvedkin@intel.com> Content-Type: text/plain X-BeenThere: test-report@dpdk.org X-Mailman-Version: 2.1.29 Precedence: list List-Id: automatic DPDK test reports List-Unsubscribe: , List-Archive: List-Post: List-Help: List-Subscribe: , Errors-To: test-report-bounces@dpdk.org Test-Label: iol-compile-amd64-testing Test-Status: SUCCESS http://dpdk.org/patch/158532 _Testing PASS_ Submitter: Vladimir Medvedkin Date: Thursday, November 06 2025 17:17:36 DPDK git baseline: Repo:dpdk-next-net-intel Branch: master CommitID:2a7bebfa5b488f8c49c9c63f2b7b7ce5cc088560 158532 --> testing pass Upstream job id: Windows-Compile-DPDK-Native#32179 Test environment and result as below: +-------------------------------+--------------------+------------------+-------------------+-------------------------+ | Environment | dpdk_meson_compile | dpdk_compile_ovs | dpdk_msvc_compile | dpdk_llvm_clang_compile | +===============================+====================+==================+===================+=========================+ | Ubuntu 20.04 | PASS | SKIPPED | SKIPPED | SKIPPED | +-------------------------------+--------------------+------------------+-------------------+-------------------------+ | FreeBSD 14.2 | PASS | SKIPPED | SKIPPED | SKIPPED | +-------------------------------+--------------------+------------------+-------------------+-------------------------+ | CentOS Stream 9 | PASS | SKIPPED | SKIPPED | SKIPPED | +-------------------------------+--------------------+------------------+-------------------+-------------------------+ | CentOS Stream 10 | PASS | SKIPPED | SKIPPED | SKIPPED | +-------------------------------+--------------------+------------------+-------------------+-------------------------+ | Debian GNU/Linux 12 | PASS | SKIPPED | SKIPPED | SKIPPED | +-------------------------------+--------------------+------------------+-------------------+-------------------------+ | Fedora Linux 42 | PASS | PASS | SKIPPED | SKIPPED | +-------------------------------+--------------------+------------------+-------------------+-------------------------+ | openSUSE Leap 15.6 | PASS | SKIPPED | SKIPPED | SKIPPED | +-------------------------------+--------------------+------------------+-------------------+-------------------------+ | Red Hat Enterprise Linux 8.10 | PASS | SKIPPED | SKIPPED | SKIPPED | +-------------------------------+--------------------+------------------+-------------------+-------------------------+ | Windows Server 2022 | SKIPPED | SKIPPED | PASS | PASS | +-------------------------------+--------------------+------------------+-------------------+-------------------------+ Ubuntu 20.04 Kernel: 4.19 Compiler: gcc gcc (Ubuntu 9.4.0-1ubuntu1~20.04.2) 9.4.0 FreeBSD 14.2 Kernel: 14.2-RELEASE Compiler: clang 18.1.6 CentOS Stream 9 Kernel: 5.15 Compiler: gcc gcc (GCC) 11.5.0 20240719 (Red Hat 11.5.0-11) CentOS Stream 10 Kernel: 5.15 Compiler: gcc gcc (GCC) 14.2.1 20250110 (Red Hat 14.2.1-8) Debian GNU/Linux 12 Kernel: 5.15 Compiler: gcc gcc (Debian 12.2.0-14+deb12u1) 12.2.0 Fedora Linux 42 Kernel: 5.15 Compiler: clang gcc (GCC) 15.2.1 20250808 (Red Hat 15.2.1-1) openSUSE Leap 15.6 Kernel: 5.15 Compiler: gcc gcc (SUSE Linux) 7.5.0 Red Hat Enterprise Linux 8.10 Kernel: 5.15 Compiler: gcc gcc (GCC) 8.5.0 20210514 (Red Hat 8.5.0-22) Windows Server 2022 Kernel: 10.0.20348.2031 Compiler: clang 15.0.7, gcc 14.1.0 (MinGW), and MSVC VS 19.39.33521 To view detailed results, visit: https://lab.dpdk.org/results/dashboard/patchsets/34491/ UNH-IOL DPDK Community Lab To manage your email subscriptions, visit: https://lab.dpdk.org/results/dashboard/preferences/subscriptions/