From mboxrd@z Thu Jan 1 00:00:00 1970 Return-Path: Received: from mails.dpdk.org (mails.dpdk.org [217.70.189.124]) by inbox.dpdk.org (Postfix) with ESMTP id E641848A86 for ; Thu, 6 Nov 2025 21:18:14 +0100 (CET) Received: from mails.dpdk.org (localhost [127.0.0.1]) by mails.dpdk.org (Postfix) with ESMTP id BDB834013F; Thu, 6 Nov 2025 21:18:14 +0100 (CET) Received: from mail-yw1-f225.google.com (mail-yw1-f225.google.com [209.85.128.225]) by mails.dpdk.org (Postfix) with ESMTP id C1CF64013F for ; Thu, 6 Nov 2025 21:18:13 +0100 (CET) Received: by mail-yw1-f225.google.com with SMTP id 00721157ae682-786635a8ce4so239077b3.2 for ; Thu, 06 Nov 2025 12:18:13 -0800 (PST) DKIM-Signature: v=1; a=rsa-sha256; c=relaxed/relaxed; d=iol.unh.edu; s=unh-iol; t=1762460293; x=1763065093; darn=dpdk.org; h=references:in-reply-to:cc:to:from:subject:message-id:date:from:to :cc:subject:date:message-id:reply-to; bh=diWFpNQxRzsA7oG8DANkmWh4FxYZYBRPAmDyAIVX2g8=; b=Gn0U8M+M5hpd/hMZruX8NacIHzwZB2A66RaGbp0UwlvdsHN68xIGNZr9gySii178ia 81u4D2uGVDA3AhKtd1MQM4GRcE2eHo2OW1r0Yp73pHYiSfVhdP1kO8efaIIS29bpo0hE ilDeF9QLqwN2FHComFLvDQacGb1EtvG3qLO+A= X-Google-DKIM-Signature: v=1; a=rsa-sha256; c=relaxed/relaxed; d=1e100.net; s=20230601; t=1762460293; x=1763065093; h=references:in-reply-to:cc:to:from:subject:message-id:date:x-gm-gg :x-gm-message-state:from:to:cc:subject:date:message-id:reply-to; bh=diWFpNQxRzsA7oG8DANkmWh4FxYZYBRPAmDyAIVX2g8=; b=RDWXk5sFBpDwb712dBP+sD5IcGKbsSBeSWhVpvWiN8CtW4CJszthTSfPzOUw8SYCCW QvRXptKoKC832RQ/knghxR4YnUaHNeAkpCRbq3X+TlQgFFcsYmNjIRMx9nYmdUrtbX/j 5RV9iQ/0NM4X/YCFYfHnTB1+kzdbWrsUDP3V/r7P85JTvwHpdNRvvaNTdDLsdhftAKIb BZKW4jsSFEy982Yskf8zf69VEZLaj4CBxa7AMKqfr/lf9VoRu9nQA8c63b0c2iTa3Qki pdMLS035yfQzWoO8CIcYHtFO6klRvVGo0PYcp5EOtglxcaxN3r/ZGo9AFUPmD6DBIe3s KSiQ== X-Gm-Message-State: AOJu0YwvqmzWFGxjsZQmZA8r6JmhuVpLtPBm7Jxuyt4fMKg31t+KaeOS 5j4BLMjR5d96O5VceCImfkGeXIdovQIZIOE1uKCZyPZS0oGSHGudUP+3IrflGi064M2mYWSddOD a30EwIX5UWNn2t69Vc4VQH94q154F8dcbNIQsdcyiuMEY X-Gm-Gg: ASbGncs+QGK0iCMWRvO/fgZJP58SDA0xS5h6ROXSZ6olHcF74ShhG2nZaqccehGK78n OWq6WRltszDTnRj046LOFkna+ZJns+eY7k89jh4HvUecYxQ1zYmlm16NXcy9z/HLTpSjSPVHVQi JA9i+o+MTi7XcheB8WqYklbZoEp2DYph486482YwuhjjjqjwG7UlfS9FcA2vjn2RrGuhUg4h+c3 Rl+ZovfUieUmk7hM7YZfFIo4D4wUtp2E0q5kxWyiD+I7XwxTXSuyNMfEyZ3UdRelQiCLJa4PkeJ ZRppMHQu3/fgfsgJDyHLuYObhLD/OFciJOazUKhxtKTAnWZUBARRSYJFC7KCUR1NzyLKvwrtdl3 zDzPZv5kYotdehXvkE7uRqJ+yMCbFcSU= X-Google-Smtp-Source: AGHT+IGG3oWsD5x0MuWVsl6TWT6G3/GcZiHnssFdhp6UsoYHWZfjXHnW4hsUC0eWmoIh140NZMw8XoCqLwFk X-Received: by 2002:a05:690c:f89:b0:787:c612:f0f6 with SMTP id 00721157ae682-787c61305eamr2029107b3.1.1762460292975; Thu, 06 Nov 2025 12:18:12 -0800 (PST) Received: from postal.iol.unh.edu (postal.iol.unh.edu. [132.177.123.84]) by smtp-relay.gmail.com with ESMTPS id 00721157ae682-787b1d3198bsm1769097b3.21.2025.11.06.12.18.12 (version=TLS1_2 cipher=ECDHE-ECDSA-AES128-GCM-SHA256 bits=128/128); Thu, 06 Nov 2025 12:18:12 -0800 (PST) X-Relaying-Domain: iol.unh.edu Date: Thu, 06 Nov 2025 12:18:12 -0800 (PST) Message-ID: <690d0284.050a0220.3861c2.91f6SMTPIN_ADDED_MISSING@mx.google.com> Received: from [172.21.0.2] (unknown [172.18.0.240]) by postal.iol.unh.edu (Postfix) with ESMTP id 946D0604D420; Thu, 6 Nov 2025 15:18:12 -0500 (EST) Subject: |SUCCESS| pw158533 [PATCH] [v3] dts: add test case docstring checks From: dpdklab@iol.unh.edu To: Test Report Cc: dpdk-test-reports@iol.unh.edu In-Reply-To: <20251106181355.209706-1-dmarx@iol.unh.edu> References: <20251106181355.209706-1-dmarx@iol.unh.edu> Content-Type: text/plain X-BeenThere: test-report@dpdk.org X-Mailman-Version: 2.1.29 Precedence: list List-Id: automatic DPDK test reports List-Unsubscribe: , List-Archive: List-Post: List-Help: List-Subscribe: , Errors-To: test-report-bounces@dpdk.org Test-Label: iol-unit-amd64-testing Test-Status: SUCCESS http://dpdk.org/patch/158533 _Testing PASS_ Submitter: Dean Marx Date: Thursday, November 06 2025 18:13:55 DPDK git baseline: Repo:dpdk-next-dts Branch: master CommitID:4f35a61a6a5a31f822c3d7519e8a1de1b7cbd9c4 158533 --> testing pass Upstream job id: Generic-VM-Unit-Test-DPDK#32355 Test environment and result as below: +-------------------------------+----------------+ | Environment | dpdk_unit_test | +===============================+================+ | Red Hat Enterprise Linux 9.5 | PASS | +-------------------------------+----------------+ | Fedora Linux 41 | PASS | +-------------------------------+----------------+ | Fedora Linux 42 | PASS | +-------------------------------+----------------+ | Debian GNU/Linux 12 | PASS | +-------------------------------+----------------+ | Ubuntu 20.04 | PASS | +-------------------------------+----------------+ | Ubuntu 22.04 | PASS | +-------------------------------+----------------+ | CentOS Stream 10 | PASS | +-------------------------------+----------------+ | CentOS Stream 9 | PASS | +-------------------------------+----------------+ | Ubuntu 24.04 | PASS | +-------------------------------+----------------+ | Fedora Linux 40 | PASS | +-------------------------------+----------------+ | Red Hat Enterprise Linux 8.10 | PASS | +-------------------------------+----------------+ | Windows Server 2022 | PASS | +-------------------------------+----------------+ Red Hat Enterprise Linux 9.5 Kernel: 5.15 Compiler: gcc gcc (GCC) 11.5.0 20240719 (Red Hat 11.5.0-2) Fedora Linux 41 Kernel: 5.15 Compiler: gcc gcc (GCC) 14.3.1 20250523 (Red Hat 14.3.1-1) Fedora Linux 42 Kernel: 5.15 Compiler: gcc gcc (GCC) 15.2.1 20250808 (Red Hat 15.2.1-1) Debian GNU/Linux 12 Kernel: 5.15 Compiler: gcc gcc (Debian 12.2.0-14+deb12u1) 12.2.0 Ubuntu 20.04 Kernel: 5.15 Compiler: gcc gcc (Ubuntu 9.4.0-1ubuntu1~20.04.2) 9.4.0 Ubuntu 22.04 Kernel: 5.15 Compiler: gcc gcc (Ubuntu 11.4.0-1ubuntu1~22.04) 11.4.0 CentOS Stream 10 Kernel: 5.15 Compiler: gcc gcc (GCC) 14.2.1 20250110 (Red Hat 14.2.1-8) CentOS Stream 9 Kernel: 5.15 Compiler: gcc gcc (GCC) 11.5.0 20240719 (Red Hat 11.5.0-11) Ubuntu 24.04 Kernel: 5.15 Compiler: gcc gcc (Ubuntu 13.3.0-6ubuntu2~24.04) 13.3.0 Fedora Linux 40 Kernel: 5.15 Compiler: gcc gcc (GCC) 14.2.1 20240912 (Red Hat 14.2.1-3) Red Hat Enterprise Linux 8.10 Kernel: 5.15 Compiler: gcc gcc (GCC) 8.5.0 20210514 (Red Hat 8.5.0-22) Windows Server 2022 Kernel: 10.0.20348.2031 Compiler: clang 15.0.7, gcc 14.1.0 (MinGW), and MSVC VS 19.39.33521 To view detailed results, visit: https://lab.dpdk.org/results/dashboard/patchsets/34492/ UNH-IOL DPDK Community Lab To manage your email subscriptions, visit: https://lab.dpdk.org/results/dashboard/preferences/subscriptions/