From mboxrd@z Thu Jan 1 00:00:00 1970 Return-Path: Received: from mails.dpdk.org (mails.dpdk.org [217.70.189.124]) by inbox.dpdk.org (Postfix) with ESMTP id F0A7548A86 for ; Thu, 6 Nov 2025 21:19:53 +0100 (CET) Received: from mails.dpdk.org (localhost [127.0.0.1]) by mails.dpdk.org (Postfix) with ESMTP id EAA4F4013F; Thu, 6 Nov 2025 21:19:53 +0100 (CET) Received: from mail-qv1-f99.google.com (mail-qv1-f99.google.com [209.85.219.99]) by mails.dpdk.org (Postfix) with ESMTP id A5BAD4013F for ; Thu, 6 Nov 2025 21:19:52 +0100 (CET) Received: by mail-qv1-f99.google.com with SMTP id 6a1803df08f44-8804f1bd6a7so364176d6.2 for ; Thu, 06 Nov 2025 12:19:52 -0800 (PST) DKIM-Signature: v=1; a=rsa-sha256; c=relaxed/relaxed; d=iol.unh.edu; s=unh-iol; t=1762460392; x=1763065192; darn=dpdk.org; h=references:in-reply-to:cc:to:from:subject:message-id:date:from:to :cc:subject:date:message-id:reply-to; bh=3EN3zFnbl8hvio6Qw0UEFf0W8sc3qJcGgOGrj7mnmDQ=; b=cFZpf+bRvGQ9mRYvGTQAcvHWcL89iGpkLX2IwgYDPw2oI1S3hjk3RpZR1KmlXfaw1j Hzv2oiJ6OevOnHiMTaWX2Q1eiwF9sCm8GAunZ98m+3uoKTsrT42S28tKY3PA/+cmMP8T dETsj9p4B+sG282rPYoVTyFzPcCdn/ubYhinE= X-Google-DKIM-Signature: v=1; a=rsa-sha256; c=relaxed/relaxed; d=1e100.net; s=20230601; t=1762460392; x=1763065192; h=references:in-reply-to:cc:to:from:subject:message-id:date:x-gm-gg :x-gm-message-state:from:to:cc:subject:date:message-id:reply-to; bh=3EN3zFnbl8hvio6Qw0UEFf0W8sc3qJcGgOGrj7mnmDQ=; b=ZNLM3Ilq+UvbKPDxsYatzT185c2ApiHSyNyOgLyj4QcsPEO36QGxvdppkdU2JibO3g QSJSf5swQI6mxKkBWbsuWFpnsNmJD8W02Vr8MHS9A2Q12IrB4fNF6oNBbHaIn6g1h2WH XiLTNFgPIA+PNY4duWPxiT4l3ZEs9I1nPf5SUi71E5++5Y+eKsl4++QiPZZyCtpMQPDl YdPV/Cms0mPr8wlcN5HQ4a4YUEpDnUk/siPNoouj8cO8uubFkLXPxxsmEKP6yLxj+ipH SMRMn55oXLymZXdzztybc4I9Nq8h0luqp9Z2L5qEsOMyFD5CdiygY9tZAezNQtEFKeM/ 1IJw== X-Gm-Message-State: AOJu0YwPcuxLd5N30O1cYO9ehvafo1tGFQNM6pB2i5NqyrBK5Y0VA0uG DUGdhGwVeexzWB/QokdaniW+fKC1RvYpvsGqQedUJT27FTMvhJrc0sHYi0WhdR5jXrKREqWKLte QOhfzsv6IRd1KJ/oBok9lkdUqLmqdnIiwY+KPfwX9sQdWAc0Op+p4Zm/OK6Sy X-Gm-Gg: ASbGncsv3b0d/vYdHe+w3KQDaK0poFuENES4rWrqp3oCAz/E3HWg6qHMRo4Osg1ylog Mk5Dg22q97pfC91h3Gjxfy/ltyxgiU4z3TTFeY6W/cEENCpjb39WPiJkjUsNsEkvMXr5mjwQ3Hc qqLhEffPiT698lVxVbpT8DewSbvpc/crGO9HEWCkYFPfHnqySImhXg9fMY4uAGCGQyyk/ww1M/Z NFs7XInkYNOPET/SWsgrijCf8t9DeZVMkZCkoU7ppw+iBM6PoWPyBEk2bCUzj4L4tumeDJ4Xbpp nGMwcs9/3eDdytCWFC34bDvVk4OXnekEleNNMiSJtUVryAWANBzdJkn1+/eu6Nj4o00Vi9KCgMg 9fNsF+liB X-Google-Smtp-Source: AGHT+IHODcw84oV6szQ30S+f3uPIU9IP+tDr4f1DO9CnBdGsirAY6pc/24GOYBixDNzuMfLh4ksQS/cqDJj9 X-Received: by 2002:a05:6214:240a:b0:814:2a4e:efbb with SMTP id 6a1803df08f44-88176798e77mr10377426d6.53.1762460392010; Thu, 06 Nov 2025 12:19:52 -0800 (PST) Received: from postal.iol.unh.edu (postal.iol.unh.edu. [2606:4100:3880:1234::84]) by smtp-relay.gmail.com with ESMTPS id 6a1803df08f44-880828b9d45sm3227116d6.6.2025.11.06.12.19.51 (version=TLS1_2 cipher=ECDHE-ECDSA-AES128-GCM-SHA256 bits=128/128); Thu, 06 Nov 2025 12:19:52 -0800 (PST) X-Relaying-Domain: iol.unh.edu Date: Thu, 06 Nov 2025 12:19:52 -0800 (PST) Message-ID: <690d02e8.050a0220.ca8b7.0db0SMTPIN_ADDED_MISSING@mx.google.com> Received: from [172.21.0.2] (unknown [172.18.0.240]) by postal.iol.unh.edu (Postfix) with ESMTP id AF66E604D420; Thu, 6 Nov 2025 15:19:51 -0500 (EST) Subject: |SUCCESS| pw158532 [PATCH] net/ice: adjust RSS LUT settings From: dpdklab@iol.unh.edu To: Test Report Cc: dpdk-test-reports@iol.unh.edu, Bruce Richardson In-Reply-To: <20251106171736.163516-1-vladimir.medvedkin@intel.com> References: <20251106171736.163516-1-vladimir.medvedkin@intel.com> Content-Type: text/plain X-BeenThere: test-report@dpdk.org X-Mailman-Version: 2.1.29 Precedence: list List-Id: automatic DPDK test reports List-Unsubscribe: , List-Archive: List-Post: List-Help: List-Subscribe: , Errors-To: test-report-bounces@dpdk.org Test-Label: iol-compile-amd64-testing Test-Status: SUCCESS http://dpdk.org/patch/158532 _Testing PASS_ Submitter: Vladimir Medvedkin Date: Thursday, November 06 2025 17:17:36 DPDK git baseline: Repo:dpdk-next-net-intel Branch: master CommitID:2a7bebfa5b488f8c49c9c63f2b7b7ce5cc088560 158532 --> testing pass Upstream job id: Windows-Compile-DPDK-Native#32180 Test environment and result as below: +-------------------------------+--------------------+------------------+-------------------+-------------------------+----------------------+ | Environment | dpdk_meson_compile | dpdk_compile_ovs | dpdk_msvc_compile | dpdk_llvm_clang_compile | dpdk_mingw64_compile | +===============================+====================+==================+===================+=========================+======================+ | Ubuntu 20.04 | PASS | SKIPPED | SKIPPED | SKIPPED | SKIPPED | +-------------------------------+--------------------+------------------+-------------------+-------------------------+----------------------+ | FreeBSD 14.2 | PASS | SKIPPED | SKIPPED | SKIPPED | SKIPPED | +-------------------------------+--------------------+------------------+-------------------+-------------------------+----------------------+ | CentOS Stream 9 | PASS | SKIPPED | SKIPPED | SKIPPED | SKIPPED | +-------------------------------+--------------------+------------------+-------------------+-------------------------+----------------------+ | CentOS Stream 10 | PASS | SKIPPED | SKIPPED | SKIPPED | SKIPPED | +-------------------------------+--------------------+------------------+-------------------+-------------------------+----------------------+ | Debian GNU/Linux 12 | PASS | SKIPPED | SKIPPED | SKIPPED | SKIPPED | +-------------------------------+--------------------+------------------+-------------------+-------------------------+----------------------+ | Fedora Linux 42 | PASS | PASS | SKIPPED | SKIPPED | SKIPPED | +-------------------------------+--------------------+------------------+-------------------+-------------------------+----------------------+ | openSUSE Leap 15.6 | PASS | SKIPPED | SKIPPED | SKIPPED | SKIPPED | +-------------------------------+--------------------+------------------+-------------------+-------------------------+----------------------+ | Red Hat Enterprise Linux 8.10 | PASS | SKIPPED | SKIPPED | SKIPPED | SKIPPED | +-------------------------------+--------------------+------------------+-------------------+-------------------------+----------------------+ | Windows Server 2022 | SKIPPED | SKIPPED | PASS | PASS | PASS | +-------------------------------+--------------------+------------------+-------------------+-------------------------+----------------------+ Ubuntu 20.04 Kernel: 4.19 Compiler: gcc gcc (Ubuntu 9.4.0-1ubuntu1~20.04.2) 9.4.0 FreeBSD 14.2 Kernel: 14.2-RELEASE Compiler: clang 18.1.6 CentOS Stream 9 Kernel: 5.15 Compiler: gcc gcc (GCC) 11.5.0 20240719 (Red Hat 11.5.0-11) CentOS Stream 10 Kernel: 5.15 Compiler: gcc gcc (GCC) 14.2.1 20250110 (Red Hat 14.2.1-8) Debian GNU/Linux 12 Kernel: 5.15 Compiler: gcc gcc (Debian 12.2.0-14+deb12u1) 12.2.0 Fedora Linux 42 Kernel: 5.15 Compiler: clang gcc (GCC) 15.2.1 20250808 (Red Hat 15.2.1-1) openSUSE Leap 15.6 Kernel: 5.15 Compiler: gcc gcc (SUSE Linux) 7.5.0 Red Hat Enterprise Linux 8.10 Kernel: 5.15 Compiler: gcc gcc (GCC) 8.5.0 20210514 (Red Hat 8.5.0-22) Windows Server 2022 Kernel: 10.0.20348.2031 Compiler: clang 15.0.7, gcc 14.1.0 (MinGW), and MSVC VS 19.39.33521 To view detailed results, visit: https://lab.dpdk.org/results/dashboard/patchsets/34491/ UNH-IOL DPDK Community Lab To manage your email subscriptions, visit: https://lab.dpdk.org/results/dashboard/preferences/subscriptions/