From mboxrd@z Thu Jan 1 00:00:00 1970 Return-Path: Received: from mails.dpdk.org (mails.dpdk.org [217.70.189.124]) by inbox.dpdk.org (Postfix) with ESMTP id 0476F48A86 for ; Thu, 6 Nov 2025 21:23:24 +0100 (CET) Received: from mails.dpdk.org (localhost [127.0.0.1]) by mails.dpdk.org (Postfix) with ESMTP id F32C04013F; Thu, 6 Nov 2025 21:23:23 +0100 (CET) Received: from mail-pl1-f227.google.com (mail-pl1-f227.google.com [209.85.214.227]) by mails.dpdk.org (Postfix) with ESMTP id 388F74013F for ; Thu, 6 Nov 2025 21:23:23 +0100 (CET) Received: by mail-pl1-f227.google.com with SMTP id d9443c01a7336-294df925292so341445ad.1 for ; Thu, 06 Nov 2025 12:23:23 -0800 (PST) DKIM-Signature: v=1; a=rsa-sha256; c=relaxed/relaxed; d=iol.unh.edu; s=unh-iol; t=1762460602; x=1763065402; darn=dpdk.org; h=references:in-reply-to:cc:to:from:subject:message-id:date:from:to :cc:subject:date:message-id:reply-to; bh=t7XGoFbdlTOMi6Eqk8BjSsxO7YvcsW1JSi05tFCsj50=; b=Nj5QRl9+HJKc+iyXi7STM9iXSjvJaC/6pi0D9PEJyc663Vi911kYkv8ulciekR9Lwa hLmlChZ0TBmP3e4su+/ZQamUazsueiya/bpu5cF8aL2ZClAfRO4Bd4fO/UHjawirEhjY +yjNIrw6HWWJUgO/nFnFpFqXqPQXJFTVjTKcg= X-Google-DKIM-Signature: v=1; a=rsa-sha256; c=relaxed/relaxed; d=1e100.net; s=20230601; t=1762460602; x=1763065402; h=references:in-reply-to:cc:to:from:subject:message-id:date:x-gm-gg :x-gm-message-state:from:to:cc:subject:date:message-id:reply-to; bh=t7XGoFbdlTOMi6Eqk8BjSsxO7YvcsW1JSi05tFCsj50=; b=BM0s6ukwvq97it7ZGZEcwKf6Jcl4d9QdUqbJOoJaK3MkJ5jDyiu1ypYrarav62UWiG 4RrcY6rBu+rsCFRmER+6QujZXdEyZ6comx3CsKEMxjC/BfIyfWH7i3zpJENHHbTNIATm bRtT2AxjP07iRDekZJwfDVOWesEEJHY+23Yo8lqKpFKITcAAfIgd9vR5sfRtF3mDyQ4M GYdIYwE/3+1IWWCiH4BYbhwU4fr70+eKTUFj6N9WRAkTUBBkuUBPw0FLNTekHqzoHCC5 dRRQB9I7ZIg1AcboIjhhUNEAPdXzdaECNKPyRnhjw3MQyuLHG4X6udu6p8mijivJV1mO ckvQ== X-Gm-Message-State: AOJu0YxZ4O87c4tbByh0w3B8DW1mKtH23egyGH4Y3TzfFskaaTvcvMFw TILgCB1EjEDfRvUsbhlyFarNNqgSqk/aFzFyxxeM6aabwV4NKYDy9dJuw2fyXmbYfSp1uwLCI6f HeuF89PDwd0yvTYtDeTx1kww6W1baNHhZQo+5eIBaPeOa X-Gm-Gg: ASbGncsCk8HuD5D5g5rUloQFRAznkSAYsH1gXD7VVsSCd8X7479vLo/4/kvSfTLJY1w ztnClRIvhhw/1laP8UPeKUYybSIdZqZmdwhCYOqlF/i6ybHo6dCsyHHSK6ImzsRyioXtTiMUsNV jg+QF1aeBaE4/eDkfJNqbhPkm3UqB7XhSAb6D9NnOEGuHlr5k4SNiet/GPFX+9xMdgchM1nG7hH mMT80sYWvWcnjQ9iSpgCs9tHBQ/8/UMQlRbAsclqdRy4+wfu7yQzPNnp+T3/61eMWIN++Sfjttf rgJe+cQOxA8x6uX8AW1GVgJBGBeoJ+orgvSLRT5XVQTgLn7gDqLJ/x3YD2YPg0jZoeMXI5rOJNy h7d0rIKnSEZxGSD6MLvCbJHavOD0BQsg= X-Google-Smtp-Source: AGHT+IF19oGcNdSJfJSiIcSZMr3771bv5PyNZnq2I7M0LotH3ywohwNqGyRsWytle5qGLDA7gb1dHRkeio0o X-Received: by 2002:a17:903:4407:b0:297:c272:80e1 with SMTP id d9443c01a7336-297c27283c2mr3243865ad.43.1762460602342; Thu, 06 Nov 2025 12:23:22 -0800 (PST) Received: from postal.iol.unh.edu (postal.iol.unh.edu. [132.177.123.84]) by smtp-relay.gmail.com with ESMTPS id d9443c01a7336-29651cc128fsm2935885ad.64.2025.11.06.12.23.22 (version=TLS1_2 cipher=ECDHE-ECDSA-AES128-GCM-SHA256 bits=128/128); Thu, 06 Nov 2025 12:23:22 -0800 (PST) X-Relaying-Domain: iol.unh.edu Date: Thu, 06 Nov 2025 12:23:22 -0800 (PST) Message-ID: <690d03ba.170a0220.3837f5.f4b9SMTPIN_ADDED_MISSING@mx.google.com> Received: from [172.21.0.2] (unknown [172.18.0.240]) by postal.iol.unh.edu (Postfix) with ESMTP id 77A45604D420; Thu, 6 Nov 2025 15:23:21 -0500 (EST) Subject: |SUCCESS| pw158533 [PATCH] [v3] dts: add test case docstring checks From: dpdklab@iol.unh.edu To: Test Report Cc: dpdk-test-reports@iol.unh.edu In-Reply-To: <20251106181355.209706-1-dmarx@iol.unh.edu> References: <20251106181355.209706-1-dmarx@iol.unh.edu> Content-Type: text/plain X-BeenThere: test-report@dpdk.org X-Mailman-Version: 2.1.29 Precedence: list List-Id: automatic DPDK test reports List-Unsubscribe: , List-Archive: List-Post: List-Help: List-Subscribe: , Errors-To: test-report-bounces@dpdk.org Test-Label: iol-unit-amd64-testing Test-Status: SUCCESS http://dpdk.org/patch/158533 _Testing PASS_ Submitter: Dean Marx Date: Thursday, November 06 2025 18:13:55 DPDK git baseline: Repo:dpdk-next-dts Branch: master CommitID:4f35a61a6a5a31f822c3d7519e8a1de1b7cbd9c4 158533 --> testing pass Upstream job id: Generic-VM-Unit-Test-DPDK#32356 Test environment and result as below: +-------------------------------+----------------+ | Environment | dpdk_unit_test | +===============================+================+ | Red Hat Enterprise Linux 9.5 | PASS | +-------------------------------+----------------+ | Fedora Linux 41 | PASS | +-------------------------------+----------------+ | Fedora Linux 42 | PASS | +-------------------------------+----------------+ | Debian GNU/Linux 12 | PASS | +-------------------------------+----------------+ | Ubuntu 20.04 | PASS | +-------------------------------+----------------+ | Ubuntu 22.04 | PASS | +-------------------------------+----------------+ | CentOS Stream 10 | PASS | +-------------------------------+----------------+ | CentOS Stream 9 | PASS | +-------------------------------+----------------+ | Ubuntu 24.04 | PASS | +-------------------------------+----------------+ | Fedora Linux 40 | PASS | +-------------------------------+----------------+ | Red Hat Enterprise Linux 8.10 | PASS | +-------------------------------+----------------+ | Windows Server 2022 | PASS | +-------------------------------+----------------+ Red Hat Enterprise Linux 9.5 Kernel: 5.15 Compiler: gcc gcc (GCC) 11.5.0 20240719 (Red Hat 11.5.0-2) Fedora Linux 41 Kernel: 5.15 Compiler: gcc gcc (GCC) 14.3.1 20250523 (Red Hat 14.3.1-1) Fedora Linux 42 Kernel: 5.15 Compiler: gcc gcc (GCC) 15.2.1 20250808 (Red Hat 15.2.1-1) Debian GNU/Linux 12 Kernel: 5.15 Compiler: gcc gcc (Debian 12.2.0-14+deb12u1) 12.2.0 Ubuntu 20.04 Kernel: 5.15 Compiler: gcc gcc (Ubuntu 9.4.0-1ubuntu1~20.04.2) 9.4.0 Ubuntu 22.04 Kernel: 5.15 Compiler: gcc gcc (Ubuntu 11.4.0-1ubuntu1~22.04) 11.4.0 CentOS Stream 10 Kernel: 5.15 Compiler: gcc gcc (GCC) 14.2.1 20250110 (Red Hat 14.2.1-8) CentOS Stream 9 Kernel: 5.15 Compiler: gcc gcc (GCC) 11.5.0 20240719 (Red Hat 11.5.0-11) Ubuntu 24.04 Kernel: 5.15 Compiler: gcc gcc (Ubuntu 13.3.0-6ubuntu2~24.04) 13.3.0 Fedora Linux 40 Kernel: 5.15 Compiler: gcc gcc (GCC) 14.2.1 20240912 (Red Hat 14.2.1-3) Red Hat Enterprise Linux 8.10 Kernel: 5.15 Compiler: gcc gcc (GCC) 8.5.0 20210514 (Red Hat 8.5.0-22) Windows Server 2022 Kernel: 10.0.20348.2031 Compiler: clang 15.0.7, gcc 14.1.0 (MinGW), and MSVC VS 19.39.33521 To view detailed results, visit: https://lab.dpdk.org/results/dashboard/patchsets/34492/ UNH-IOL DPDK Community Lab To manage your email subscriptions, visit: https://lab.dpdk.org/results/dashboard/preferences/subscriptions/