From mboxrd@z Thu Jan 1 00:00:00 1970 Return-Path: Received: from mails.dpdk.org (mails.dpdk.org [217.70.189.124]) by inbox.dpdk.org (Postfix) with ESMTP id 1ADF048A86 for ; Thu, 6 Nov 2025 21:23:47 +0100 (CET) Received: from mails.dpdk.org (localhost [127.0.0.1]) by mails.dpdk.org (Postfix) with ESMTP id 128594013F; Thu, 6 Nov 2025 21:23:47 +0100 (CET) Received: from mail-pf1-f225.google.com (mail-pf1-f225.google.com [209.85.210.225]) by mails.dpdk.org (Postfix) with ESMTP id 007EE4013F for ; Thu, 6 Nov 2025 21:23:45 +0100 (CET) Received: by mail-pf1-f225.google.com with SMTP id d2e1a72fcca58-7b0c3451272so86486b3a.0 for ; Thu, 06 Nov 2025 12:23:45 -0800 (PST) DKIM-Signature: v=1; a=rsa-sha256; c=relaxed/relaxed; d=iol.unh.edu; s=unh-iol; t=1762460625; x=1763065425; darn=dpdk.org; h=references:in-reply-to:cc:to:from:subject:message-id:date:from:to :cc:subject:date:message-id:reply-to; bh=sLBXpHgRgr1HVI58Xyl4vYx4Vq8CQw/Pwvj0XFkB7h4=; b=ZonZ9AAY0dS23ATnR4pmRCVpQ5wqkUyxx7PR0b3h6e7YlSJ5lRH1zDfE0560eYjfHa aU6VaTt5lf0DU9ru6jMWyVdhYxYhzTfbGrXdLyk03DDi3ZEaD3xXGiAu+Gy0HZPoUWfn o8I9GXce9/yscW3m5sYBlgmSsw8pEps7ri8Ac= X-Google-DKIM-Signature: v=1; a=rsa-sha256; c=relaxed/relaxed; d=1e100.net; s=20230601; t=1762460625; x=1763065425; h=references:in-reply-to:cc:to:from:subject:message-id:date:x-gm-gg :x-gm-message-state:from:to:cc:subject:date:message-id:reply-to; bh=sLBXpHgRgr1HVI58Xyl4vYx4Vq8CQw/Pwvj0XFkB7h4=; b=ODO/nsOw7MX6uhXrEZnyusJEbDyntw+QkVJb3rBYy9XSArKbyCWvRmupSw2l48RHKR JZZ1l00rQ3ymV2jmYg+LjAONOy4KP905cFTXqGc7DAxRZQOgVcilj/GZj4GXN3eSanoL J4nHHID1757njZ45iRKSGFSX+c8K7+6FIGRmArDU7wJlyqwoanw5BYWpUL+I2nrEsJAE 0nQmBda5boX2VJR61zB8SgWrknSMmZo2/PWJUGz9U2u322joYgvDvCyNt0DG0+OLn8EI kmyXxPkRehaykvIlJiEJKrBOCqsR4ArU+HewzKjYG0lskT5FZz/Ae2ttYO/ZZLfm8GHu OlMg== X-Gm-Message-State: AOJu0Yyul/BWqMxhDNcFAiaqaYxcV1cdDVczOTK1sgJ+zK+J8BFScE7r JUriFFJuUnJjMJQejccfEy/3o6eAUEU15KWx6LAB3YEZVKlrghSsdOHpkb3Be3WCH62BTv2DG1D wlXd7TGgYVB0Je4ObsF3XplHwbwsIUJjTn67Jw9AmDtgj X-Gm-Gg: ASbGncurr9uwqH4Bnw3x5hV6j3niCq2iKPsAcbuKDmF41xZDgy/fF1/uNOE+PU8GNbz JQuH4wSixtzvsiZMGOnjxvozYGsY6mdSBL1DulWHO/P3q723Ahuiml/OJtcE1h/CXZ/f1itoIZw Aiz7WUeGFicv8j2Yjvn/z4OAsoXt08o8N7tfzvvA3D6Oyix+cHR40V15Kf3ALQrTmuMMr1Olbf4 +5tD6kWRT39cnGqpCXnJq5gUx4szDuw+S2vkeBe3AQ3+E2oslhHEX/+DRiXRcIyzcV980EqfBPf D4/pJSzWq1oRE6OpJGq/MP9N+GwD9zQ8JFPo/t+q+zj2NiN9C0/n2OQYdjC7W3idutirX6dXBvX sQVcstV34TlwSmG4pMdLPBqqJ8P4jGDM= X-Google-Smtp-Source: AGHT+IGNbEjIK9SMaSBv6rgzXEhjT0JQ2CDynEEDPCsKlGTdvu8/hNF1da859JuQ2VS5yj0+EMdVlvy6MNxR X-Received: by 2002:a17:902:d551:b0:294:f6e2:cea5 with SMTP id d9443c01a7336-297c0442eb0mr9896565ad.28.1762460625224; Thu, 06 Nov 2025 12:23:45 -0800 (PST) Received: from postal.iol.unh.edu (postal.iol.unh.edu. [132.177.123.84]) by smtp-relay.gmail.com with ESMTPS id d9443c01a7336-29651c6a5d6sm3042895ad.37.2025.11.06.12.23.45 (version=TLS1_2 cipher=ECDHE-ECDSA-AES128-GCM-SHA256 bits=128/128); Thu, 06 Nov 2025 12:23:45 -0800 (PST) X-Relaying-Domain: iol.unh.edu Date: Thu, 06 Nov 2025 12:23:45 -0800 (PST) Message-ID: <690d03d1.170a0220.323372.045eSMTPIN_ADDED_MISSING@mx.google.com> Received: from [172.21.0.2] (unknown [172.18.0.240]) by postal.iol.unh.edu (Postfix) with ESMTP id 7D496604D420; Thu, 6 Nov 2025 15:23:44 -0500 (EST) Subject: |SUCCESS| pw158533 [PATCH] [v3] dts: add test case docstring checks From: dpdklab@iol.unh.edu To: Test Report Cc: dpdk-test-reports@iol.unh.edu In-Reply-To: <20251106181355.209706-1-dmarx@iol.unh.edu> References: <20251106181355.209706-1-dmarx@iol.unh.edu> Content-Type: text/plain X-BeenThere: test-report@dpdk.org X-Mailman-Version: 2.1.29 Precedence: list List-Id: automatic DPDK test reports List-Unsubscribe: , List-Archive: List-Post: List-Help: List-Subscribe: , Errors-To: test-report-bounces@dpdk.org Test-Label: iol-compile-amd64-testing Test-Status: SUCCESS http://dpdk.org/patch/158533 _Testing PASS_ Submitter: Dean Marx Date: Thursday, November 06 2025 18:13:55 DPDK git baseline: Repo:dpdk-next-dts Branch: master CommitID:4f35a61a6a5a31f822c3d7519e8a1de1b7cbd9c4 158533 --> testing pass Upstream job id: Windows-Compile-DPDK-Native#32181 Test environment and result as below: +---------------------+--------------------+-------------------+-------------------------+ | Environment | dpdk_meson_compile | dpdk_msvc_compile | dpdk_llvm_clang_compile | +=====================+====================+===================+=========================+ | Ubuntu 20.04 | PASS | SKIPPED | SKIPPED | +---------------------+--------------------+-------------------+-------------------------+ | FreeBSD 14.2 | PASS | SKIPPED | SKIPPED | +---------------------+--------------------+-------------------+-------------------------+ | Windows Server 2022 | SKIPPED | PASS | PASS | +---------------------+--------------------+-------------------+-------------------------+ Ubuntu 20.04 Kernel: 4.19 Compiler: gcc gcc (Ubuntu 9.4.0-1ubuntu1~20.04.2) 9.4.0 FreeBSD 14.2 Kernel: 14.2-RELEASE Compiler: clang 18.1.6 Windows Server 2022 Kernel: 10.0.20348.2031 Compiler: clang 15.0.7, gcc 14.1.0 (MinGW), and MSVC VS 19.39.33521 To view detailed results, visit: https://lab.dpdk.org/results/dashboard/patchsets/34492/ UNH-IOL DPDK Community Lab To manage your email subscriptions, visit: https://lab.dpdk.org/results/dashboard/preferences/subscriptions/