From mboxrd@z Thu Jan 1 00:00:00 1970 Return-Path: Received: from mails.dpdk.org (mails.dpdk.org [217.70.189.124]) by inbox.dpdk.org (Postfix) with ESMTP id 3B1EE48A86 for ; Thu, 6 Nov 2025 21:25:05 +0100 (CET) Received: from mails.dpdk.org (localhost [127.0.0.1]) by mails.dpdk.org (Postfix) with ESMTP id 337EA4013F; Thu, 6 Nov 2025 21:25:05 +0100 (CET) Received: from mail-pl1-f225.google.com (mail-pl1-f225.google.com [209.85.214.225]) by mails.dpdk.org (Postfix) with ESMTP id 48B534013F for ; Thu, 6 Nov 2025 21:25:04 +0100 (CET) Received: by mail-pl1-f225.google.com with SMTP id d9443c01a7336-294fe7c2e69so447955ad.0 for ; Thu, 06 Nov 2025 12:25:04 -0800 (PST) DKIM-Signature: v=1; a=rsa-sha256; c=relaxed/relaxed; d=iol.unh.edu; s=unh-iol; t=1762460703; x=1763065503; darn=dpdk.org; h=references:in-reply-to:cc:to:from:subject:message-id:date:from:to :cc:subject:date:message-id:reply-to; bh=hfm07dzAg1BT/bQTRtQDWiUpDUf66+zpCb2K9aclUw4=; b=Y3qb2C6f8dw6rZewxPTRnxaof5B4s+c9SaoCQGUawS7NxPE98CNWFOqmPmFJI4o/+/ V9GM4Y9+ZduFB5p5IgMGpxp+U1qwH/IDPnsH2dADu/yMoM+9iC2kUOJrTab+Y3c5bTnx 7WFOEDFIjfHhjLH6T74IU7DAnh02DvitZuzgg= X-Google-DKIM-Signature: v=1; a=rsa-sha256; c=relaxed/relaxed; d=1e100.net; s=20230601; t=1762460703; x=1763065503; h=references:in-reply-to:cc:to:from:subject:message-id:date:x-gm-gg :x-gm-message-state:from:to:cc:subject:date:message-id:reply-to; bh=hfm07dzAg1BT/bQTRtQDWiUpDUf66+zpCb2K9aclUw4=; b=BcV33XWVrqqf6Y2AF1avC/e0vWMfM6qGSxlCg9XN/iHR6+7KDWOe70/4ISZg+lV+Yo UJ9Ol3ZJsab0iZMJgJbRgDnJI3T02/1CnMcX6vOEOiGOal37ncvmL7WhWG9WuBGSsMfx h5mGB3+cSaQ9rQFP6U2PVoi/a8lZ+PT2k9se5iPnrPIk+EfVka1s9xUW5JL/vzFRKh5s MexZ53eLziVCL+kIAqbDaiqCStUj59udRhqZcr7Ajv1Z45YnZ0DIuMHzk1iR1F2hRAKD 6Fsn3X2YAVVe+iKjQeeSY0ueTu70gxbVxcj9u5mlQpmzCTzBasX4LrnjqccAXy6L48wN 07fA== X-Gm-Message-State: AOJu0YzQ8isaZM86kTenA523oTTlFZ6vHt6Ax7Yb22znOQEo2U+7/b5h MUHOkvtw/CqrL/PM73gPCTZpOziOwrOUtWEXI9bwsX8CUpZZyJTfK9oONnlyR4zQ/S7V/6C/S0z PPW+XFq8vK9CfTCgrd2lxdRkIliuAK+RDgayxB+ZL4HBbui1Q+S1iP3zUTlMx X-Gm-Gg: ASbGncuTftBpzwaKaTaYqLMUT3+qfQcHfx8uOmLyk/TvxN2XG+jWiM4/nq/8k2zT+cZ eRSsOrCHGjWv9rmzm/jOxjLomX1nKW+puszW03EVParVADbwl91NMx4ouljcNC1IM695Qel3g9s +1nMqtEQuTf8PKE/i7TccU8Onizk+HD7p8fP1y2zFya1tuReJ5pvl3RfVb5z+keU+aIfqPorXfM AkcrGQYadLQOy5e1f/Hc+0y3fTfrVI8neapX0zFRJO+cDuP8Tkvbyf9hak8WkZDUzyahq/o+erV oWS9Q8IcBXRQU7EqrWMJWZqt5Qhuh1pF+pj2eclqufwNsxWGhZemX6OHGZZDEZYb36/o9DkF+d1 gSlXRUuA/ X-Google-Smtp-Source: AGHT+IF02xnY6sjSh5rs9G9Lbmz+XE26ddb5FOKrzFxk9or2le7YN/iGodZxjAR27VMtqj7B1ZQRTua5v8jv X-Received: by 2002:a17:902:e5cc:b0:295:5d0b:e119 with SMTP id d9443c01a7336-297c03cff98mr9615975ad.26.1762460703365; Thu, 06 Nov 2025 12:25:03 -0800 (PST) Received: from postal.iol.unh.edu (postal.iol.unh.edu. [2606:4100:3880:1234::84]) by smtp-relay.gmail.com with ESMTPS id d9443c01a7336-29651c8e7d9sm3108905ad.48.2025.11.06.12.25.03 (version=TLS1_2 cipher=ECDHE-ECDSA-AES128-GCM-SHA256 bits=128/128); Thu, 06 Nov 2025 12:25:03 -0800 (PST) X-Relaying-Domain: iol.unh.edu Date: Thu, 06 Nov 2025 12:25:03 -0800 (PST) Message-ID: <690d041f.170a0220.1a3fd.043fSMTPIN_ADDED_MISSING@mx.google.com> Received: from [172.21.0.2] (unknown [172.18.0.240]) by postal.iol.unh.edu (Postfix) with ESMTP id 9BFF6604D420; Thu, 6 Nov 2025 15:25:02 -0500 (EST) Subject: |SUCCESS| pw158533 [PATCH] [v3] dts: add test case docstring checks From: dpdklab@iol.unh.edu To: Test Report Cc: dpdk-test-reports@iol.unh.edu In-Reply-To: <20251106181355.209706-1-dmarx@iol.unh.edu> References: <20251106181355.209706-1-dmarx@iol.unh.edu> Content-Type: text/plain X-BeenThere: test-report@dpdk.org X-Mailman-Version: 2.1.29 Precedence: list List-Id: automatic DPDK test reports List-Unsubscribe: , List-Archive: List-Post: List-Help: List-Subscribe: , Errors-To: test-report-bounces@dpdk.org Test-Label: iol-compile-amd64-testing Test-Status: SUCCESS http://dpdk.org/patch/158533 _Testing PASS_ Submitter: Dean Marx Date: Thursday, November 06 2025 18:13:55 DPDK git baseline: Repo:dpdk-next-dts Branch: master CommitID:4f35a61a6a5a31f822c3d7519e8a1de1b7cbd9c4 158533 --> testing pass Upstream job id: Windows-Compile-DPDK-Native#32182 Test environment and result as below: +---------------------+--------------------+-------------------+-------------------------+----------------------+ | Environment | dpdk_meson_compile | dpdk_msvc_compile | dpdk_llvm_clang_compile | dpdk_mingw64_compile | +=====================+====================+===================+=========================+======================+ | Ubuntu 20.04 | PASS | SKIPPED | SKIPPED | SKIPPED | +---------------------+--------------------+-------------------+-------------------------+----------------------+ | FreeBSD 14.2 | PASS | SKIPPED | SKIPPED | SKIPPED | +---------------------+--------------------+-------------------+-------------------------+----------------------+ | Windows Server 2022 | SKIPPED | PASS | PASS | PASS | +---------------------+--------------------+-------------------+-------------------------+----------------------+ Ubuntu 20.04 Kernel: 4.19 Compiler: gcc gcc (Ubuntu 9.4.0-1ubuntu1~20.04.2) 9.4.0 FreeBSD 14.2 Kernel: 14.2-RELEASE Compiler: clang 18.1.6 Windows Server 2022 Kernel: 10.0.20348.2031 Compiler: clang 15.0.7, gcc 14.1.0 (MinGW), and MSVC VS 19.39.33521 To view detailed results, visit: https://lab.dpdk.org/results/dashboard/patchsets/34492/ UNH-IOL DPDK Community Lab To manage your email subscriptions, visit: https://lab.dpdk.org/results/dashboard/preferences/subscriptions/