automatic DPDK test reports
 help / color / mirror / Atom feed
From: dpdklab@iol.unh.edu
To: Test Report <test-report@dpdk.org>
Cc: dpdk-test-reports@iol.unh.edu,
	Bruce Richardson <bruce.richardson@intel.com>
Subject: |SUCCESS| pw158532 [PATCH] net/ice: adjust RSS LUT settings
Date: Thu, 06 Nov 2025 13:06:42 -0800 (PST)	[thread overview]
Message-ID: <690d0de2.920a0220.29f141.e9ddSMTPIN_ADDED_MISSING@mx.google.com> (raw)
In-Reply-To: <20251106171736.163516-1-vladimir.medvedkin@intel.com>

Test-Label: iol-compile-amd64-testing
Test-Status: SUCCESS
http://dpdk.org/patch/158532

_Testing PASS_

Submitter: Vladimir Medvedkin <vladimir.medvedkin@intel.com>
Date: Thursday, November 06 2025 17:17:36 
DPDK git baseline: Repo:dpdk-next-net-intel
  Branch: master
  CommitID:2a7bebfa5b488f8c49c9c63f2b7b7ce5cc088560

158532 --> testing pass

Upstream job id: Generic-DPDK-Compile-Meson#441608

Test environment and result as below:

+-------------------------------+--------------------+------------------+-------------------+-------------------------+----------------------+
|          Environment          | dpdk_meson_compile | dpdk_compile_ovs | dpdk_msvc_compile | dpdk_llvm_clang_compile | dpdk_mingw64_compile |
+===============================+====================+==================+===================+=========================+======================+
| Ubuntu 20.04                  | PASS               | SKIPPED          | SKIPPED           | SKIPPED                 | SKIPPED              |
+-------------------------------+--------------------+------------------+-------------------+-------------------------+----------------------+
| FreeBSD 14.2                  | PASS               | SKIPPED          | SKIPPED           | SKIPPED                 | SKIPPED              |
+-------------------------------+--------------------+------------------+-------------------+-------------------------+----------------------+
| CentOS Stream 9               | PASS               | SKIPPED          | SKIPPED           | SKIPPED                 | SKIPPED              |
+-------------------------------+--------------------+------------------+-------------------+-------------------------+----------------------+
| CentOS Stream 10              | PASS               | SKIPPED          | SKIPPED           | SKIPPED                 | SKIPPED              |
+-------------------------------+--------------------+------------------+-------------------+-------------------------+----------------------+
| Debian GNU/Linux 12           | PASS               | SKIPPED          | SKIPPED           | SKIPPED                 | SKIPPED              |
+-------------------------------+--------------------+------------------+-------------------+-------------------------+----------------------+
| Fedora Linux 42               | PASS               | PASS             | SKIPPED           | SKIPPED                 | SKIPPED              |
+-------------------------------+--------------------+------------------+-------------------+-------------------------+----------------------+
| openSUSE Leap 15.6            | PASS               | SKIPPED          | SKIPPED           | SKIPPED                 | SKIPPED              |
+-------------------------------+--------------------+------------------+-------------------+-------------------------+----------------------+
| Red Hat Enterprise Linux 8.10 | PASS               | SKIPPED          | SKIPPED           | SKIPPED                 | SKIPPED              |
+-------------------------------+--------------------+------------------+-------------------+-------------------------+----------------------+
| Red Hat Enterprise Linux 9.5  | PASS               | SKIPPED          | SKIPPED           | SKIPPED                 | SKIPPED              |
+-------------------------------+--------------------+------------------+-------------------+-------------------------+----------------------+
| Windows Server 2022           | SKIPPED            | SKIPPED          | PASS              | PASS                    | PASS                 |
+-------------------------------+--------------------+------------------+-------------------+-------------------------+----------------------+


Ubuntu 20.04
	Kernel: 4.19
	Compiler: gcc gcc (Ubuntu 9.4.0-1ubuntu1~20.04.2) 9.4.0

FreeBSD 14.2
	Kernel: 14.2-RELEASE
	Compiler: clang 18.1.6

CentOS Stream 9
	Kernel: 5.15
	Compiler: gcc gcc (GCC) 11.5.0 20240719 (Red Hat 11.5.0-11)

CentOS Stream 10
	Kernel: 5.15
	Compiler: gcc gcc (GCC) 14.2.1 20250110 (Red Hat 14.2.1-8)

Debian GNU/Linux 12
	Kernel: 5.15
	Compiler: gcc gcc (Debian 12.2.0-14+deb12u1) 12.2.0

Fedora Linux 42
	Kernel: 5.15
	Compiler: clang gcc (GCC) 15.2.1 20250808 (Red Hat 15.2.1-1)

openSUSE Leap 15.6
	Kernel: 5.15
	Compiler: gcc gcc (SUSE Linux) 7.5.0

Red Hat Enterprise Linux 8.10
	Kernel: 5.15
	Compiler: gcc gcc (GCC) 8.5.0 20210514 (Red Hat 8.5.0-22)

Red Hat Enterprise Linux 9.5
	Kernel: 5.15
	Compiler: gcc gcc (GCC) 11.5.0 20240719 (Red Hat 11.5.0-2)

Windows Server 2022
	Kernel: 10.0.20348.2031
	Compiler: clang 15.0.7, gcc 14.1.0 (MinGW), and MSVC VS 19.39.33521

To view detailed results, visit:
https://lab.dpdk.org/results/dashboard/patchsets/34491/

UNH-IOL DPDK Community Lab

To manage your email subscriptions, visit: 
https://lab.dpdk.org/results/dashboard/preferences/subscriptions/

  parent reply	other threads:[~2025-11-06 21:06 UTC|newest]

Thread overview: 29+ messages / expand[flat|nested]  mbox.gz  Atom feed  top
     [not found] <20251106171736.163516-1-vladimir.medvedkin@intel.com>
2025-11-06 16:43 ` qemudev
2025-11-06 16:48 ` qemudev
2025-11-06 17:17 ` checkpatch
2025-11-06 17:43 ` |PENDING| " dpdklab
2025-11-06 17:49 ` dpdklab
2025-11-06 17:49 ` |SUCCESS| " dpdklab
2025-11-06 17:54 ` dpdklab
2025-11-06 18:04 ` dpdklab
2025-11-06 18:06 ` |PENDING| " dpdklab
2025-11-06 18:13 ` |SUCCESS| " dpdklab
2025-11-06 18:14 ` dpdklab
2025-11-06 18:21 ` |PENDING| " dpdklab
2025-11-06 18:21 ` |SUCCESS| " dpdklab
2025-11-06 18:26 ` dpdklab
2025-11-06 18:32 ` dpdklab
2025-11-06 18:37 ` dpdklab
2025-11-06 19:06 ` dpdklab
2025-11-06 19:31 ` dpdklab
2025-11-06 19:37 ` dpdklab
2025-11-06 19:40 ` dpdklab
2025-11-06 19:46 ` dpdklab
2025-11-06 20:05 ` dpdklab
2025-11-06 20:10 ` dpdklab
2025-11-06 20:19 ` dpdklab
2025-11-06 21:06 ` dpdklab [this message]
2025-11-06 21:07 ` dpdklab
2025-11-06 21:13 ` dpdklab
2025-11-06 21:17 ` dpdklab
2025-11-06 21:35 ` dpdklab

Reply instructions:

You may reply publicly to this message via plain-text email
using any one of the following methods:

* Save the following mbox file, import it into your mail client,
  and reply-to-all from there: mbox

  Avoid top-posting and favor interleaved quoting:
  https://en.wikipedia.org/wiki/Posting_style#Interleaved_style

* Reply using the --to, --cc, and --in-reply-to
  switches of git-send-email(1):

  git send-email \
    --in-reply-to=690d0de2.920a0220.29f141.e9ddSMTPIN_ADDED_MISSING@mx.google.com \
    --to=dpdklab@iol.unh.edu \
    --cc=bruce.richardson@intel.com \
    --cc=dpdk-test-reports@iol.unh.edu \
    --cc=test-report@dpdk.org \
    /path/to/YOUR_REPLY

  https://kernel.org/pub/software/scm/git/docs/git-send-email.html

* If your mail client supports setting the In-Reply-To header
  via mailto: links, try the mailto: link
Be sure your reply has a Subject: header at the top and a blank line before the message body.
This is a public inbox, see mirroring instructions
for how to clone and mirror all data and code used for this inbox;
as well as URLs for NNTP newsgroup(s).