From mboxrd@z Thu Jan 1 00:00:00 1970 Return-Path: Received: from mails.dpdk.org (mails.dpdk.org [217.70.189.124]) by inbox.dpdk.org (Postfix) with ESMTP id BAD3D48A86 for ; Thu, 6 Nov 2025 22:06:44 +0100 (CET) Received: from mails.dpdk.org (localhost [127.0.0.1]) by mails.dpdk.org (Postfix) with ESMTP id A0F2C4013F; Thu, 6 Nov 2025 22:06:44 +0100 (CET) Received: from mail-il1-f227.google.com (mail-il1-f227.google.com [209.85.166.227]) by mails.dpdk.org (Postfix) with ESMTP id 91C0D4013F for ; Thu, 6 Nov 2025 22:06:43 +0100 (CET) Received: by mail-il1-f227.google.com with SMTP id e9e14a558f8ab-4330ef18d8aso719685ab.0 for ; Thu, 06 Nov 2025 13:06:43 -0800 (PST) DKIM-Signature: v=1; a=rsa-sha256; c=relaxed/relaxed; d=iol.unh.edu; s=unh-iol; t=1762463203; x=1763068003; darn=dpdk.org; h=references:in-reply-to:cc:to:from:subject:message-id:date:from:to :cc:subject:date:message-id:reply-to; bh=4a7wTMWIf3XEJ0yDOc79jgqRDwFp3Vn6rZDUtBpMpVQ=; b=jekwuDSzpebcvz4xtSqxA7EHLAtnFQeYsdb4lzuJ7YWHBOBKu3TiUBcsTHVInNmHoC 10JeGXF5E2fOnoWYQhx8IE3asWM7GL9UQK/FINAtbQYU5yiVGYQe62rnVyPC9WqR3Psf yQYcVP6ddgMbmUwxdzR1wM6gkozewejyzTlus= X-Google-DKIM-Signature: v=1; a=rsa-sha256; c=relaxed/relaxed; d=1e100.net; s=20230601; t=1762463203; x=1763068003; h=references:in-reply-to:cc:to:from:subject:message-id:date:x-gm-gg :x-gm-message-state:from:to:cc:subject:date:message-id:reply-to; bh=4a7wTMWIf3XEJ0yDOc79jgqRDwFp3Vn6rZDUtBpMpVQ=; b=eBXDswTBb9xQvb+3dvZcA13noy1b6aCupH2w1BSHnYCtUaRUspDSwyVU0LWOXSyW5i h7mG3cMdCgHVh5qoBBkx7RL571wPUIcmAIrQI7rVti8G4efxsH4gzDgsxz6bHLZfpLlZ vcA+xd9KmSUSZ4cSsw/9LXKH4hk72FjprxQbQsoIobuGUforiYCMrv9AL3OFFOmyNo5R 4fWEPM5ZQEyse7MY6CMUFm7xZSXnycEuTUdA7KIfpQ5NqsMcJ/DQ3jLmeoompitLnK67 5DeNutAc3dGZOwI7h/IUcFQAEP/ywEgo3ZGtN0FBIyFUwgdWjRdVj6UD2uJJ2B3EHTKc Xchw== X-Gm-Message-State: AOJu0YwJ9gU/fGPKFqcv2tqKerTF4PEtMWCffQrBrK1xm4c+5QAr0p58 o7IPcAiffsoLul9S3e7OfBhdRUD/EBB2V0vAOj5aLsFqWegn4od2imqOKzmPVbvzzBtOAJ47u8O we1mqwSt6kWJpoWJFlGqLFh/DVgtJxeF+miaV8FUKoKWR X-Gm-Gg: ASbGncsUadY2L1luI+8lZ6VnmXTwmYpIDBPVQWGUWhcj0u8CTJESq7uA7miO4nnBYom XbVmAeT7kNcrBoIuqWPolnaKSgojTMZ0ujFXgTugEUXwiDotRQa+jQ+M1FTgvUB8G+9Fx70Tql9 UFqBiSfoH9Saxyk00m9wUOCjFFfT/Vj8oZ+2gOeLQej5o0r8NdgOj0HcqvYzT0AfLEeonz5UCzE gPgaYcP/9liH6aM1iheCYwynQeaDLPPqBa6f4PmDNBcc43H+LS01qj3TRuZBvPANofr8w/iVS7r qrFZUlYecfV186Vcxv7IuGJeosQDIxO0zplDV39zizfAmTAehQ+zakjHUXyBmapwBLi9z9qJQc0 ciSHHZqs3Iqiw2xSlxxXgyBjIpJqZcbc= X-Google-Smtp-Source: AGHT+IEx1npgzPEQmYKgx6wpNeBJIRSdnsJFBU7EMEM+n+BQGXAXQpEtGe54hHszWfk9j6Fg1GLt7Uxfltxk X-Received: by 2002:a05:6e02:219b:b0:433:296f:1b10 with SMTP id e9e14a558f8ab-4335f4414edmr13877275ab.15.1762463202855; Thu, 06 Nov 2025 13:06:42 -0800 (PST) Received: from postal.iol.unh.edu (postal.iol.unh.edu. [132.177.123.84]) by smtp-relay.gmail.com with ESMTPS id e9e14a558f8ab-4334f44a507sm2755455ab.2.2025.11.06.13.06.42 (version=TLS1_2 cipher=ECDHE-ECDSA-AES128-GCM-SHA256 bits=128/128); Thu, 06 Nov 2025 13:06:42 -0800 (PST) X-Relaying-Domain: iol.unh.edu Date: Thu, 06 Nov 2025 13:06:42 -0800 (PST) Message-ID: <690d0de2.920a0220.29f141.e9ddSMTPIN_ADDED_MISSING@mx.google.com> Received: from [172.21.0.2] (unknown [172.18.0.240]) by postal.iol.unh.edu (Postfix) with ESMTP id 58C7D6051830; Thu, 6 Nov 2025 16:06:42 -0500 (EST) Subject: |SUCCESS| pw158532 [PATCH] net/ice: adjust RSS LUT settings From: dpdklab@iol.unh.edu To: Test Report Cc: dpdk-test-reports@iol.unh.edu, Bruce Richardson In-Reply-To: <20251106171736.163516-1-vladimir.medvedkin@intel.com> References: <20251106171736.163516-1-vladimir.medvedkin@intel.com> Content-Type: text/plain X-BeenThere: test-report@dpdk.org X-Mailman-Version: 2.1.29 Precedence: list List-Id: automatic DPDK test reports List-Unsubscribe: , List-Archive: List-Post: List-Help: List-Subscribe: , Errors-To: test-report-bounces@dpdk.org Test-Label: iol-compile-amd64-testing Test-Status: SUCCESS http://dpdk.org/patch/158532 _Testing PASS_ Submitter: Vladimir Medvedkin Date: Thursday, November 06 2025 17:17:36 DPDK git baseline: Repo:dpdk-next-net-intel Branch: master CommitID:2a7bebfa5b488f8c49c9c63f2b7b7ce5cc088560 158532 --> testing pass Upstream job id: Generic-DPDK-Compile-Meson#441608 Test environment and result as below: +-------------------------------+--------------------+------------------+-------------------+-------------------------+----------------------+ | Environment | dpdk_meson_compile | dpdk_compile_ovs | dpdk_msvc_compile | dpdk_llvm_clang_compile | dpdk_mingw64_compile | +===============================+====================+==================+===================+=========================+======================+ | Ubuntu 20.04 | PASS | SKIPPED | SKIPPED | SKIPPED | SKIPPED | +-------------------------------+--------------------+------------------+-------------------+-------------------------+----------------------+ | FreeBSD 14.2 | PASS | SKIPPED | SKIPPED | SKIPPED | SKIPPED | +-------------------------------+--------------------+------------------+-------------------+-------------------------+----------------------+ | CentOS Stream 9 | PASS | SKIPPED | SKIPPED | SKIPPED | SKIPPED | +-------------------------------+--------------------+------------------+-------------------+-------------------------+----------------------+ | CentOS Stream 10 | PASS | SKIPPED | SKIPPED | SKIPPED | SKIPPED | +-------------------------------+--------------------+------------------+-------------------+-------------------------+----------------------+ | Debian GNU/Linux 12 | PASS | SKIPPED | SKIPPED | SKIPPED | SKIPPED | +-------------------------------+--------------------+------------------+-------------------+-------------------------+----------------------+ | Fedora Linux 42 | PASS | PASS | SKIPPED | SKIPPED | SKIPPED | +-------------------------------+--------------------+------------------+-------------------+-------------------------+----------------------+ | openSUSE Leap 15.6 | PASS | SKIPPED | SKIPPED | SKIPPED | SKIPPED | +-------------------------------+--------------------+------------------+-------------------+-------------------------+----------------------+ | Red Hat Enterprise Linux 8.10 | PASS | SKIPPED | SKIPPED | SKIPPED | SKIPPED | +-------------------------------+--------------------+------------------+-------------------+-------------------------+----------------------+ | Red Hat Enterprise Linux 9.5 | PASS | SKIPPED | SKIPPED | SKIPPED | SKIPPED | +-------------------------------+--------------------+------------------+-------------------+-------------------------+----------------------+ | Windows Server 2022 | SKIPPED | SKIPPED | PASS | PASS | PASS | +-------------------------------+--------------------+------------------+-------------------+-------------------------+----------------------+ Ubuntu 20.04 Kernel: 4.19 Compiler: gcc gcc (Ubuntu 9.4.0-1ubuntu1~20.04.2) 9.4.0 FreeBSD 14.2 Kernel: 14.2-RELEASE Compiler: clang 18.1.6 CentOS Stream 9 Kernel: 5.15 Compiler: gcc gcc (GCC) 11.5.0 20240719 (Red Hat 11.5.0-11) CentOS Stream 10 Kernel: 5.15 Compiler: gcc gcc (GCC) 14.2.1 20250110 (Red Hat 14.2.1-8) Debian GNU/Linux 12 Kernel: 5.15 Compiler: gcc gcc (Debian 12.2.0-14+deb12u1) 12.2.0 Fedora Linux 42 Kernel: 5.15 Compiler: clang gcc (GCC) 15.2.1 20250808 (Red Hat 15.2.1-1) openSUSE Leap 15.6 Kernel: 5.15 Compiler: gcc gcc (SUSE Linux) 7.5.0 Red Hat Enterprise Linux 8.10 Kernel: 5.15 Compiler: gcc gcc (GCC) 8.5.0 20210514 (Red Hat 8.5.0-22) Red Hat Enterprise Linux 9.5 Kernel: 5.15 Compiler: gcc gcc (GCC) 11.5.0 20240719 (Red Hat 11.5.0-2) Windows Server 2022 Kernel: 10.0.20348.2031 Compiler: clang 15.0.7, gcc 14.1.0 (MinGW), and MSVC VS 19.39.33521 To view detailed results, visit: https://lab.dpdk.org/results/dashboard/patchsets/34491/ UNH-IOL DPDK Community Lab To manage your email subscriptions, visit: https://lab.dpdk.org/results/dashboard/preferences/subscriptions/