From mboxrd@z Thu Jan 1 00:00:00 1970 Return-Path: Received: from mails.dpdk.org (mails.dpdk.org [217.70.189.124]) by inbox.dpdk.org (Postfix) with ESMTP id 57CFE48A86 for ; Thu, 6 Nov 2025 22:23:25 +0100 (CET) Received: from mails.dpdk.org (localhost [127.0.0.1]) by mails.dpdk.org (Postfix) with ESMTP id 2E0D44013F; Thu, 6 Nov 2025 22:23:25 +0100 (CET) Received: from mail-il1-f226.google.com (mail-il1-f226.google.com [209.85.166.226]) by mails.dpdk.org (Postfix) with ESMTP id 269194013F for ; Thu, 6 Nov 2025 22:23:24 +0100 (CET) Received: by mail-il1-f226.google.com with SMTP id e9e14a558f8ab-4332acf24e2so476265ab.1 for ; Thu, 06 Nov 2025 13:23:24 -0800 (PST) DKIM-Signature: v=1; a=rsa-sha256; c=relaxed/relaxed; d=iol.unh.edu; s=unh-iol; t=1762464203; x=1763069003; darn=dpdk.org; h=references:in-reply-to:cc:to:from:subject:message-id:date:from:to :cc:subject:date:message-id:reply-to; bh=del46cWX2XiwITeXB7YwaFR02Y2CkxTnbjxxlNJkr7I=; b=NX21JgWq11rq8GIRwxWyRoR2YKZZvZQTcPR/akITpAsciWq6qNj4iSlRenCMjrxKV4 4P2X2fLubWopN60xQEYjmc4skKWc3BagAU0Ns5zq73CUE7f/j/qAYHIRzqnhiNQXBUzB Rkz/iQV9P2ktRHt/zlJkdnadFoIzqZCKgfp5g= X-Google-DKIM-Signature: v=1; a=rsa-sha256; c=relaxed/relaxed; d=1e100.net; s=20230601; t=1762464203; x=1763069003; h=references:in-reply-to:cc:to:from:subject:message-id:date:x-gm-gg :x-gm-message-state:from:to:cc:subject:date:message-id:reply-to; bh=del46cWX2XiwITeXB7YwaFR02Y2CkxTnbjxxlNJkr7I=; b=K2nr7uwPzhJSBDvvIvQGdboaa/MvdVwsGSah/RZifqZkOmWbGCLnSobE0yUIJgP8RJ iqvuldFsHq0ZkFYyK+a29pq9Pqxp92GcCQqnxGHyUnu2TjdxEJLPPz0NMEe8ig8Xfjlr OiNC8kkm1QINbCXhZeTkkfhSCj9xPqhXtlrT/8PD9XFSDP2Oy8DSRwT8s7KfKsPN9Y4S gM7eb3BPtZRBX+txfoWjSHFepbwJSFj4QMdn0VxXPg0gYWZo4eaBrJ1T7BfmI7tjbIgB mJD488qqCoQPMqBQ0ePbVZL5hrqwdxtRT9HQv25JsHyJvQlZFXrAbLJgY6SJTf6vKZ61 e5Tw== X-Gm-Message-State: AOJu0Yz51xAnX3jxaG8t6dmLA/qPex9+DAJgGdi7aqioMqSsEm+sOSpT SnhN5HKLPfz/a9HLBR2VH85+rf4kx+P2X7FCsDfLts37kvr2gbbljUv7OKLju9cFteCKDTLnGzi wOp/H3oOYNfx6SN1vVyOsZsppNa0BzNYNgL2VRKUqQH435XpEFvnInHU84shp X-Gm-Gg: ASbGncvhd8dIwaWYC9O9IyCbxMA05gvY4TeE8x6VKBjR8Ky47mje5haMH2WlTL1QTUl xoKQ+DwZb63jjQ2cYwtiEmrI2Pnp/C6/wL/K4NbaUi+nqZBaFYrDHYJUbCv74KW9L87FTlvpaEZ 5ScQr5zTbEiH1y6D7DdV1g57XqbgYu0AxSDkczXepw0vCX/eUXrJTP5qejLAPo2MpLaDCH6iOvD ycSAttjWEtyEW1mkhHnIOxTCV0OAytmeC9Mn4G9EtAT4VMlD5fZuWg0MT2KVVRkC15GVYpdd8xn 8FYWFeUehGtIyPF/vTUrkM7Qq+Bm+35/cLOYFMx3Tk6npWSY931wcxdXGWUERLvxuKuRUDSpXVU heJYSabW9 X-Google-Smtp-Source: AGHT+IGDH1cTGYODEaL8YoFo8J10z2F9l3nuhHrtefQLLHLY6DEWWn1mlQ0T4uQbbaLoHXtgaygn8SN1NFvZ X-Received: by 2002:a05:6e02:1c2a:b0:425:744b:52d3 with SMTP id e9e14a558f8ab-4335f3d0280mr16465725ab.11.1762464203459; Thu, 06 Nov 2025 13:23:23 -0800 (PST) Received: from postal.iol.unh.edu (postal.iol.unh.edu. [2606:4100:3880:1234::84]) by smtp-relay.gmail.com with ESMTPS id e9e14a558f8ab-4334f44a507sm2783805ab.2.2025.11.06.13.23.23 (version=TLS1_2 cipher=ECDHE-ECDSA-AES128-GCM-SHA256 bits=128/128); Thu, 06 Nov 2025 13:23:23 -0800 (PST) X-Relaying-Domain: iol.unh.edu Date: Thu, 06 Nov 2025 13:23:23 -0800 (PST) Message-ID: <690d11cb.920a0220.29f141.ec2aSMTPIN_ADDED_MISSING@mx.google.com> Received: from [172.21.0.2] (unknown [172.18.0.240]) by postal.iol.unh.edu (Postfix) with ESMTP id 161DC6050A61; Thu, 6 Nov 2025 16:23:23 -0500 (EST) Subject: |SUCCESS| pw158527 [PATCH] [v3] examples/l3fwd: add Tx burst size co From: dpdklab@iol.unh.edu To: Test Report Cc: dpdk-test-reports@iol.unh.edu In-Reply-To: <20251106141631.179443-1-sivaprasad.tummala@amd.com> References: <20251106141631.179443-1-sivaprasad.tummala@amd.com> Content-Type: text/plain X-BeenThere: test-report@dpdk.org X-Mailman-Version: 2.1.29 Precedence: list List-Id: automatic DPDK test reports List-Unsubscribe: , List-Archive: List-Post: List-Help: List-Subscribe: , Errors-To: test-report-bounces@dpdk.org Test-Label: iol-compile-arm64-testing Test-Status: SUCCESS http://dpdk.org/patch/158527 _Testing PASS_ Submitter: Sivaprasad Tummala Date: Thursday, November 06 2025 14:16:31 DPDK git baseline: Repo:dpdk Branch: master CommitID:87f7895e470c13e13efd6762d701139d0987294a 158527 --> testing pass Upstream job id: Generic-DPDK-Compile-Meson#441491 Test environment and result as below: +------------------------------+--------------------+ | Environment | dpdk_meson_compile | +==============================+====================+ | Red Hat Enterprise Linux 9.5 | PASS | +------------------------------+--------------------+ | Ubuntu 20.04 | PASS | +------------------------------+--------------------+ | Debian GNU/Linux 12 | PASS | +------------------------------+--------------------+ | Fedora Linux 42 | PASS | +------------------------------+--------------------+ | Ubuntu 22.04 | PASS | +------------------------------+--------------------+ | Ubuntu 24.04 | PASS | +------------------------------+--------------------+ | CentOS Stream 9 | PASS | +------------------------------+--------------------+ | CentOS Stream 10 | PASS | +------------------------------+--------------------+ Red Hat Enterprise Linux 9.5 Kernel: 5.4 Compiler: gcc gcc (GCC) 11.5.0 20240719 (Red Hat 11.5.0-2) Ubuntu 20.04 Kernel: 5.15 Compiler: aarch64-linux-gnu-gcc gcc (Ubuntu 9.4.0-1ubuntu1~20.04.2) 9.4.0 Debian GNU/Linux 12 Kernel: 5.4 Compiler: gcc gcc (Debian 12.2.0-14+deb12u1) 12.2.0 Fedora Linux 42 Kernel: 5.4 Compiler: gcc gcc (GCC) 15.2.1 20250808 (Red Hat 15.2.1-1) Ubuntu 22.04 Kernel: 5.4 Compiler: gcc gcc (Ubuntu 11.4.0-1ubuntu1~22.04) 11.4.0 Ubuntu 24.04 Kernel: 5.4 Compiler: gcc gcc (Ubuntu 13.3.0-6ubuntu2~24.04) 13.3.0 CentOS Stream 9 Kernel: 5.4 Compiler: gcc gcc (GCC) 11.5.0 20240719 (Red Hat 11.5.0-11) CentOS Stream 10 Kernel: 5.4 Compiler: gcc gcc (GCC) 14.2.1 20250110 (Red Hat 14.2.1-8) To view detailed results, visit: https://lab.dpdk.org/results/dashboard/patchsets/34487/ UNH-IOL DPDK Community Lab To manage your email subscriptions, visit: https://lab.dpdk.org/results/dashboard/preferences/subscriptions/