From mboxrd@z Thu Jan 1 00:00:00 1970 Return-Path: Received: from mails.dpdk.org (mails.dpdk.org [217.70.189.124]) by inbox.dpdk.org (Postfix) with ESMTP id 58F9848A86 for ; Thu, 6 Nov 2025 22:57:59 +0100 (CET) Received: from mails.dpdk.org (localhost [127.0.0.1]) by mails.dpdk.org (Postfix) with ESMTP id 3E36C4013F; Thu, 6 Nov 2025 22:57:59 +0100 (CET) Received: from mail-oo1-f100.google.com (mail-oo1-f100.google.com [209.85.161.100]) by mails.dpdk.org (Postfix) with ESMTP id 899254013F for ; Thu, 6 Nov 2025 22:57:57 +0100 (CET) Received: by mail-oo1-f100.google.com with SMTP id 006d021491bc7-656c665749bso47272eaf.3 for ; Thu, 06 Nov 2025 13:57:57 -0800 (PST) DKIM-Signature: v=1; a=rsa-sha256; c=relaxed/relaxed; d=iol.unh.edu; s=unh-iol; t=1762466277; x=1763071077; darn=dpdk.org; h=references:in-reply-to:cc:to:from:subject:message-id:date:from:to :cc:subject:date:message-id:reply-to; bh=IpHFuYEr/wSvvwXEFoTv61T1dGK+E7rOgpsvdL0GZsQ=; b=LJPQhTqBZFOv49HD53xAia9EwinesGKsoldh9FJoOlU/nTEwQV2ynI5bS702+AuJWx dGA2l0Sjj7af9E9BFyw9rLMesQEJhrG9qhFuNJ+uykObvppGw9tgygVR6AFdKn0RaiW9 KFvpLfxAITlJlx7GiELlcsszjCl1bwbiOTmXw= X-Google-DKIM-Signature: v=1; a=rsa-sha256; c=relaxed/relaxed; d=1e100.net; s=20230601; t=1762466277; x=1763071077; h=references:in-reply-to:cc:to:from:subject:message-id:date:x-gm-gg :x-gm-message-state:from:to:cc:subject:date:message-id:reply-to; bh=IpHFuYEr/wSvvwXEFoTv61T1dGK+E7rOgpsvdL0GZsQ=; b=tmfyV+NcL7vfZCiDVnVlcWvIP31KNYRTl1DNiVlKcxAuBcYZ7d4dKtkJKyr1ZpEQdl b51+HYqStNhSuAIkXZf1qlYDN+y8lWT5fw/q69Kolljj3nEP1+6NH5LVaNfACBoYPEaK c0A/EA69nT8gNBcd+Ta1iq0KE2vIgdb6898vWw6lko4gAfF55EaEJP0E8FON9+Kz6tvF Z4NAhhWhYOydiu44PZJwIN4kdDGz20013IUNbuh9CL4CXcF7ORE1KSuUxA3GYIoD1Imu B2mo0ja/XwMYQ4kKx52GjOW9lA864cC+cQdQlfWWKBP+a4IhxBlmoOuwqIehBwSJkbaU fFcw== X-Gm-Message-State: AOJu0YySqU1bEIkKkhNvl/Cv9Y9HVAlJvUDvR/Bl98VSxkHON1VqiVqA UlgoY9KrHdaULQEPtVxKu6Tzhoivr6jRl0qVSXqAbfe3EFLxcxFFx+JZfsW+R0e7WlQ5gkHT63z ImFRz4cPkiRxD91yEnOnO6PT/VeslkO6hLocCZ0Ghbq+d X-Gm-Gg: ASbGncu/vEVBBdviXe2s4v6L7xb5Wd3nOtd6+8yErlxc7/CpuEi06ntPYMvyL00rKlb rRkKrDjHCa9lSS4/dP8IEVNCVBZnQhGOTk475NJFYURNtgPleh2oCwGWlCBPX70sz3Z3DGluYGw wtZ0D8Fs80kT+JTaAsZnJr5qKkU7j1vTtykV3nTu+zAbdvXK9wKJSLVnlStWxbzYSKlEUhnGDQ6 PoCs40ZZc5gXHtCAzb34fbcFcrKFe8DlSrdpRPbP2SFFqCLkjY4HYOXBn681+BTstwyfiHtEXlJ x4ZWF1xU5GBMMDGjLo5xrGOvuEnx7qzBkhH5MKY/RO9uYffHMHfBIWFd4HE05FDZWy1rcafL4rl 9WmWmgyyKA3dQK02uN4IHKJjhMPld8Yk= X-Google-Smtp-Source: AGHT+IG0MnikhHAfUisHdyCoehCzgPP2bpoI+bPiSf8OI1xgPrOCy+zz0W97ejFqjRHLkoRMXdPqtgeqKltb X-Received: by 2002:a05:6820:1988:b0:656:777d:e689 with SMTP id 006d021491bc7-656cddd1410mr784739eaf.4.1762466276751; Thu, 06 Nov 2025 13:57:56 -0800 (PST) Received: from postal.iol.unh.edu (postal.iol.unh.edu. [132.177.123.84]) by smtp-relay.gmail.com with ESMTPS id 006d021491bc7-656c57591c6sm232342eaf.10.2025.11.06.13.57.56 (version=TLS1_2 cipher=ECDHE-ECDSA-AES128-GCM-SHA256 bits=128/128); Thu, 06 Nov 2025 13:57:56 -0800 (PST) X-Relaying-Domain: iol.unh.edu Date: Thu, 06 Nov 2025 13:57:56 -0800 (PST) Message-ID: <690d19e4.4a0a0220.1d8993.c9a1SMTPIN_ADDED_MISSING@mx.google.com> Received: from [172.21.0.2] (unknown [172.18.0.240]) by postal.iol.unh.edu (Postfix) with ESMTP id D3ABE6051830; Thu, 6 Nov 2025 16:57:55 -0500 (EST) Subject: |SUCCESS| pw158533 [PATCH] [v3] dts: add test case docstring checks From: dpdklab@iol.unh.edu To: Test Report Cc: dpdk-test-reports@iol.unh.edu In-Reply-To: <20251106181355.209706-1-dmarx@iol.unh.edu> References: <20251106181355.209706-1-dmarx@iol.unh.edu> Content-Type: text/plain X-BeenThere: test-report@dpdk.org X-Mailman-Version: 2.1.29 Precedence: list List-Id: automatic DPDK test reports List-Unsubscribe: , List-Archive: List-Post: List-Help: List-Subscribe: , Errors-To: test-report-bounces@dpdk.org Test-Label: iol-compile-amd64-testing Test-Status: SUCCESS http://dpdk.org/patch/158533 _Testing PASS_ Submitter: Dean Marx Date: Thursday, November 06 2025 18:13:55 DPDK git baseline: Repo:dpdk-next-dts Branch: master CommitID:4f35a61a6a5a31f822c3d7519e8a1de1b7cbd9c4 158533 --> testing pass Upstream job id: Generic-DPDK-Compile-Meson#441630 Test environment and result as below: +-------------------------------+--------------------+-------------------+-------------------------+----------------------+------------------+ | Environment | dpdk_meson_compile | dpdk_msvc_compile | dpdk_llvm_clang_compile | dpdk_mingw64_compile | dpdk_compile_ovs | +===============================+====================+===================+=========================+======================+==================+ | Ubuntu 20.04 | PASS | SKIPPED | SKIPPED | SKIPPED | SKIPPED | +-------------------------------+--------------------+-------------------+-------------------------+----------------------+------------------+ | FreeBSD 14.2 | PASS | SKIPPED | SKIPPED | SKIPPED | SKIPPED | +-------------------------------+--------------------+-------------------+-------------------------+----------------------+------------------+ | CentOS Stream 9 | PASS | SKIPPED | SKIPPED | SKIPPED | SKIPPED | +-------------------------------+--------------------+-------------------+-------------------------+----------------------+------------------+ | CentOS Stream 10 | PASS | SKIPPED | SKIPPED | SKIPPED | SKIPPED | +-------------------------------+--------------------+-------------------+-------------------------+----------------------+------------------+ | Debian GNU/Linux 12 | PASS | SKIPPED | SKIPPED | SKIPPED | SKIPPED | +-------------------------------+--------------------+-------------------+-------------------------+----------------------+------------------+ | Fedora Linux 42 | PASS | SKIPPED | SKIPPED | SKIPPED | PASS | +-------------------------------+--------------------+-------------------+-------------------------+----------------------+------------------+ | openSUSE Leap 15.6 | PASS | SKIPPED | SKIPPED | SKIPPED | SKIPPED | +-------------------------------+--------------------+-------------------+-------------------------+----------------------+------------------+ | Red Hat Enterprise Linux 8.10 | PASS | SKIPPED | SKIPPED | SKIPPED | SKIPPED | +-------------------------------+--------------------+-------------------+-------------------------+----------------------+------------------+ | Red Hat Enterprise Linux 9.5 | PASS | SKIPPED | SKIPPED | SKIPPED | SKIPPED | +-------------------------------+--------------------+-------------------+-------------------------+----------------------+------------------+ | Ubuntu 22.04 | PASS | SKIPPED | SKIPPED | SKIPPED | SKIPPED | +-------------------------------+--------------------+-------------------+-------------------------+----------------------+------------------+ | Ubuntu 24.04 | PASS | SKIPPED | SKIPPED | SKIPPED | PASS | +-------------------------------+--------------------+-------------------+-------------------------+----------------------+------------------+ | Alpine Linux 3.22.0 | PASS | SKIPPED | SKIPPED | SKIPPED | SKIPPED | +-------------------------------+--------------------+-------------------+-------------------------+----------------------+------------------+ | Windows Server 2022 | SKIPPED | PASS | PASS | PASS | SKIPPED | +-------------------------------+--------------------+-------------------+-------------------------+----------------------+------------------+ Ubuntu 20.04 Kernel: 4.19 Compiler: gcc gcc (Ubuntu 9.4.0-1ubuntu1~20.04.2) 9.4.0 FreeBSD 14.2 Kernel: 14.2-RELEASE Compiler: clang 18.1.6 CentOS Stream 9 Kernel: 5.15 Compiler: gcc gcc (GCC) 11.5.0 20240719 (Red Hat 11.5.0-11) CentOS Stream 10 Kernel: 5.15 Compiler: gcc gcc (GCC) 14.2.1 20250110 (Red Hat 14.2.1-8) Debian GNU/Linux 12 Kernel: 5.15 Compiler: gcc gcc (Debian 12.2.0-14+deb12u1) 12.2.0 Fedora Linux 42 Kernel: 5.15 Compiler: clang gcc (GCC) 15.2.1 20250808 (Red Hat 15.2.1-1) openSUSE Leap 15.6 Kernel: 5.15 Compiler: gcc gcc (SUSE Linux) 7.5.0 Red Hat Enterprise Linux 8.10 Kernel: 5.15 Compiler: gcc gcc (GCC) 8.5.0 20210514 (Red Hat 8.5.0-22) Red Hat Enterprise Linux 9.5 Kernel: 5.15 Compiler: gcc gcc (GCC) 11.5.0 20240719 (Red Hat 11.5.0-2) Ubuntu 22.04 Kernel: 5.15 Compiler: gcc gcc (Ubuntu 11.4.0-1ubuntu1~22.04) 11.4.0 Ubuntu 24.04 Kernel: 5.15 Compiler: gcc gcc (Ubuntu 13.3.0-6ubuntu2~24.04) 13.3.0 Alpine Linux 3.22.0 Kernel: 5.15 Compiler: gcc gcc (Alpine 14.2.0) 14.2.0 Windows Server 2022 Kernel: 10.0.20348.2031 Compiler: clang 15.0.7, gcc 14.1.0 (MinGW), and MSVC VS 19.39.33521 To view detailed results, visit: https://lab.dpdk.org/results/dashboard/patchsets/34492/ UNH-IOL DPDK Community Lab To manage your email subscriptions, visit: https://lab.dpdk.org/results/dashboard/preferences/subscriptions/