From mboxrd@z Thu Jan 1 00:00:00 1970 Return-Path: Received: from mails.dpdk.org (mails.dpdk.org [217.70.189.124]) by inbox.dpdk.org (Postfix) with ESMTP id 8DD9748A86 for ; Fri, 7 Nov 2025 00:58:32 +0100 (CET) Received: from mails.dpdk.org (localhost [127.0.0.1]) by mails.dpdk.org (Postfix) with ESMTP id 689624013F; Fri, 7 Nov 2025 00:58:32 +0100 (CET) Received: from mail-io1-f99.google.com (mail-io1-f99.google.com [209.85.166.99]) by mails.dpdk.org (Postfix) with ESMTP id 65F264013F for ; Fri, 7 Nov 2025 00:58:31 +0100 (CET) Received: by mail-io1-f99.google.com with SMTP id ca18e2360f4ac-93e9b5bafa5so5952639f.3 for ; Thu, 06 Nov 2025 15:58:31 -0800 (PST) DKIM-Signature: v=1; a=rsa-sha256; c=relaxed/relaxed; d=iol.unh.edu; s=unh-iol; t=1762473510; x=1763078310; darn=dpdk.org; h=references:in-reply-to:cc:to:from:subject:message-id:date:from:to :cc:subject:date:message-id:reply-to; bh=xx08TVFP+butodvnG8ztwFpK6i/4NTCFDyZLYAM5pOs=; b=Mkv8z9wm3CCrhYc3JbZ4VAUKqK1PONzcMDKa5KYEx7PUcNCsG0lIeppHpCsoWjH9D/ RRCIV9kXcos28wBf3el0sr8YLg2tS5Kzvjj6CDpmnSIMMDunutvtc1Kl0PuvqmmEJylS T5azLyWxyw0Ax3U0z/FoPnm/5N45kv6ENHvnU= X-Google-DKIM-Signature: v=1; a=rsa-sha256; c=relaxed/relaxed; d=1e100.net; s=20230601; t=1762473510; x=1763078310; h=references:in-reply-to:cc:to:from:subject:message-id:date:x-gm-gg :x-gm-message-state:from:to:cc:subject:date:message-id:reply-to; bh=xx08TVFP+butodvnG8ztwFpK6i/4NTCFDyZLYAM5pOs=; b=H9IHDQgwsXFHHZvoBcHy+EHRz2b3YiVix63UZp4JPCyYJvU4nmjdm9xPN4rxNRC7MZ sbOYxsDMfUsidp+2hRV6fypfXSMiWfNVBiPcb5z9AAPll33mnuBzoylpoyFGc/XKuWM7 Z65V0FXVqjmtCOqaJVVtrd28FNfRN4AdnO8wwYGl1V0aBOszUyjWg8vgZyTRLSQt1nI4 u6sNaV3lXCeLT4hy1oNF875RRZT1bBSaMoNvIeXLDaDXjQSLwTMsZm0kK6zulhx6GiHj 8ZO76g22SrFvaRsiJNfBg/Jq3TME7HfiheV3V32kkiDOtCxKtb3Xz4VgKKidvYtfHRRL bonw== X-Gm-Message-State: AOJu0Yx6j22uWuJA0ZyR/czENEQIIUWvo+ni6wPF27FR7gGrP5sFU1Bk 7DmrXqqnq38z1s9NaCNFPULiPGEYKVY16jYJFgCQ3d3xntg2xbk3Z808LnFDo55k6AqBLfiKk/B zD83re+5SjEG0AKpVIj1dlED6nxYs7r13DfYQcduNJZfLk7ACZbCl5KuzQ/q3 X-Gm-Gg: ASbGncus7EGfnpp3MfdOM6AX/yINxdv7QmE8QQ0uKazWS+X0exa2CyDkNM0UjnmVttt 1Q4xT9UxNkWTwIEo2g2T6BkZnspiDjaCqr1CbGRbYu3FQsIej4YkUN8dQ15uWKAvha6hV2hRCM0 VS4JoU+CjTmF0jiilscbiTVSuSoMCcX5evd9Iy/cuNhj6UNL2NzBn0Kt/DJ0eWB/u8Iq5zEdaRW 73M1j/Q8ULDrfDaTY9f6nU1EPVrQ2/Bdtld2uEKbzEG215D8FIq81Qeyf4/QsRcJb5ukdkPbOd/ MRakZmB8lheMZv15Vvlw6F109VgIyVZCZhbYELtbhS/OxSvWX/inwaOR5kcOzDQ31JNKGgAqzQa uOBKiJUDw X-Google-Smtp-Source: AGHT+IE2ck4nkxyW2vfAMjd0jU4IUfkfm8YIEWtp/k5P6BhcTBtwNVzpb1hFY1pQN2csPzLj3kAZDWqyVd0J X-Received: by 2002:a05:6e02:2702:b0:433:304f:9c4a with SMTP id e9e14a558f8ab-4335f4606f3mr19666505ab.16.1762473510591; Thu, 06 Nov 2025 15:58:30 -0800 (PST) Received: from postal.iol.unh.edu (postal.iol.unh.edu. [2606:4100:3880:1234::84]) by smtp-relay.gmail.com with ESMTPS id 8926c6da1cb9f-5b74676a695sm423108173.9.2025.11.06.15.58.30 (version=TLS1_2 cipher=ECDHE-ECDSA-AES128-GCM-SHA256 bits=128/128); Thu, 06 Nov 2025 15:58:30 -0800 (PST) X-Relaying-Domain: iol.unh.edu Date: Thu, 06 Nov 2025 15:58:30 -0800 (PST) Message-ID: <690d3626.050a0220.2dee7.5e43SMTPIN_ADDED_MISSING@mx.google.com> Received: from [172.21.0.4] (unknown [172.18.0.240]) by postal.iol.unh.edu (Postfix) with ESMTP id 29C976051830; Thu, 6 Nov 2025 18:58:30 -0500 (EST) Subject: |SUCCESS| pw158496 [PATCH] [v1] net/intel: changes to avoid comma op From: dpdklab@iol.unh.edu To: Test Report Cc: dpdk-test-reports@iol.unh.edu In-Reply-To: <20251106082354.1534181-1-venkatesh.vemula@intel.com> References: <20251106082354.1534181-1-venkatesh.vemula@intel.com> Content-Type: text/plain X-BeenThere: test-report@dpdk.org X-Mailman-Version: 2.1.29 Precedence: list List-Id: automatic DPDK test reports List-Unsubscribe: , List-Archive: List-Post: List-Help: List-Subscribe: , Errors-To: test-report-bounces@dpdk.org Test-Label: iol-unit-amd64-testing Test-Status: SUCCESS http://dpdk.org/patch/158496 _Testing PASS_ Submitter: Venkatesh Vemula Date: Thursday, November 06 2025 08:23:54 DPDK git baseline: Repo:dpdk Branch: master CommitID:87f7895e470c13e13efd6762d701139d0987294a 158496 --> testing pass Upstream job id: Generic-VM-Unit-Test-DPDK#32358 Test environment and result as below: +-------------------------------+----------------+ | Environment | dpdk_unit_test | +===============================+================+ | CentOS Stream 9 | PASS | +-------------------------------+----------------+ | CentOS Stream 10 | PASS | +-------------------------------+----------------+ | Debian GNU/Linux 12 | PASS | +-------------------------------+----------------+ | Fedora Linux 40 | PASS | +-------------------------------+----------------+ | Fedora Linux 41 | PASS | +-------------------------------+----------------+ | Fedora Linux 42 | PASS | +-------------------------------+----------------+ | Red Hat Enterprise Linux 8.10 | PASS | +-------------------------------+----------------+ | Red Hat Enterprise Linux 9.5 | PASS | +-------------------------------+----------------+ | Ubuntu 22.04 | PASS | +-------------------------------+----------------+ | Ubuntu 24.04 | PASS | +-------------------------------+----------------+ | Ubuntu 20.04 | PASS | +-------------------------------+----------------+ | Windows Server 2022 | PASS | +-------------------------------+----------------+ CentOS Stream 9 Kernel: 5.15 Compiler: gcc gcc (GCC) 11.5.0 20240719 (Red Hat 11.5.0-11) CentOS Stream 10 Kernel: 5.15 Compiler: gcc gcc (GCC) 14.2.1 20250110 (Red Hat 14.2.1-8) Debian GNU/Linux 12 Kernel: 5.15 Compiler: gcc gcc (Debian 12.2.0-14+deb12u1) 12.2.0 Fedora Linux 40 Kernel: 5.15 Compiler: gcc gcc (GCC) 14.2.1 20240912 (Red Hat 14.2.1-3) Fedora Linux 41 Kernel: 5.15 Compiler: gcc gcc (GCC) 14.3.1 20250523 (Red Hat 14.3.1-1) Fedora Linux 42 Kernel: 5.15 Compiler: clang gcc (GCC) 15.2.1 20250808 (Red Hat 15.2.1-1) Red Hat Enterprise Linux 8.10 Kernel: 5.15 Compiler: gcc gcc (GCC) 8.5.0 20210514 (Red Hat 8.5.0-22) Red Hat Enterprise Linux 9.5 Kernel: 5.15 Compiler: gcc gcc (GCC) 11.5.0 20240719 (Red Hat 11.5.0-2) Ubuntu 22.04 Kernel: 5.15 Compiler: gcc gcc (Ubuntu 11.4.0-1ubuntu1~22.04) 11.4.0 Ubuntu 24.04 Kernel: 5.15 Compiler: gcc gcc (Ubuntu 13.3.0-6ubuntu2~24.04) 13.3.0 Ubuntu 20.04 Kernel: 5.15 Compiler: gcc gcc (Ubuntu 9.4.0-1ubuntu1~20.04.2) 9.4.0 Windows Server 2022 Kernel: 10.0.20348.2031 Compiler: clang 15.0.7, gcc 14.1.0 (MinGW), and MSVC VS 19.39.33521 To view detailed results, visit: https://lab.dpdk.org/results/dashboard/patchsets/34493/ UNH-IOL DPDK Community Lab To manage your email subscriptions, visit: https://lab.dpdk.org/results/dashboard/preferences/subscriptions/