From mboxrd@z Thu Jan 1 00:00:00 1970 Return-Path: Received: from mails.dpdk.org (mails.dpdk.org [217.70.189.124]) by inbox.dpdk.org (Postfix) with ESMTP id 99EB148A86 for ; Fri, 7 Nov 2025 01:30:22 +0100 (CET) Received: from mails.dpdk.org (localhost [127.0.0.1]) by mails.dpdk.org (Postfix) with ESMTP id 7C29C4013F; Fri, 7 Nov 2025 01:30:22 +0100 (CET) Received: from mail-qv1-f98.google.com (mail-qv1-f98.google.com [209.85.219.98]) by mails.dpdk.org (Postfix) with ESMTP id A94344013F for ; Fri, 7 Nov 2025 01:30:20 +0100 (CET) Received: by mail-qv1-f98.google.com with SMTP id 6a1803df08f44-81efcad9c90so2091966d6.0 for ; Thu, 06 Nov 2025 16:30:20 -0800 (PST) DKIM-Signature: v=1; a=rsa-sha256; c=relaxed/relaxed; d=iol.unh.edu; s=unh-iol; t=1762475420; x=1763080220; darn=dpdk.org; h=references:in-reply-to:cc:to:from:subject:message-id:date:from:to :cc:subject:date:message-id:reply-to; bh=qtvNn4bjiVDl5XCvnepdOrB+z8qFSuMiHclQwcv6JfM=; b=GFQBvDzVxF1bj84gADM0L3suANd4P6EjsjFM+vFvApc7DtOc7aAW9gN1lTClBkW1g3 c1NKsrOrN89FCDLRCQaWMQq7zcO3F/g4Yov+B7cEpZvsstZUPGD+bQPBS3GzLwG/Z/v3 Ipht5F5EBUgUxMZS7OSgXfgRW+J8otskaDlGs= X-Google-DKIM-Signature: v=1; a=rsa-sha256; c=relaxed/relaxed; d=1e100.net; s=20230601; t=1762475420; x=1763080220; h=references:in-reply-to:cc:to:from:subject:message-id:date:x-gm-gg :x-gm-message-state:from:to:cc:subject:date:message-id:reply-to; bh=qtvNn4bjiVDl5XCvnepdOrB+z8qFSuMiHclQwcv6JfM=; b=BULgYZ9Y73D/gSXv0MtKKBrDyhYQlyBicjkokvAHzq0qH59ctFWQCN212e+uwRVzEz 7HyktO/KPfMcJUOB6AihgswifPmf++k3e9ymq9zy6sdA8yO+so4t9eXSb/pfTkW0GJ7V xhiCoUiGkMwtUMBel3XHb6wbPePBY1AY46DgjDbg/+UEW8ym/E/T3WtfHpF46ctn1AMd Anuz2ibIlzrZfcxVhkCCheEFkkRW5qB5cDuuNas3kNs7ZXDRLFBKNvo6CGFupj+1CnI7 ZXuZ3WkmXROy2ZgCKcK3XQe/CBcefvA69kgSZ9/PDc/NZUJPSb4EUIY6zNT2fuFWt6Ea h/tA== X-Gm-Message-State: AOJu0YycDS7HIfbx8TIJ6Skn1ViiTxF3tv8vp2RmUAy56OymmHvXPRhC xYWEcoUrl27Y1KoaMQIaHenbXgMkX6zTMxRqGKRhqxgUHEsR1n6XbiqDgC2mF1BOD8UCgAuvgiE slJP5KODNqqh139jCWbWCdrBSV4u/WrRjwUkP9etj8ujP X-Gm-Gg: ASbGncvNemOU6rCsbraXALp/IvQruKk8irRk+L4GvKhpYzHbPUdEWDD912/pCKmj57/ EyhddERb3avI/hp3ZegsYFGCt/ApyLnYDPk8YKo2uSrhVLXPtVWpEBNCOqlNh64eqwu0x7YJ/mJ yzkUWE5JSfz4AVEJxq61rNZIbFjAZLDLre96HK3Wp/0z3qZ6T9NcWg7uSu5ZdoYsBxW1kxESrmF Tdm0fT3JujKO7BOkFsN36Q69inXD/3NlkNRaMQqPRbG1DCX1g4qcXeGnxZek6Ztj2xil2RhNowa Bf/owXpN32pt4swKS8FCfKVn7kQN0QAIBQX0FFoUaGP9+9DJOlPIXGz0qKqwisyW3v/+SZs4J0e i60ED6glzwZZvM01MKGXH+IYepxqHIeE= X-Google-Smtp-Source: AGHT+IHJ+T1nYvuL267XlTm55y7uC+5+9xZxdd8hIr5nFAc+wahvh2gkXn9OFLtzoft/6Mw6wvgMxgwDXULh X-Received: by 2002:ad4:5e8c:0:b0:87c:113c:f1d2 with SMTP id 6a1803df08f44-8817675b4fcmr20838996d6.38.1762475419970; Thu, 06 Nov 2025 16:30:19 -0800 (PST) Received: from postal.iol.unh.edu (postal.iol.unh.edu. [132.177.123.84]) by smtp-relay.gmail.com with ESMTPS id 6a1803df08f44-880828b978bsm3658086d6.7.2025.11.06.16.30.19 (version=TLS1_2 cipher=ECDHE-ECDSA-AES128-GCM-SHA256 bits=128/128); Thu, 06 Nov 2025 16:30:19 -0800 (PST) X-Relaying-Domain: iol.unh.edu Date: Thu, 06 Nov 2025 16:30:19 -0800 (PST) Message-ID: <690d3d9b.d40a0220.23b505.3092SMTPIN_ADDED_MISSING@mx.google.com> Received: from [172.21.0.2] (unknown [172.18.0.240]) by postal.iol.unh.edu (Postfix) with ESMTP id AD6EC604D420; Thu, 6 Nov 2025 19:30:19 -0500 (EST) Subject: |SUCCESS| pw158493-158494 [PATCH] [v4,2/2] net/mlx5: support PF repr From: dpdklab@iol.unh.edu To: Test Report Cc: dpdk-test-reports@iol.unh.edu, Stephen Hemminger In-Reply-To: <20251106055246.360824-2-getelson@nvidia.com> References: <20251106055246.360824-2-getelson@nvidia.com> Content-Type: text/plain X-BeenThere: test-report@dpdk.org X-Mailman-Version: 2.1.29 Precedence: list List-Id: automatic DPDK test reports List-Unsubscribe: , List-Archive: List-Post: List-Help: List-Subscribe: , Errors-To: test-report-bounces@dpdk.org Test-Label: iol-compile-amd64-testing Test-Status: SUCCESS http://dpdk.org/patch/158494 _Testing PASS_ Submitter: Gregory Etelson Date: Thursday, November 06 2025 05:52:45 DPDK git baseline: Repo:dpdk-next-net Branch: master CommitID:591ee7f468aebec30d68d30afa8d5e4dcfc897dc 158493-158494 --> testing pass Upstream job id: Windows-Compile-DPDK-Native#32185 Test environment and result as below: +-------------------------------+--------------------+------------------+-------------------+-------------------------+ | Environment | dpdk_meson_compile | dpdk_compile_ovs | dpdk_msvc_compile | dpdk_llvm_clang_compile | +===============================+====================+==================+===================+=========================+ | CentOS Stream 9 | PASS | SKIPPED | SKIPPED | SKIPPED | +-------------------------------+--------------------+------------------+-------------------+-------------------------+ | Debian GNU/Linux 12 | PASS | SKIPPED | SKIPPED | SKIPPED | +-------------------------------+--------------------+------------------+-------------------+-------------------------+ | openSUSE Leap 15.6 | PASS | SKIPPED | SKIPPED | SKIPPED | +-------------------------------+--------------------+------------------+-------------------+-------------------------+ | CentOS Stream 10 | PASS | SKIPPED | SKIPPED | SKIPPED | +-------------------------------+--------------------+------------------+-------------------+-------------------------+ | Fedora Linux 42 | PASS | PASS | SKIPPED | SKIPPED | +-------------------------------+--------------------+------------------+-------------------+-------------------------+ | Ubuntu 20.04 | PASS | SKIPPED | SKIPPED | SKIPPED | +-------------------------------+--------------------+------------------+-------------------+-------------------------+ | Red Hat Enterprise Linux 8.10 | PASS | SKIPPED | SKIPPED | SKIPPED | +-------------------------------+--------------------+------------------+-------------------+-------------------------+ | Red Hat Enterprise Linux 9.5 | PASS | SKIPPED | SKIPPED | SKIPPED | +-------------------------------+--------------------+------------------+-------------------+-------------------------+ | FreeBSD 14.2 | PASS | SKIPPED | SKIPPED | SKIPPED | +-------------------------------+--------------------+------------------+-------------------+-------------------------+ | Ubuntu 22.04 | PASS | SKIPPED | SKIPPED | SKIPPED | +-------------------------------+--------------------+------------------+-------------------+-------------------------+ | Alpine Linux 3.22.0 | PASS | SKIPPED | SKIPPED | SKIPPED | +-------------------------------+--------------------+------------------+-------------------+-------------------------+ | Ubuntu 24.04 | PASS | PASS | SKIPPED | SKIPPED | +-------------------------------+--------------------+------------------+-------------------+-------------------------+ | Windows Server 2022 | SKIPPED | SKIPPED | PASS | PASS | +-------------------------------+--------------------+------------------+-------------------+-------------------------+ CentOS Stream 9 Kernel: 5.15 Compiler: gcc gcc (GCC) 11.5.0 20240719 (Red Hat 11.5.0-11) Debian GNU/Linux 12 Kernel: 5.15 Compiler: gcc gcc (Debian 12.2.0-14+deb12u1) 12.2.0 openSUSE Leap 15.6 Kernel: 5.15 Compiler: gcc gcc (SUSE Linux) 7.5.0 CentOS Stream 10 Kernel: 5.15 Compiler: gcc gcc (GCC) 14.2.1 20250110 (Red Hat 14.2.1-8) Fedora Linux 42 Kernel: 5.15 Compiler: clang gcc (GCC) 15.2.1 20250808 (Red Hat 15.2.1-1) Ubuntu 20.04 Kernel: 5.15 Compiler: gcc gcc (Ubuntu 9.4.0-1ubuntu1~20.04.2) 9.4.0 Red Hat Enterprise Linux 8.10 Kernel: 5.15 Compiler: gcc gcc (GCC) 8.5.0 20210514 (Red Hat 8.5.0-22) Red Hat Enterprise Linux 9.5 Kernel: 5.15 Compiler: gcc gcc (GCC) 11.5.0 20240719 (Red Hat 11.5.0-2) FreeBSD 14.2 Kernel: 14.2-RELEASE Compiler: clang 18.1.6 Ubuntu 22.04 Kernel: 5.15 Compiler: gcc gcc (Ubuntu 11.4.0-1ubuntu1~22.04) 11.4.0 Alpine Linux 3.22.0 Kernel: 5.15 Compiler: gcc gcc (Alpine 14.2.0) 14.2.0 Ubuntu 24.04 Kernel: 5.15 Compiler: gcc gcc (Ubuntu 13.3.0-6ubuntu2~24.04) 13.3.0 Windows Server 2022 Kernel: 10.0.20348.2031 Compiler: clang 15.0.7, gcc 14.1.0 (MinGW), and MSVC VS 19.39.33521 To view detailed results, visit: https://lab.dpdk.org/results/dashboard/patchsets/34494/ UNH-IOL DPDK Community Lab To manage your email subscriptions, visit: https://lab.dpdk.org/results/dashboard/preferences/subscriptions/